BEGIN:VCALENDAR
VERSION:2.0
PRODID:-//Agenda cultural y eventos de ocio en Salamanca - ECPv6.15.20//NONSGML v1.0//EN
CALSCALE:GREGORIAN
METHOD:PUBLISH
X-WR-CALNAME:Agenda cultural y eventos de ocio en Salamanca
X-ORIGINAL-URL:https://www.salamancalia.es
X-WR-CALDESC:Eventos para Agenda cultural y eventos de ocio en Salamanca
REFRESH-INTERVAL;VALUE=DURATION:PT1H
X-Robots-Tag:noindex
X-PUBLISHED-TTL:PT1H
BEGIN:VTIMEZONE
TZID:UTC
BEGIN:STANDARD
TZOFFSETFROM:+0000
TZOFFSETTO:+0000
TZNAME:UTC
DTSTART:20190101T000000
END:STANDARD
END:VTIMEZONE
BEGIN:VEVENT
DTSTART;VALUE=DATE:20201105
DTEND;VALUE=DATE:20210801
DTSTAMP:20260425T162731
CREATED:20210311T115142Z
LAST-MODIFIED:20210311T170209Z
UID:10002647-1604534400-1627775999@www.salamancalia.es
SUMMARY:Nuevos espacios para nuevos retos: el Campus Unamuno
DESCRIPTION:El objetivo de esta muestra es incrementar la visibilidad de este singular conjunto\, que en sí mismo es también reflejo de la vitalidad que sigue teniendo la Universidad de Salamanca\, ocho veces centenaria. \nDurante el último tercio del siglo XX\, la creación de nuevas titulaciones y el notable incremento del alumnado que esto supuso\, exigieron a esta Universidad disponer de nuevas infraestructuras para desarrollar sus funciones y le obligaron a expandirse más allá de lo que había sido su centro neurálgico. \nMás información en la web del evento y en la siguiente dirección: exposiciones.usal.es
URL:https://www.salamancalia.es/evento/nuevos-espacios-para-nuevos-retos-el-campus-unamuno/
LOCATION:Online
CATEGORIES:Exposiciones
END:VEVENT
BEGIN:VEVENT
DTSTART;VALUE=DATE:20201222
DTEND;VALUE=DATE:20210315
DTSTAMP:20260425T162731
CREATED:20210309T083704Z
LAST-MODIFIED:20210309T165850Z
UID:10002534-1608595200-1615766399@www.salamancalia.es
SUMMARY:La moda según Bowie. 30 trajes para pasear por Anthea
DESCRIPTION:De entre todas las facetas artísticas de Bowie\, esta exposición recoge su relación con la moda. Podrán verse en el Museo del Comercio 30 trajes confeccionados por la salmantina Carmen Carabias\, que reproducen aquellos diseños que el cantante y actor lucía en sus apariciones artísticas.
URL:https://www.salamancalia.es/evento/la-moda-segun-bowie-30-trajes-para-pasear-por-anthea/
LOCATION:Museo del Comercio\, Avda. de Campoamor\, s/n\, Salamanca\, Salamanca\, 37003\, España
CATEGORIES:Exposiciones
END:VEVENT
BEGIN:VEVENT
DTSTART;VALUE=DATE:20210111
DTEND;VALUE=DATE:20210401
DTSTAMP:20260425T162731
CREATED:20210319T102143Z
LAST-MODIFIED:20210319T102400Z
UID:10002715-1610323200-1617235199@www.salamancalia.es
SUMMARY:Premio Ciudad de Salamanca de Poesía 2021
DESCRIPTION:Se establece un premio único e indivisible dotado con ocho mil euros. \nMás información en las bases del concurso (ver enlace más abajo)
URL:https://www.salamancalia.es/evento/premio-ciudad-de-salamanca-de-poesia-2021/
LOCATION:Salamanca
CATEGORIES:Concursos
END:VEVENT
BEGIN:VEVENT
DTSTART;VALUE=DATE:20210111
DTEND;VALUE=DATE:20210401
DTSTAMP:20260425T162731
CREATED:20210319T102556Z
LAST-MODIFIED:20210319T102556Z
UID:10002718-1610323200-1617235199@www.salamancalia.es
SUMMARY:Premio Ciudad de Salamanca de Novela 2021
DESCRIPTION:Se establece un premio único e indivisible dotado con quince mil euros. \nMás información en las bases del concurso (ver enlace más abajo)
URL:https://www.salamancalia.es/evento/premio-ciudad-de-salamanca-de-novela-2021/
LOCATION:Salamanca
CATEGORIES:Concursos
END:VEVENT
BEGIN:VEVENT
DTSTART;VALUE=DATE:20210115
DTEND;VALUE=DATE:20210426
DTSTAMP:20260425T162731
CREATED:20210309T164604Z
LAST-MODIFIED:20240305T183415Z
UID:10002608-1610668800-1619395199@www.salamancalia.es
SUMMARY:Origen: Un paseo por las teorías de la evolución humana
DESCRIPTION:El proyecto Origen desarrollado por María Bleda (Castellón\, 1969) y José María Rosa (Albacete\, 1970) nos propone un recorrido físico por las diferentes teorías de la evolución humana desarrolladas durante los siglos XIX\, XX y XXI que han situado el origen del hombre\, dependiendo de los hallazgos científicos del momento\, en distintos espacios geográficos. \nMás información en la web del evento.
URL:https://www.salamancalia.es/evento/origen-un-paseo-por-las-teorias-de-la-evolucion-humana/
LOCATION:DA2\, Domus Artium 2002\, Avda. de la Aldehuela\, 30\, Salamanca\, Salamanca\, 37008\, España
CATEGORIES:Exposiciones
END:VEVENT
BEGIN:VEVENT
DTSTART;VALUE=DATE:20210122
DTEND;VALUE=DATE:20210426
DTSTAMP:20260425T162731
CREATED:20210309T165042Z
LAST-MODIFIED:20210309T165835Z
UID:10002609-1611273600-1619395199@www.salamancalia.es
SUMMARY:La ciudad pausada
DESCRIPTION:Fotoperiodistas de Salamanca retratan una ciudad inédita.\n\nÁngel Almeida\, David Arranz\, Enrique Carrascal\, Javier Cuesta\, Jesús Formigo\, José Manuel García\, Lydia González\, Manuel Ángel Laya\, Arai Santana y María Serna.\n\nAl realizar balance de la crisis vivida en el año 2020\, nuestros recuerdos son bombardeados por imágenes continuas relativas a la pandemia\, que nos recuerdan los meses pasados –extraños\, insólitos\, atípicos– que hemos vivido y que solo podría haber imaginado algún director de cine de ciencia ficción. \nPor medio de la fotografía\, lenguaje universal y medio de comunicación directo y sin filtros\, deseamos recopilar aquellas imágenes inéditas de nuestra ciudad bajo estas circunstancias tan extrañas\, y que formarán parte de nuestra historia más reciente. \nMás información en la web del evento.
URL:https://www.salamancalia.es/evento/la-ciudad-pausada/
LOCATION:DA2\, Domus Artium 2002\, Avda. de la Aldehuela\, 30\, Salamanca\, Salamanca\, 37008\, España
CATEGORIES:Exposiciones
END:VEVENT
BEGIN:VEVENT
DTSTART;VALUE=DATE:20210129
DTEND;VALUE=DATE:20210531
DTSTAMP:20260425T162731
CREATED:20210309T165405Z
LAST-MODIFIED:20210309T165947Z
UID:10002611-1611878400-1622419199@www.salamancalia.es
SUMMARY:Fracturas
DESCRIPTION:El enorme impacto que produce en la escena del arte contemporáneo la aparición del expresionismo abstracto americano\, alcanza a Carlos León\, nacido a mediados del siglo XX\, en los momentos iniciales de su formación. \nEl título elegido para esta muestra\, Fracturas\, alude a esa experiencia interior conductora del desarrollo de toda su obra\, presidida por una voluntad gozosa de afrontar la existencia\, no ajena sin embargo al inevitable componente trágico de quien no desconoce el sufrimiento. \nMás información en la web del evento.
URL:https://www.salamancalia.es/evento/fracturas/
LOCATION:DA2\, Domus Artium 2002\, Avda. de la Aldehuela\, 30\, Salamanca\, Salamanca\, 37008\, España
CATEGORIES:Exposiciones
END:VEVENT
BEGIN:VEVENT
DTSTART;VALUE=DATE:20210215
DTEND;VALUE=DATE:20210401
DTSTAMP:20260425T162731
CREATED:20210319T094802Z
LAST-MODIFIED:20241015T184048Z
UID:10002541-1613347200-1617235199@www.salamancalia.es
SUMMARY:La mujer en el medio rural
DESCRIPTION:Aldeadávila de la Ribera \nOficina de Turismo \nDe miércoles a sábados:Mañana: 09:30h a 13:30hTarde: de 16:30h a 18:30hDomingos: 09:30h a 13:30h \nLa exposición propone una mirada retrospectiva y multidisciplinar sobre la mujer rural. Un total de 20 fotografías en blanco y negro\, correspondientes al archivo de «Foto Muñoz»\, realizadas entre 1930 y 1970\, conforma la muestra con el objetivo de rendir un homenaje permanente a las mujeres rurales del siglo XX. \nCon cita previa.
URL:https://www.salamancalia.es/evento/la-mujer-en-el-medio-rural/
LOCATION:Aldeadávila de la Ribera\, Aldeadávila de la Ribera\, Salamanca\, España
CATEGORIES:Exposiciones
END:VEVENT
BEGIN:VEVENT
DTSTART;VALUE=DATE:20210222
DTEND;VALUE=DATE:20210423
DTSTAMP:20260425T162731
CREATED:20210309T110358Z
LAST-MODIFIED:20210309T165901Z
UID:10002563-1613952000-1619135999@www.salamancalia.es
SUMMARY:I Concurso PINTURA MURAL de Guijuelo
DESCRIPTION:I CONCURSO PINTURA MURAL DE GUIJUELO \nEl Ayuntamiento de Guijuelo\, a través de la Concejalía de Juventud\, convoca el I Concurso de Pintura Mural\, en el que el ganador podrá decorar una de las paredes de la sede juvenil. El objetivo de esta iniciativa es que los jóvenes puedan «divertirse\, explorar y desarrollar la creatividad»\, según han informado desde el Consistorio guijuelense. \nLa temática es libre\, serán valoradas todas aquellas obras que fomenten valores de convivencia y ciudadanía como la tolerancia\, el respeto\, la igualdad\, la inclusión\, amor\, paz… \nMás información en la web del evento.
URL:https://www.salamancalia.es/evento/i-concurso-pintura-mural/
LOCATION:Salamanca
CATEGORIES:Concursos
END:VEVENT
BEGIN:VEVENT
DTSTART;VALUE=DATE:20210301
DTEND;VALUE=DATE:20210324
DTSTAMP:20260425T162731
CREATED:20210309T124148Z
LAST-MODIFIED:20210309T165856Z
UID:10002569-1614556800-1616543999@www.salamancalia.es
SUMMARY:Gestión de situaciones de ansiedad y estrés para el voluntariado
DESCRIPTION:Curso online destinado a personal técnico y personas voluntarias de entidades. \nRequisito obligatorio: pertenecer a una entidad de voluntariado \nOBJETIVOS \n\nDotar de conocimientos necesarios a los voluntarios para desarrollar una acción voluntaria eficaz y con garantías.\nLlevar a la práctica la actividad de voluntariado conforme a las normas y de forma idónea.\n\nCONTENIDOS \n\nConceptualización.\nEstrés en el ámbito de nuestra entidad.\nEstrés derivado de relaciones interpersonales.\nEstrés relacionado con las nuevas tecnologías.\nEstrés laboral.\nLa autoestima.
URL:https://www.salamancalia.es/evento/gestion-de-situaciones-de-ansiedad-y-estres-para-el-voluntariado/
LOCATION:Online
CATEGORIES:Cursos y Talleres
END:VEVENT
BEGIN:VEVENT
DTSTART;TZID=UTC:20210301T090000
DTEND;TZID=UTC:20210331T200000
DTSTAMP:20260425T162731
CREATED:20210309T122649Z
LAST-MODIFIED:20210309T165825Z
UID:10002567-1614589200-1617220800@www.salamancalia.es
SUMMARY:Cuerpos Versus Cuerpos (Yaircel Robledo)
DESCRIPTION:Exposición «Cuerpos Versus Cuerpos» de Yaircel Robledo. \nMañanas de lunes a viernes de 9\,00 a 14\,00 horas. Tardes de lunes a viernes de 17\,00 a 20\,00 horas
URL:https://www.salamancalia.es/evento/cuerpos-versus-cuerpos-yaircel-robledo/
LOCATION:Sala de Exposiciones Espacio Joven\, c/ José Jáuregui\, 16\, Salamanca\, Salamanca\, 37002\, España
CATEGORIES:Exposiciones
END:VEVENT
BEGIN:VEVENT
DTSTART;VALUE=DATE:20210302
DTEND;VALUE=DATE:20210630
DTSTAMP:20260425T162731
CREATED:20210309T185000Z
LAST-MODIFIED:20210309T185000Z
UID:10002518-1614643200-1625011199@www.salamancalia.es
SUMMARY:Curso online de ajedrez
DESCRIPTION:Precios: Comunidad USAL 50 €. Asociados Alumni 62 €.
URL:https://www.salamancalia.es/evento/curso-online-de-ajedrez/
LOCATION:Salamanca
CATEGORIES:Cursos y Talleres
END:VEVENT
BEGIN:VEVENT
DTSTART;VALUE=DATE:20210303
DTEND;VALUE=DATE:20210328
DTSTAMP:20260425T162731
CREATED:20210309T091752Z
LAST-MODIFIED:20210309T165820Z
UID:10002536-1614729600-1616889599@www.salamancalia.es
SUMMARY:Inspirados por la MusSA. Jornadas de música creada en Salamanca
DESCRIPTION:Un recorrido por la música hecha en Salamanca\, a través de las portadas de los discos de los distintos músicos de la ciudad\, fotografías de sus conciertos y de algunos desus instrumentos musicales con “historia”. \nHorario: de 11’00 a 14’00 h. y de 18’00 a cierre excepto sábados tarde y festivos \nLugar: Sala de exposiciones de la Biblioteca M. Torrente Ballester
URL:https://www.salamancalia.es/evento/inspirados-por-la-mussa-jornadas-de-musica-creada-en-salamanca/
LOCATION:Biblioteca M. Torrente Ballester\, Paseo de los Olivos 10-22\, Salamanca\, Salamanca\, 37005\, España
CATEGORIES:Exposiciones
END:VEVENT
BEGIN:VEVENT
DTSTART;VALUE=DATE:20210304
DTEND;VALUE=DATE:20210405
DTSTAMP:20260425T162731
CREATED:20210319T095332Z
LAST-MODIFIED:20241015T183749Z
UID:10002543-1614816000-1617580799@www.salamancalia.es
SUMMARY:Xu Hongfei
DESCRIPTION:Xu Hongfei es un reconocido escultor nativo de Yangjiang a quien la ciudad de Salamanca considera Huésped Distinguido desde 2019. Esta vez\, la muestra escultórica abre la celebración del Año del Toro y las figuras están ubicadas en la Plaza Mayor\, Plaza del Liceo y el Patio de La Salina. El Patio acoge a ‘Alegría’ y ‘Fuerza’\, dos obras de gran tamaño compuesta en fibra de vidrio\, que se exponen para el disfrute de los visitantes.
URL:https://www.salamancalia.es/evento/xu-hongfei/
LOCATION:Palacio de la Salina\, Calle San Pablo\, 18\, Salamanca\, Salamanca\, 37001\, España
CATEGORIES:Exposiciones
END:VEVENT
BEGIN:VEVENT
DTSTART;VALUE=DATE:20210305
DTEND;VALUE=DATE:20210306
DTSTAMP:20260425T162731
CREATED:20210304T184225Z
LAST-MODIFIED:20210304T185523Z
UID:10002529-1614902400-1614988799@www.salamancalia.es
SUMMARY:Juego interactivo: Kahoot
DESCRIPTION:Juego para poner a prueba tus conocimientos sobre los grupos de música internacional más prometedores del último año\, a través de la herramienta Kahoot. \nParticipante de 14 a 30 años.
URL:https://www.salamancalia.es/evento/juego-interactivo-kahoot/
LOCATION:Online
CATEGORIES:Juegos
END:VEVENT
END:VCALENDAR