BEGIN:VCALENDAR
VERSION:2.0
PRODID:-//Agenda cultural y eventos de ocio en Salamanca - ECPv6.15.20//NONSGML v1.0//EN
CALSCALE:GREGORIAN
METHOD:PUBLISH
X-WR-CALNAME:Agenda cultural y eventos de ocio en Salamanca
X-ORIGINAL-URL:https://www.salamancalia.es
X-WR-CALDESC:Eventos para Agenda cultural y eventos de ocio en Salamanca
REFRESH-INTERVAL;VALUE=DURATION:PT1H
X-Robots-Tag:noindex
X-PUBLISHED-TTL:PT1H
BEGIN:VTIMEZONE
TZID:UTC
BEGIN:STANDARD
TZOFFSETFROM:+0000
TZOFFSETTO:+0000
TZNAME:UTC
DTSTART:20200101T000000
END:STANDARD
END:VTIMEZONE
BEGIN:VEVENT
DTSTART;TZID=UTC:20230912T153000
DTEND;TZID=UTC:20240621T203000
DTSTAMP:20260420T231248
CREATED:20230912T081458Z
LAST-MODIFIED:20230912T081458Z
UID:10004770-1694532600-1719001800@www.salamancalia.es
SUMMARY:Inscripciones para Mikado Salamanca Centro Psicopedagógico. Curso 2023-2024
DESCRIPTION:Inscripciones abiertas para el curso 2023-2024. \n¿Tu hijo/a necesita apoyo escolar personalizado o tiene alguna dificultad educativa en el cole o en el instituto? \n¿Tiene TDAH\, dislexia o algún trastorno que afecte a su comprensión\, razonamiento\, etc? \nEl equipo de Mikado le ayudará. \n¿CÓMO INSCRIBIRSE?\n\nPor teléfono o Whatsapp en el 627 57 34 99\nA través del correo electrónico info@mikadosalamanca.com\nA través de mensaje privado en Facebook\nPresencialmente de lunes a viernes de 15:30h a 20:30h\n\n¡Plazas limitadas! ¡Reserva tu plaza!
URL:https://www.salamancalia.es/evento/inscripciones-para-mikado-salamanca-centro-psicopedagogico-23-24/
LOCATION:Mikado Salamanca Centro Psicopedagógico\, Paseo de Canalejas 32\, Bajo\, Salamanca\, Salamanca\, 37001\, España
CATEGORIES:Cursos y Talleres
ORGANIZER;CN="Mikado Salamanca Centro Psicopedag%C3%B3gico":MAILTO:info@mikadosalamanca.com
END:VEVENT
BEGIN:VEVENT
DTSTART;VALUE=DATE:20230905
DTEND;VALUE=DATE:20231008
DTSTAMP:20260420T231248
CREATED:20230904T113912Z
LAST-MODIFIED:20230904T114050Z
UID:10004759-1693872000-1696723199@www.salamancalia.es
SUMMARY:Inscripciones para las clases de P de Patinaje 23-24
DESCRIPTION:Desde P de Patinaje están preparando un curso 2023-24 «Sobre Ruedas» con muchas novedades que se irán desvelando poco a poco. Mientras tanto\, abren inscripciones para sus escuelas: \n\nTanto para los grupos del #CentroDeportivoPDEP (pincha para ver la ubicación). Para hacer la reserva deberás rellenar este formulario (pinche para rellenarlo). Uno por participante.\nComo para el resto de  escuelas en Colegios y Ayuntamientos: Aldeatejada\, Santa Marta\, Cabrerizos\, Villamayor\, Nuevo Naharros…y también las de nuestros Colegios\n\nInformación e Inscripciones\n\npdepatinaje@gmail.com\n616559167\n\nHorario\n\nDe lunes a viernes de 10:00 a 13:00 y de 17:00 a 20:00\n\n  \nTodo ello lo puedes consultar en redes sociales y en la web www.pdepatinaje.com
URL:https://www.salamancalia.es/evento/inscripciones-para-las-clases-de-p-de-patinaje-23-24/
LOCATION:Salamanca
CATEGORIES:Cursos y Talleres,Deportes
END:VEVENT
BEGIN:VEVENT
DTSTART;TZID=UTC:20221027T113000
DTEND;TZID=UTC:20221027T123000
DTSTAMP:20260420T231248
CREATED:20221005T115305Z
LAST-MODIFIED:20221005T115305Z
UID:10004185-1666870200-1666873800@www.salamancalia.es
SUMMARY:Free Tours Naturaleza
DESCRIPTION:La actividad consistirá en una pequeña ruta por el Parque de Huerta Otea en la que tendremos paradas explicativas de especies vegetales y animales mientras vamos observando las aves de la zona. \nLa actividad tendrá una duración de 1 hora aproximadamente ya que dependerá de las aves que veamos durante el recorrido. \nEl nivel de esta ruta es de iniciación y se realizará en grupos reducidos.
URL:https://www.salamancalia.es/evento/free-tours-naturaleza/2022-10-27/2/
LOCATION:Salamanca
CATEGORIES:Cursos y Talleres,Viajes y Excursiones
END:VEVENT
BEGIN:VEVENT
DTSTART;TZID=UTC:20221027T100000
DTEND;TZID=UTC:20221027T110000
DTSTAMP:20260420T231248
CREATED:20221005T115305Z
LAST-MODIFIED:20221005T115305Z
UID:10004184-1666864800-1666868400@www.salamancalia.es
SUMMARY:Free Tours Naturaleza
DESCRIPTION:La actividad consistirá en una pequeña ruta por el Parque de Huerta Otea en la que tendremos paradas explicativas de especies vegetales y animales mientras vamos observando las aves de la zona. \nLa actividad tendrá una duración de 1 hora aproximadamente ya que dependerá de las aves que veamos durante el recorrido. \nEl nivel de esta ruta es de iniciación y se realizará en grupos reducidos.
URL:https://www.salamancalia.es/evento/free-tours-naturaleza/2022-10-27/1/
LOCATION:Salamanca
CATEGORIES:Cursos y Talleres,Viajes y Excursiones
END:VEVENT
BEGIN:VEVENT
DTSTART;TZID=UTC:20221020T113000
DTEND;TZID=UTC:20221020T123000
DTSTAMP:20260420T231248
CREATED:20221005T115305Z
LAST-MODIFIED:20221005T115305Z
UID:10004183-1666265400-1666269000@www.salamancalia.es
SUMMARY:Free Tours Naturaleza
DESCRIPTION:La actividad consistirá en una pequeña ruta por el Parque de Huerta Otea en la que tendremos paradas explicativas de especies vegetales y animales mientras vamos observando las aves de la zona. \nLa actividad tendrá una duración de 1 hora aproximadamente ya que dependerá de las aves que veamos durante el recorrido. \nEl nivel de esta ruta es de iniciación y se realizará en grupos reducidos.
URL:https://www.salamancalia.es/evento/free-tours-naturaleza/2022-10-20/2/
LOCATION:Salamanca
CATEGORIES:Cursos y Talleres,Viajes y Excursiones
END:VEVENT
BEGIN:VEVENT
DTSTART;TZID=UTC:20221020T100000
DTEND;TZID=UTC:20221020T110000
DTSTAMP:20260420T231248
CREATED:20221005T115305Z
LAST-MODIFIED:20221005T115305Z
UID:10004182-1666260000-1666263600@www.salamancalia.es
SUMMARY:Free Tours Naturaleza
DESCRIPTION:La actividad consistirá en una pequeña ruta por el Parque de Huerta Otea en la que tendremos paradas explicativas de especies vegetales y animales mientras vamos observando las aves de la zona. \nLa actividad tendrá una duración de 1 hora aproximadamente ya que dependerá de las aves que veamos durante el recorrido. \nEl nivel de esta ruta es de iniciación y se realizará en grupos reducidos.
URL:https://www.salamancalia.es/evento/free-tours-naturaleza/2022-10-20/1/
LOCATION:Salamanca
CATEGORIES:Cursos y Talleres,Viajes y Excursiones
END:VEVENT
BEGIN:VEVENT
DTSTART;TZID=UTC:20221014T160000
DTEND;TZID=UTC:20221014T170000
DTSTAMP:20260420T231248
CREATED:20221005T115305Z
LAST-MODIFIED:20221005T115305Z
UID:10004181-1665763200-1665766800@www.salamancalia.es
SUMMARY:Free Tours Naturaleza
DESCRIPTION:La actividad consistirá en una pequeña ruta por el Parque de Huerta Otea en la que tendremos paradas explicativas de especies vegetales y animales mientras vamos observando las aves de la zona. \nLa actividad tendrá una duración de 1 hora aproximadamente ya que dependerá de las aves que veamos durante el recorrido. \nEl nivel de esta ruta es de iniciación y se realizará en grupos reducidos.
URL:https://www.salamancalia.es/evento/free-tours-naturaleza/2022-10-14/3/
LOCATION:Salamanca
CATEGORIES:Cursos y Talleres,Viajes y Excursiones
END:VEVENT
BEGIN:VEVENT
DTSTART;TZID=UTC:20221014T113000
DTEND;TZID=UTC:20221014T123000
DTSTAMP:20260420T231248
CREATED:20221005T115305Z
LAST-MODIFIED:20221005T115305Z
UID:10004180-1665747000-1665750600@www.salamancalia.es
SUMMARY:Free Tours Naturaleza
DESCRIPTION:La actividad consistirá en una pequeña ruta por el Parque de Huerta Otea en la que tendremos paradas explicativas de especies vegetales y animales mientras vamos observando las aves de la zona. \nLa actividad tendrá una duración de 1 hora aproximadamente ya que dependerá de las aves que veamos durante el recorrido. \nEl nivel de esta ruta es de iniciación y se realizará en grupos reducidos.
URL:https://www.salamancalia.es/evento/free-tours-naturaleza/2022-10-14/2/
LOCATION:Salamanca
CATEGORIES:Cursos y Talleres,Viajes y Excursiones
END:VEVENT
BEGIN:VEVENT
DTSTART;TZID=UTC:20221014T100000
DTEND;TZID=UTC:20221014T110000
DTSTAMP:20260420T231248
CREATED:20221005T115305Z
LAST-MODIFIED:20221005T115305Z
UID:10004179-1665741600-1665745200@www.salamancalia.es
SUMMARY:Free Tours Naturaleza
DESCRIPTION:La actividad consistirá en una pequeña ruta por el Parque de Huerta Otea en la que tendremos paradas explicativas de especies vegetales y animales mientras vamos observando las aves de la zona. \nLa actividad tendrá una duración de 1 hora aproximadamente ya que dependerá de las aves que veamos durante el recorrido. \nEl nivel de esta ruta es de iniciación y se realizará en grupos reducidos.
URL:https://www.salamancalia.es/evento/free-tours-naturaleza/2022-10-14/1/
LOCATION:Salamanca
CATEGORIES:Cursos y Talleres,Viajes y Excursiones
END:VEVENT
BEGIN:VEVENT
DTSTART;TZID=UTC:20221013T160000
DTEND;TZID=UTC:20221013T170000
DTSTAMP:20260420T231248
CREATED:20221005T115305Z
LAST-MODIFIED:20221005T115305Z
UID:10004178-1665676800-1665680400@www.salamancalia.es
SUMMARY:Free Tours Naturaleza
DESCRIPTION:La actividad consistirá en una pequeña ruta por el Parque de Huerta Otea en la que tendremos paradas explicativas de especies vegetales y animales mientras vamos observando las aves de la zona. \nLa actividad tendrá una duración de 1 hora aproximadamente ya que dependerá de las aves que veamos durante el recorrido. \nEl nivel de esta ruta es de iniciación y se realizará en grupos reducidos.
URL:https://www.salamancalia.es/evento/free-tours-naturaleza/2022-10-13/3/
LOCATION:Salamanca
CATEGORIES:Cursos y Talleres,Viajes y Excursiones
END:VEVENT
BEGIN:VEVENT
DTSTART;TZID=UTC:20221013T113000
DTEND;TZID=UTC:20221013T123000
DTSTAMP:20260420T231248
CREATED:20221005T115305Z
LAST-MODIFIED:20221005T115305Z
UID:10004177-1665660600-1665664200@www.salamancalia.es
SUMMARY:Free Tours Naturaleza
DESCRIPTION:La actividad consistirá en una pequeña ruta por el Parque de Huerta Otea en la que tendremos paradas explicativas de especies vegetales y animales mientras vamos observando las aves de la zona. \nLa actividad tendrá una duración de 1 hora aproximadamente ya que dependerá de las aves que veamos durante el recorrido. \nEl nivel de esta ruta es de iniciación y se realizará en grupos reducidos.
URL:https://www.salamancalia.es/evento/free-tours-naturaleza/2022-10-13/2/
LOCATION:Salamanca
CATEGORIES:Cursos y Talleres,Viajes y Excursiones
END:VEVENT
BEGIN:VEVENT
DTSTART;TZID=UTC:20221013T100000
DTEND;TZID=UTC:20221013T110000
DTSTAMP:20260420T231248
CREATED:20221005T115305Z
LAST-MODIFIED:20221005T115305Z
UID:10004176-1665655200-1665658800@www.salamancalia.es
SUMMARY:Free Tours Naturaleza
DESCRIPTION:La actividad consistirá en una pequeña ruta por el Parque de Huerta Otea en la que tendremos paradas explicativas de especies vegetales y animales mientras vamos observando las aves de la zona. \nLa actividad tendrá una duración de 1 hora aproximadamente ya que dependerá de las aves que veamos durante el recorrido. \nEl nivel de esta ruta es de iniciación y se realizará en grupos reducidos.
URL:https://www.salamancalia.es/evento/free-tours-naturaleza/2022-10-13/1/
LOCATION:Salamanca
CATEGORIES:Cursos y Talleres,Viajes y Excursiones
END:VEVENT
BEGIN:VEVENT
DTSTART;TZID=UTC:20221012T160000
DTEND;TZID=UTC:20221012T170000
DTSTAMP:20260420T231248
CREATED:20221005T115305Z
LAST-MODIFIED:20221005T115305Z
UID:10004175-1665590400-1665594000@www.salamancalia.es
SUMMARY:Free Tours Naturaleza
DESCRIPTION:La actividad consistirá en una pequeña ruta por el Parque de Huerta Otea en la que tendremos paradas explicativas de especies vegetales y animales mientras vamos observando las aves de la zona. \nLa actividad tendrá una duración de 1 hora aproximadamente ya que dependerá de las aves que veamos durante el recorrido. \nEl nivel de esta ruta es de iniciación y se realizará en grupos reducidos.
URL:https://www.salamancalia.es/evento/free-tours-naturaleza/2022-10-12/3/
LOCATION:Salamanca
CATEGORIES:Cursos y Talleres,Viajes y Excursiones
END:VEVENT
BEGIN:VEVENT
DTSTART;TZID=UTC:20221012T113000
DTEND;TZID=UTC:20221012T123000
DTSTAMP:20260420T231248
CREATED:20221005T115305Z
LAST-MODIFIED:20221005T115305Z
UID:10004174-1665574200-1665577800@www.salamancalia.es
SUMMARY:Free Tours Naturaleza
DESCRIPTION:La actividad consistirá en una pequeña ruta por el Parque de Huerta Otea en la que tendremos paradas explicativas de especies vegetales y animales mientras vamos observando las aves de la zona. \nLa actividad tendrá una duración de 1 hora aproximadamente ya que dependerá de las aves que veamos durante el recorrido. \nEl nivel de esta ruta es de iniciación y se realizará en grupos reducidos.
URL:https://www.salamancalia.es/evento/free-tours-naturaleza/2022-10-12/2/
LOCATION:Salamanca
CATEGORIES:Cursos y Talleres,Viajes y Excursiones
END:VEVENT
BEGIN:VEVENT
DTSTART;TZID=UTC:20221012T100000
DTEND;TZID=UTC:20221012T110000
DTSTAMP:20260420T231248
CREATED:20221005T115305Z
LAST-MODIFIED:20221005T115305Z
UID:10004173-1665568800-1665572400@www.salamancalia.es
SUMMARY:Free Tours Naturaleza
DESCRIPTION:La actividad consistirá en una pequeña ruta por el Parque de Huerta Otea en la que tendremos paradas explicativas de especies vegetales y animales mientras vamos observando las aves de la zona. \nLa actividad tendrá una duración de 1 hora aproximadamente ya que dependerá de las aves que veamos durante el recorrido. \nEl nivel de esta ruta es de iniciación y se realizará en grupos reducidos.
URL:https://www.salamancalia.es/evento/free-tours-naturaleza/2022-10-12/1/
LOCATION:Salamanca
CATEGORIES:Cursos y Talleres,Viajes y Excursiones
END:VEVENT
BEGIN:VEVENT
DTSTART;TZID=UTC:20220906T153000
DTEND;TZID=UTC:20230621T203000
DTSTAMP:20260420T231248
CREATED:20220906T073821Z
LAST-MODIFIED:20220906T074914Z
UID:10004157-1662478200-1687379400@www.salamancalia.es
SUMMARY:Inscripciones para Mikado Salamanca Centro Psicopedagógico
DESCRIPTION:Inscripciones aibertas para el curso 2022-2023 \n¿CÓMO INSCRIBIRSE?\n\nPor teléfono o Whatsapp en el 627 57 34 99.\nA través de mensaje privado en Facebook\nA través del correo electrónico info@mikadosalamanca.com\nPresencialmente de lunes a viernes: hasta el 7 de septiembre\, de 10:00 h a 13:15 h. Jueves 8 y viernes 9 de septiembre cerrado\, por festividad local. Desde el día 12 de septiembre\, en horario habitual\, de 15:30 h a 20:30 h\n\n¡Plazas limitadas! ¡Reserva tu plaza!
URL:https://www.salamancalia.es/evento/inscripciones-para-mikado-salamanca-centro-psicopedagogico/
LOCATION:Mikado Salamanca Centro Psicopedagógico\, Paseo de Canalejas 32\, Bajo\, Salamanca\, Salamanca\, 37001\, España
CATEGORIES:Cursos y Talleres
ORGANIZER;CN="Mikado Salamanca Centro Psicopedag%C3%B3gico":MAILTO:info@mikadosalamanca.com
END:VEVENT
BEGIN:VEVENT
DTSTART;TZID=UTC:20220905T080000
DTEND;TZID=UTC:20221007T170000
DTSTAMP:20260420T231248
CREATED:20220905T101527Z
LAST-MODIFIED:20220906T072205Z
UID:10004156-1662364800-1665162000@www.salamancalia.es
SUMMARY:Inscripciones para las clases de P de Patinaje
DESCRIPTION:¿Todo preparado para la vuelta al cole? \nP de Patinaje les ofrece una promoción para las clases en el Centro Deportivo PDEP. Este año con matropatinaje (a partir de 3 años)\, hockey\, grupos de familia… \nSi reservas la plaza antes del 10 de septiembre\, tendrás un 10 % de descuento en el primer trimestre. \nEl Centro Deportivo PDEP está situado en el Centro Ecuestre de la Aldehuela\, en plena naturaleza\, rodeados de animales\, a tan sólo 5 minutos de Salamanca y con amplio aparcamiento \nINFORMACIÓN E INSCRIPCIÓN EN: pdepatinaje@gmail.com // 616559167 \nHORARIO DE LUNES A VIERNES DE 10:00 A 13:00 Y DE 17:00 A 20:00 \nAdemás el lunes 5 de septiembre se abrirán las inscripciones en las Escuelas de Santa Marta y Aldeatejada y en los días sucesivos en el resto de nuestras escuelas. \nTodo ello lo puedes consultar en redes sociales y en la web www.pdepatinaje.com
URL:https://www.salamancalia.es/evento/inscripciones-para-las-clases-de-p-de-patinaje/
LOCATION:Salamanca
CATEGORIES:Cursos y Talleres,Deportes
END:VEVENT
BEGIN:VEVENT
DTSTART;TZID=UTC:20220701T100000
DTEND;TZID=UTC:20220714T200000
DTSTAMP:20260420T231248
CREATED:20220524T071640Z
LAST-MODIFIED:20220524T071756Z
UID:10003127-1656669600-1657828800@www.salamancalia.es
SUMMARY:Curso de Monitor/a de Tiempo Libre Intensivo en julio de 2022
DESCRIPTION:Título oficial de la Junta de Castilla y León\, válido para todo el territorio nacional. \nCon los nuevos contenidos\, vinculados al Certificado de Profesionalidad Dinamización de actividades de tiempo libre educativo infantil y juvenil (SSCB0209). \nDEL 1 AL 14 DE JULIO. Semipresencial\, 100 horas presenciales\, 50 online (google classroom). \nMódulo de prácticas una vez superados los 3 teóricos. Nosotros te proporcionamos el lugar de prácticas. \nComenzamos el viernes día 1 a las 10h. El horario será de 10h a 14h y de 16h a 20h\, con alguna velada incluida. \nEl curso lo forman los siguientes módulos formativos\, todos convalidabes: \n\nMF1866_2 Actividades de educación en el tiempo libre infantil y juvenil. 60 horas.\nMF1867_2 Procesos grupales y educativos en el tiempo libre infantil y juvenil. 30 horas (transversal\, común con coordinador) .\nMF1868_2 Técnicas y recursos de animación en actividades de tiempo libre 60 horas (transversal\, común con coordinador)\nMP0270 Módulo de prácticas profesionales no laborales de Dinamización de actividades de tiempo libre educativo infantil y juvenil. 160 horas. (Convalidable con experiencia acreditada\, ya sea laboral o voluntariado)\n\nSi has cursado cualquiera de los módulos\, se te queda totalmente convalidado. En este nuevo modelo de cursos no hay otra forma de convalidación que haber cursado y superado los módulos que lo componen. \nPRECIO: 180€ antes del 22 de mayo\, después 199€. 10% de descuento para grupos\, voluntari@s del Santiago Uno y alumn@s de Lorenzo Milani. \nSe cuenta con todas las medidas de seguridad sanitaria de prevención de contagio del Covid-19. \nINCLUIDA SALIDA PRÁCTICA DE CAMPISMO: senderismo\, orientación\, escalada\, rápel\, tiro con arco\, interpretación ambiental… comida de picnic incluida. \nEducación ambiental en el Centro de Educación Ambiental Lorenzo Milani. CONOCERÁS A NUESTRAS AVES IRRECUPERABLES. \nEl módulo de prácticas asegurado en los proyectos de nuestra Casa Escuela Santiago Uno (campamento\, campos de trabajo (en Salamanca o Marruecos) o en nuestra Casa Escuela o el Centro de Educación Ambiental durante todo el curso). En ningún caso es obligatorio hacerlas con nosotros\, pero en nuestra propia entidad\, tenemos diferentes ofertas. \nINCLUYE: material; profesorado; gestión y asesoramiento de prácticas; bolsa de trabajo; prácticas a la carta donde quieras; seguros; salida de campismo;
URL:https://www.salamancalia.es/evento/curso-de-monitor-a-de-tiempo-libre-intensivo-en-julio-de-2022/
LOCATION:Escuela de Tiempo Libre Santiago Uno\, C/ Santiago 1\, Salamanca\, Salamanca\, 37008\, España
CATEGORIES:Cursos y Talleres
ORGANIZER;CN="Escuela de tiempo libre Santiago Uno":MAILTO:etlsantiago1@gmail.com
END:VEVENT
BEGIN:VEVENT
DTSTART;TZID=UTC:20220701T080000
DTEND;TZID=UTC:20220831T170000
DTSTAMP:20260420T231248
CREATED:20220620T090146Z
LAST-MODIFIED:20220620T090146Z
UID:10004033-1656662400-1661965200@www.salamancalia.es
SUMMARY:Actividades de Verano Mikado Salamanca Centro Psicopedagógico
DESCRIPTION:¡ABRIMOS PLAZO DE INSCRIPCIONES! \nComenzamos el día 1 de Julio con nuestras ACTIVIDADES DE VERANO. \n¿CÓMO INSCRIBIRSE?\n\nPor teléfono o Whatsapp en el 627 57 34 99.\nA través de mensaje privado.\nA través del correo electrónico info@mikadosalamanca.com\nPresencialmente\, solicitando CITA PREVIA a través de teléfono\, whatsapp\, mensaje privado o correo electrónico antes del 1 de Julio.\n\nEl mejor plan para que tus hijos puedan reforzar los conocimientos escolares de su nivel y conocer el espacio\, los planetas y el universo con actividades divertidas a través del proyecto «MikaCosmos» \n¡PLAZAS LIMITADAS! ¡RESERVA TU PLAZA!
URL:https://www.salamancalia.es/evento/actividades-de-verano-mikado-salamanca-centro-psicopedagogico/
LOCATION:Mikado Salamanca Centro Psicopedagógico\, Paseo de Canalejas 32\, Bajo\, Salamanca\, Salamanca\, 37001\, España
CATEGORIES:Ocio Infantil
ORGANIZER;CN="Mikado Salamanca Centro Psicopedag%C3%B3gico":MAILTO:info@mikadosalamanca.com
END:VEVENT
BEGIN:VEVENT
DTSTART;TZID=UTC:20220627T080000
DTEND;TZID=UTC:20220729T150000
DTSTAMP:20260420T231248
CREATED:20220524T071150Z
LAST-MODIFIED:20220524T071150Z
UID:10003126-1656316800-1659106800@www.salamancalia.es
SUMMARY:Campamento Urbano Divernatural
DESCRIPTION:Campamento urbano en el Centro de Educación Ambiental Lorenzo Milani \nLos participantes podrán disfrutar de: \n\nConvivir con nuestra Aves Rapaces\nSemanas Temáticas\nAventura (Escalada\, Tiro Con Arco\, Orientación)\nPiscina de la Aldehuela (2 días a la semana)\nCría de Vencejos\nSuelta Educativa de Fauna Recuperada\nExcursiones\nHuerto Ecológico\nActividad Deportiva\nTalleres Artísticos\nCirco\, Baile Y Expresión\nEscape Room\nGymkanas\n\n¿DONDE?\nEn el Centro P.I.F.P. Lorenzo Milani \n¿CUANDO?\nDel 27 de junio al 29 de julio. \n¿PARA QUIENES?\nGrupo de pequeños de 5 a 7 años. Grupo mediano de 8 a 11 años y grupos mayores de 12 a 15 años. \n¿HORARIO?\nDe lunes a viernes\, de 9h a 14h. Servicios de madrugadores de 8h a 9h y tardones de 14h a 15h \n¿CUANTO CUESTA?\nTARIFAS de 9h a 14h \n\n1 Semana 75€\n2 Semana 140€\n3 Semana 195€\n4 Semana 240€\n5 Semana 275€\n\n10% de descuento a partir del primer hermano. \nMadrugadores o tardones 3€ por niño y día. \nMadrugadores y tardones 6€ por un niño y día. \nPara tardones pueden traer su comida y comer antes de ser recogidos. \n¿CÓMO?\nEn grupos reducidos\, al aire libre\, con todos los protocolos sanitarios frente al COVID \nInformación e inscripción: ceamilani@fplorenzomilani.es \nTeléfono y whatsapp 923329511/ 626955367/923180831
URL:https://www.salamancalia.es/evento/campamento-urbano-divernatural-2/
LOCATION:Centro de educación ambiental Lorenzo Milani\, Camino de los Frailes nº 3\, Cabrerizos\, Salamanca\, 37193\, España
CATEGORIES:Campamentos y Campus,Ocio Infantil
ORGANIZER;CN="Escuela de tiempo libre Santiago Uno":MAILTO:etlsantiago1@gmail.com
END:VEVENT
BEGIN:VEVENT
DTSTART;VALUE=DATE:20211001
DTEND;VALUE=DATE:20211102
DTSTAMP:20260420T231248
CREATED:20211014T110038Z
LAST-MODIFIED:20240305T184456Z
UID:10002773-1633046400-1635811199@www.salamancalia.es
SUMMARY:Estrenos de películas de Halloween en octubre-noviembre
DESCRIPTION:A finales del mes de octubre se celebra el puente de Todos los Santos\, y muchos disfrutan de celebrar Halloween. Por ello\, aquí dejamos un recopilatorio de todos los estrenos relacionados con esa temática\, para todos los públicos\, que se darán durante este mes. \nPuedes ver el tráiler de cada película más abajo. \nPara los más pequeños: \n\nLos Locos Addams 2: La gran escapada. 8 de octubre. Cines Van Dyck. Cine Megarama.\n\nLas más terroríficas: \n\nVenom: Let There Be Carnage (Habrá matanza). 15 de octubre. Cines Van Dyck. Cine Megarama.\nHalloween Kills. 22 de octubre.\nLa abuela. 29 de octubre.\nDemonic. 12 de noviembre\n\nThrillers: \n\nÚltima noche en el Soho . 5 de noviembre.\n\n  \nY por último\, un recordatorio de los cines de Salamanca en los que se proyectarán estas películas (y otros estrenos de diversas temáticas): \n\nCines Megarama. Centro comercial Vialia.\nCines Van Dyck Tormes. Centro comercial El Tormes.\nCines Van Dyck. P.º del Dr. Torres Villarroel.\n\n 
URL:https://www.salamancalia.es/evento/estrenos-de-peliculas-de-halloween-en-octubre-noviembre/
LOCATION:Salamanca
CATEGORIES:Cine
END:VEVENT
END:VCALENDAR