BEGIN:VCALENDAR
VERSION:2.0
PRODID:-//Agenda cultural y eventos de ocio en Salamanca - ECPv6.15.20//NONSGML v1.0//EN
CALSCALE:GREGORIAN
METHOD:PUBLISH
X-WR-CALNAME:Agenda cultural y eventos de ocio en Salamanca
X-ORIGINAL-URL:https://www.salamancalia.es
X-WR-CALDESC:Eventos para Agenda cultural y eventos de ocio en Salamanca
REFRESH-INTERVAL;VALUE=DURATION:PT1H
X-Robots-Tag:noindex
X-PUBLISHED-TTL:PT1H
BEGIN:VTIMEZONE
TZID:UTC
BEGIN:STANDARD
TZOFFSETFROM:+0000
TZOFFSETTO:+0000
TZNAME:UTC
DTSTART:20220101T000000
END:STANDARD
END:VTIMEZONE
BEGIN:VEVENT
DTSTART;VALUE=DATE:20231012
DTEND;VALUE=DATE:20231016
DTSTAMP:20260425T212419
CREATED:20230516T154824Z
LAST-MODIFIED:20231012T111704Z
UID:10003640-1697068800-1697414399@www.salamancalia.es
SUMMARY:Puente del Pilar 2023 en Salamanca
DESCRIPTION:El puente de octubre se celebra en honor a la virgen del Pilar por eso se le llama puente del Pilar. Es el 12 de octubre\, el día de la Hispanidad (fiesta nacional de España)\, festivo en todo el país. En algunas comunidades se hace puente pero en otras no. \n¿Qué eventos hay en Salamanca del 12 al 15 de octubre?\n¿Qué puedo hacer en Salamanca durante el puente del Pilar/puente de la Hispanidad? \nDisfrutar de Salamanca haciendo turismo: \n\nUn paseo por Salamanca\nQué ver y visitar en Salamanca en 1 día\nQué ver en un fin de semana en Salamanca\n\nPuedes aprovechar para hacer alguna ruta por la provincia de Salamanca pero también puedes ver una selección de eventos que tendrán lugar en Salamanca (ver más abajo). \nAdemás\, puedes consultar la sección de exposiciones en Salamanca. \nAgenda cultural y eventos de ocio durante el puente del Pilar en Salamanca\nEventos próximos en Salamanca. \n¿Dónde comer o cenar?\nSi te acercas a la zona de Van Dyck puedes tomar unos montaditos\, tostas\, brochetas\, raciones… y platos combinados\, hamburguesas y parrilladas en Bar El Montadito. \nMás información sobre el Puente del Pilar\nEl Puente del Pilar tiene como fecha central el 12 de Octubre en el que se celebran diferentes fiestas como la Fiesta del Pilar en Zaragoza o el día de la Hispanidad en toda España. El 12 de Octubre es conocido como el Día del Pilar precisamente porque es la onomástica del día\, teniendo en cuenta que la Virgen del Pilar es la patrona de Zaragoza\, y Aragón en general\, la capital aragonesa celebra esos días sus fiestas patronales. \nEste mismo día celebra la Fiesta Nacional en España y la celebración incluye un gran desfile militar por las calles de la capital española. El 12 de Octubre tiene diferentes denominaciones en cuanto a Fiesta Nacional Española\, se le llama: Día de la Hispanidad\, Día de la Fiesta Nacional\, Día del Descubrimiento\, Día de Colón\, Día de las Fuerzas Armadas…
URL:https://www.salamancalia.es/evento/puente-del-pilar-2023-en-salamanca/
CATEGORIES:Especiales
ATTACH;FMTTYPE=image/jpeg:https://www.salamancalia.es/wp-content/uploads/2021/10/Puente-Romano-y-Catedral-de-Salamanca.jpg
END:VEVENT
END:VCALENDAR