BEGIN:VCALENDAR
VERSION:2.0
PRODID:-//Agenda cultural y eventos de ocio en Salamanca - ECPv6.15.20//NONSGML v1.0//EN
CALSCALE:GREGORIAN
METHOD:PUBLISH
X-ORIGINAL-URL:https://www.salamancalia.es
X-WR-CALDESC:Eventos para Agenda cultural y eventos de ocio en Salamanca
REFRESH-INTERVAL;VALUE=DURATION:PT1H
X-Robots-Tag:noindex
X-PUBLISHED-TTL:PT1H
BEGIN:VTIMEZONE
TZID:UTC
BEGIN:STANDARD
TZOFFSETFROM:+0000
TZOFFSETTO:+0000
TZNAME:UTC
DTSTART:20200101T000000
END:STANDARD
END:VTIMEZONE
BEGIN:VEVENT
DTSTART;VALUE=DATE:20210318
DTEND;VALUE=DATE:20210517
DTSTAMP:20260426T042520
CREATED:20210309T170402Z
LAST-MODIFIED:20241015T183906Z
UID:10002616-1616025600-1621209599@www.salamancalia.es
SUMMARY:Evangelio Mayor
DESCRIPTION:El proyecto de Javier Codesal Evangelio mayor\, presentado por primera vez en DA2\, consiste en una película\, una serie fotográfica y una pieza mural (fotografía y texto). Como es habitual en muchas de sus obras\, el artista se centra en una representación no canónica de los cuerpos (en este caso\, por la edad) y en un tratamiento renovado de algunas tradiciones sociales y culturales (ahora\, el Evangelio)… más información en la web del evento.
URL:https://www.salamancalia.es/evento/evangelio-mayor/
LOCATION:DA2\, Domus Artium 2002\, Avda. de la Aldehuela\, 30\, Salamanca\, Salamanca\, 37008\, España
CATEGORIES:Exposiciones
END:VEVENT
BEGIN:VEVENT
DTSTART;VALUE=DATE:20210318
DTEND;VALUE=DATE:20210531
DTSTAMP:20260426T042520
CREATED:20210309T165645Z
LAST-MODIFIED:20210309T172908Z
UID:10002614-1616025600-1622419199@www.salamancalia.es
SUMMARY:Visiones Contemporáneas
DESCRIPTION:En 2021\, Visiones Contemporáneas\, últimas tendencias en el cine y vídeo en España\, proyecto comisariado por Playtime Audiovisuales para el DA2 – Domus Artium 2002\, llega a su novena edición. Comenzamos la temporada con el vigesimoquinto ciclo expositivo\, dedicado a la cineasta y antropóloga visual\, Maddi Barber. \nMás información en la web del evento.
URL:https://www.salamancalia.es/evento/visiones-contemporaneas/
LOCATION:DA2\, Domus Artium 2002\, Avda. de la Aldehuela\, 30\, Salamanca\, Salamanca\, 37008\, España
CATEGORIES:Exposiciones
END:VEVENT
BEGIN:VEVENT
DTSTART;TZID=UTC:20210318T100000
DTEND;TZID=UTC:20210318T120000
DTSTAMP:20260426T042520
CREATED:20210311T095623Z
LAST-MODIFIED:20210311T170148Z
UID:10002526-1616061600-1616068800@www.salamancalia.es
SUMMARY:Claves de jóvenes investigadores para iniciar una carrera científica
DESCRIPTION:Objetivo: orientar a los estudiantes universitarios sobre la Carrera Investigadora para que conozcan\, de la mano de jóvenes investigadores\, los detalles de esta opción de futuro\, así como diversos consejos prácticos sobre cómo acceder a esta vía de una manera exitosa. \nMás información en la web del evento.
URL:https://www.salamancalia.es/evento/claves-de-jovenes-investigadores-para-iniciar-una-carrera-cientifica/
LOCATION:Online
CATEGORIES:Congresos y Jornadas
END:VEVENT
BEGIN:VEVENT
DTSTART;TZID=UTC:20210318T163000
DTEND;TZID=UTC:20210318T163000
DTSTAMP:20260426T042520
CREATED:20210311T093410Z
LAST-MODIFIED:20210311T170141Z
UID:10002524-1616085000-1616085000@www.salamancalia.es
SUMMARY:Escape brain: juego educativo tipo escape room
DESCRIPTION:Escape brain: juego educativo tipo escape room (edad recomendada a partir de 10 años). \nCon motivo de la celebración de la Semana del Cerebro el Instituto de Neurociencias de CYL organiza una serie de actividades online de divulgación científica.
URL:https://www.salamancalia.es/evento/escape-brain-juego-educativo-tipo-escape-room/
LOCATION:Online
CATEGORIES:Juegos,Ocio Infantil
END:VEVENT
BEGIN:VEVENT
DTSTART;TZID=UTC:20210318T180000
DTEND;TZID=UTC:20210318T180000
DTSTAMP:20260426T042520
CREATED:20210309T093452Z
LAST-MODIFIED:20210309T155124Z
UID:10002546-1616090400-1616090400@www.salamancalia.es
SUMMARY:Coyote
DESCRIPTION:Formada por seis músicos (Antonio Llorente- guitarra y voz; Bruno Martín- guitarra; Iván Muñoz- saxo; Arturo Martín- teclado; Carlos Martín- bajo y Esteban Lavigne- batería)\, Coyote es una agrupación salmantina que fusiona el rock con estilos como el funk\, jazz y neosoul. \n(Invitaciones en las Bibliotecas Municipales)
URL:https://www.salamancalia.es/evento/coyote/
LOCATION:Biblioteca M. Torrente Ballester\, Paseo de los Olivos 10-22\, Salamanca\, Salamanca\, 37005\, España
CATEGORIES:Conciertos
END:VEVENT
BEGIN:VEVENT
DTSTART;TZID=UTC:20210318T193000
DTEND;TZID=UTC:20210318T193000
DTSTAMP:20260426T042520
CREATED:20210309T163818Z
LAST-MODIFIED:20241015T183910Z
UID:10002607-1616095800-1616095800@www.salamancalia.es
SUMMARY:Concierto de primavera precoro y coro de Niños Ciudad de Salamanca
DESCRIPTION:Precoro y Coro de Niños han preparado un repertorio de estreno\, lleno de melodías entrañables que harán soñar y sentir emociones a través de la música. Muchas melodías conocidas que llevará al público asistente a dejarse llevar por la magia… más información en la web del evento. \nVenta de entradas: venta telefónica.
URL:https://www.salamancalia.es/evento/concierto-de-primavera-precoro-y-coro-de-ninos-ciudad-de-salamanca/
LOCATION:CAEM\, Avda. de las Artes\, 45-55\, Salamanca\, Salamanca\, 37008\, España
CATEGORIES:Conciertos,Ocio Infantil
END:VEVENT
BEGIN:VEVENT
DTSTART;VALUE=DATE:20210319
DTEND;VALUE=DATE:20210320
DTSTAMP:20260426T042520
CREATED:20210309T173625Z
LAST-MODIFIED:20210309T173625Z
UID:10002627-1616112000-1616198399@www.salamancalia.es
SUMMARY:Cocina: Lasaña
DESCRIPTION:«Nuestro cocinero Mario nos trae esta receta riquísima y fácil de preparar. Una deliciosa Lasaña. Prepárala en tu casa\, dale tu toque personal y mándanos el resultado. Encontrarás esta actividad en  redes sociales de Salamanca a tope.» \nParticipantes de 14 a 30 años
URL:https://www.salamancalia.es/evento/cocina-lasana/
LOCATION:Online
CATEGORIES:Cursos y Talleres
END:VEVENT
BEGIN:VEVENT
DTSTART;VALUE=DATE:20210319
DTEND;VALUE=DATE:20210320
DTSTAMP:20260426T042520
CREATED:20210309T173940Z
LAST-MODIFIED:20210309T185856Z
UID:10002634-1616112000-1616198399@www.salamancalia.es
SUMMARY:DIY: Grabado con sal II
DESCRIPTION:Participantes de 14 a 30 años
URL:https://www.salamancalia.es/evento/diy-grabado-con-sal-ii/
LOCATION:Online
CATEGORIES:Cursos y Talleres
END:VEVENT
BEGIN:VEVENT
DTSTART;VALUE=DATE:20210319
DTEND;VALUE=DATE:20210321
DTSTAMP:20260426T042520
CREATED:20210316T181618Z
LAST-MODIFIED:20210318T171625Z
UID:10002687-1616112000-1616284799@www.salamancalia.es
SUMMARY:II Congreso diversidad y género en las relaciones de trabajo
DESCRIPTION:Para ver las ponencias accede a la web del evento donde se indican los enlaces para seguir el congreso.
URL:https://www.salamancalia.es/evento/ii-congreso-diversidad-y-genero-en-las-relaciones-de-trabajo/
LOCATION:Online
CATEGORIES:Congresos y Jornadas
END:VEVENT
BEGIN:VEVENT
DTSTART;VALUE=DATE:20210319
DTEND;VALUE=DATE:20210322
DTSTAMP:20260426T042520
CREATED:20210319T100607Z
LAST-MODIFIED:20210319T100607Z
UID:10002710-1616112000-1616371199@www.salamancalia.es
SUMMARY:Mujeres exposición itinerante (Isabel Ruiz)
DESCRIPTION:Viernes: 11:00h a 14:00 h; sábado: 17:00h a 19:00h; domingo 12:30h a 14:30h \nEn el centro cívico de Cantalpino.
URL:https://www.salamancalia.es/evento/mujeres-exposicion-itinerante-isabel-ruiz/
LOCATION:Cantalpino\, Cantalpino\, Salamanca\, España
CATEGORIES:Exposiciones
END:VEVENT
BEGIN:VEVENT
DTSTART;VALUE=DATE:20210319
DTEND;VALUE=DATE:20210418
DTSTAMP:20260426T042520
CREATED:20210322T115349Z
LAST-MODIFIED:20210322T115349Z
UID:10002732-1616112000-1618703999@www.salamancalia.es
SUMMARY:Procesión
DESCRIPTION:Organizada por la Junta Pro Semana Santa de España\, con la colaboración del Ayuntamiento\, a través de las concejalías de Cultura y Turismo \nLa exposición podrá visitarse en el Palacio de Exposiciones y Congresos desde el 19 de marzo al 17 de abril\, de martes a domingo de 11.00 a 14.00 y de 17.00 a 19.30 horas. \nEscenifica un desfile procesional con todos los tramos y segmentos que conlleva una iniciativa religiosa de este tipo. Se trata de un desfile de personajes y maniquíes con vestimentas\, todos ellos  dispuestos como una procesión.
URL:https://www.salamancalia.es/evento/procesion/
LOCATION:Palacio de Congresos y Exposiciones de Castilla y León\, Cuesta de Oviedo\, S/N\, Salamanca\, Salamanca\, 37008\, España
CATEGORIES:Exposiciones
END:VEVENT
BEGIN:VEVENT
DTSTART;TZID=UTC:20210319T170000
DTEND;TZID=UTC:20210319T190000
DTSTAMP:20260426T042520
CREATED:20210319T102841Z
LAST-MODIFIED:20210319T102938Z
UID:10002720-1616173200-1616180400@www.salamancalia.es
SUMMARY:Taller de Ilustración 'Mujeres' (Isabel Ruiz)
DESCRIPTION:El taller de Ilustración (en Cantalpino) complementa la exposición y está dirigido a niños y niñas de 6 a 12 años. Se trata de un componente didáctico\, por ello además de las ilustraciones\, cuenta con esta actividad para desarrollar contenidos y fortalecer el proceso creativo de participantes.
URL:https://www.salamancalia.es/evento/taller-de-ilustracion-mujeres-isabel-ruiz/
LOCATION:Cantalpino\, Cantalpino\, Salamanca\, España
CATEGORIES:Cursos y Talleres,Ocio Infantil
END:VEVENT
BEGIN:VEVENT
DTSTART;TZID=UTC:20210319T193000
DTEND;TZID=UTC:20210319T193000
DTSTAMP:20260426T042520
CREATED:20210309T154524Z
LAST-MODIFIED:20241015T183915Z
UID:10002587-1616182200-1616182200@www.salamancalia.es
SUMMARY:Concierto de Semana Santa 2021
DESCRIPTION:La Banda Municipal de Música realizará este concierto basado en la Pasión a través de marchas procesionales. \nOrganiza: Junta de Semana Santa de Salamanca. \nMás información en la web del evento. \nVenta de entradas: https://culturasalamanca.sacatuentrada.es/es/entradas/concierto-de-semana-santa-2021/2021-03-19
URL:https://www.salamancalia.es/evento/concierto-de-semana-santa-2021/
LOCATION:CAEM\, Avda. de las Artes\, 45-55\, Salamanca\, Salamanca\, 37008\, España
CATEGORIES:Conciertos
END:VEVENT
BEGIN:VEVENT
DTSTART;TZID=UTC:20210319T200000
DTEND;TZID=UTC:20210319T200000
DTSTAMP:20260426T042520
CREATED:20210319T103143Z
LAST-MODIFIED:20241015T183920Z
UID:10002723-1616184000-1616184000@www.salamancalia.es
SUMMARY:El amor es un pájaro rebelde
DESCRIPTION:Versión para dos violonchelos de los momentos más significativos de Carmen de Bizet con lectura de textos de la obra homónima de Prosper Merimée que transportan al espectador a la Sevilla arrabalera del siglo XIX. \nGratuito con aforo limitado.
URL:https://www.salamancalia.es/evento/el-amor-es-un-pajaro-rebelde/
LOCATION:Biblioteca Pública de Salamanca «Casa de las Conchas»\, C/ Compañía\, 2\, Salamanca\, Salamanca\, 37002\, España
CATEGORIES:Conciertos
END:VEVENT
BEGIN:VEVENT
DTSTART;VALUE=DATE:20210320
DTEND;VALUE=DATE:20210321
DTSTAMP:20260426T042520
CREATED:20210309T172701Z
LAST-MODIFIED:20210309T172921Z
UID:10002620-1616198400-1616284799@www.salamancalia.es
SUMMARY:Escape room virtual: tumba misteriosa
DESCRIPTION:Escape room virtual de temática faraónica para edades de 7 a 13 años.
URL:https://www.salamancalia.es/evento/escape-room-virtual-tumba-misteriosa/
LOCATION:Online
CATEGORIES:Juegos,Ocio Infantil
END:VEVENT
BEGIN:VEVENT
DTSTART;VALUE=DATE:20210320
DTEND;VALUE=DATE:20210321
DTSTAMP:20260426T042520
CREATED:20210309T173254Z
LAST-MODIFIED:20210309T173254Z
UID:10002624-1616198400-1616284799@www.salamancalia.es
SUMMARY:Baile: Zumba
DESCRIPTION:Participantes: 14 a 30 años
URL:https://www.salamancalia.es/evento/baile-zumba/
LOCATION:Online
CATEGORIES:Baile y danza
END:VEVENT
BEGIN:VEVENT
DTSTART;VALUE=DATE:20210320
DTEND;VALUE=DATE:20210321
DTSTAMP:20260426T042520
CREATED:20210309T173802Z
LAST-MODIFIED:20210309T173827Z
UID:10002631-1616198400-1616284799@www.salamancalia.es
SUMMARY:Visita virtual Museo Frida Kalo
DESCRIPTION:Participantes de 14 a 30 años
URL:https://www.salamancalia.es/evento/visita-virtual-museo-frida-kalo/
LOCATION:Online
CATEGORIES:Viajes y Excursiones
END:VEVENT
BEGIN:VEVENT
DTSTART;VALUE=DATE:20210320
DTEND;VALUE=DATE:20210531
DTSTAMP:20260426T042520
CREATED:20210324T083925Z
LAST-MODIFIED:20210416T111830Z
UID:10002752-1616198400-1622419199@www.salamancalia.es
SUMMARY:Entorno de Cabrerizos
DESCRIPTION:Iniciativa fotográfica (con móvil) \nPodrán participar todos los aficionados mayores de 12 años que lo deseen. \nLos interesados podrán remitir sus trabajos entre el 20 de marzo y el 30 de mayo. \nMás información en la web del evento (ver más abajo)
URL:https://www.salamancalia.es/evento/entorno-de-cabrerizos/
LOCATION:Salamanca
CATEGORIES:Concursos
END:VEVENT
BEGIN:VEVENT
DTSTART;TZID=UTC:20210320T123000
DTEND;TZID=UTC:20210320T183000
DTSTAMP:20260426T042520
CREATED:20210309T093902Z
LAST-MODIFIED:20210309T155132Z
UID:10002549-1616243400-1616265000@www.salamancalia.es
SUMMARY:Zapatos Nuevos. Tian Gombau-L'home Dibuixat (Castellón)
DESCRIPTION:Teatro infantil (a partir de 4 años). Duración:30 minutos \nUn niño estrena zapatos y se va al río a merendar. Por el camino\, descubre el mundo que lo rodea: calles\, casas\, paisajes\, personas y animales. Suszapatos van acumulando experiencias y él\, poco a poco\, crece. El tamaño de los zapatos nos acompaña en el transcurso de los años. El tamaño mide el pie\, pero también la edad\, las vivencias\, la forma como caminamos por la vida. Pasan los días\, los años y las cajas de zapatos. Pequeñas\, medianas\, grandes… \nInvitaciones en las Bibliotecas Municipales.
URL:https://www.salamancalia.es/evento/zapatos-nuevos-tian-gombau-lhome-dibuixat-castellon/
LOCATION:Biblioteca M. Torrente Ballester\, Paseo de los Olivos 10-22\, Salamanca\, Salamanca\, 37005\, España
CATEGORIES:Ocio Infantil,Teatro / Escena
END:VEVENT
BEGIN:VEVENT
DTSTART;TZID=UTC:20210320T190000
DTEND;TZID=UTC:20210320T190000
DTSTAMP:20260426T042520
CREATED:20210319T100910Z
LAST-MODIFIED:20210319T102242Z
UID:10002712-1616266800-1616266800@www.salamancalia.es
SUMMARY:Vida=Sueño
DESCRIPTION:Con Vida=Sueño se pretende acercar uno de los pilares de la literatura del Siglo de Oro\, al público juvenil y adulto. Todo comienza con una plomiza conferencia sobre la figura de Calderón y las distintas maneras de narrar una misma historia\, para ello el conferenciante requiere la ayuda de una compañía teatral y es ahí cuando la Compañía virtual de Comedias irrumpe y entre ambos y gracias a la vídeo escena y al increíble trabajo de nuestro actor bululú Jaime Soler Huete ponemos en pie la Vida es Sueño. \n\nObra de Calderón de la Barca\, dirigida por David Martínez Sánchez.\n\nEn el Auditorio Comarca de Ledesma.
URL:https://www.salamancalia.es/evento/vidasueno/
LOCATION:Ledesma\, Ledesma\, Salamanca\, España
CATEGORIES:Teatro / Escena
END:VEVENT
BEGIN:VEVENT
DTSTART;TZID=UTC:20210320T193000
DTEND;TZID=UTC:20210320T193000
DTSTAMP:20260426T042520
CREATED:20210309T154851Z
LAST-MODIFIED:20241015T183942Z
UID:10002589-1616268600-1616268600@www.salamancalia.es
SUMMARY:Las criadas
DESCRIPTION:Las hermanas Claire y Solange Lemercier son las criadas de una dama de la alta burguesía francesa. Todas las noches inician una ceremonia perversa\, un ritual donde la realidad y la ficción se mezclan en un juego mortal de cambio de identidades. \nIntérpretes: Ana Torrent\, Alicia Borrachero y Jorge Calvo. \nRed de Teatros de Castilla y León. \nMás información en la web del evento. \nVenta de entradas: https://culturasalamanca.sacatuentrada.es/es/entradas/las-criadas-1/2021-03-20
URL:https://www.salamancalia.es/evento/las-criadas/
LOCATION:Teatro Liceo\, Plaza del Liceo s/n\, Salamanca\, Salamanca\, 37002\, España
CATEGORIES:Teatro / Escena
END:VEVENT
BEGIN:VEVENT
DTSTART;TZID=UTC:20210320T200000
DTEND;TZID=UTC:20210320T200000
DTSTAMP:20260426T042520
CREATED:20210319T101325Z
LAST-MODIFIED:20241015T183947Z
UID:10002713-1616270400-1616270400@www.salamancalia.es
SUMMARY:La Verbena de la Paloma (Ferro Teatro)
DESCRIPTION:La acción se sitúa en los barrios populares madrileños\, durante la festividad de la Virgen de la Paloma. En una calle donde hay una botica y una taberna\, comienzan las intrigas que acontecerán y serán numerosas. En una calle donde hay una botica y una taberna\, Don Hilarión (el boticario)\, y Don Sebastián están sentados apaciblemente a la puerta de la tienda de éste\, mientras Julián\, cajista de imprenta\, sentado en la taberna de enfrente\, no comparte este espíritu y comenta ante la «señá» (señora) Rita\, que es debido a que sospecha que Susana le ha dicho que no va a ir a la verbena\, con el pretexto de poder salir a solas con algún amante\, lo que le da pie a tramar una venganza contra ella… \n\n\nAutor: Tomás Bretón\nDirección Escénica: Cristina Zambrana\nGuión original: Cristina Zambrana\nMaestro pianista: Mihail Studionov\nDirección técnica: Juan Manuel González – Gonzalo Bosque\nIntérpretes: 15 artistas
URL:https://www.salamancalia.es/evento/la-verbena-de-la-paloma-ferro-teatro/
LOCATION:Teatro Nuevo Fernando Arrabal (Ciudad Rodrigo)\, Calle Gigantes\, 22\, Ciudad Rodrigo\, Salamanca\, 37500\, España
CATEGORIES:Teatro / Escena
END:VEVENT
BEGIN:VEVENT
DTSTART;TZID=UTC:20210321T130000
DTEND;TZID=UTC:20210321T130000
DTSTAMP:20260426T042520
CREATED:20210319T103645Z
LAST-MODIFIED:20210322T120753Z
UID:10002725-1616331600-1616331600@www.salamancalia.es
SUMMARY:Concierto Impresiones (Trío Clepsidra)
DESCRIPTION:El impresionismo\, término que comenzó a utilizarse asociado a la pintura\, define también a la música de finales del XIX y se caracteriza por una mayor libertad y experimentación. El Trío Clepsidra explora el atractivo y original repertorio existente para arpa\, viola y flauta travesera en sus múltiples posibilidades. \nGratuita con aforo limitado.
URL:https://www.salamancalia.es/evento/concierto-impresiones-trio-clepsidra/
LOCATION:Biblioteca Pública de Salamanca «Casa de las Conchas»\, C/ Compañía\, 2\, Salamanca\, Salamanca\, 37002\, España
CATEGORIES:Conciertos
END:VEVENT
BEGIN:VEVENT
DTSTART;TZID=UTC:20210321T180000
DTEND;TZID=UTC:20210321T180000
DTSTAMP:20260426T042520
CREATED:20210309T155523Z
LAST-MODIFIED:20241015T183951Z
UID:10002590-1616349600-1616349600@www.salamancalia.es
SUMMARY:El Principito Freak Show (Animarts)
DESCRIPTION:Recomendado para niños a partir de 5 años. \nEl Principito Freak show es una adaptación del famoso libro francés\, un espectáculo que\, a través de la comedia\, imparte valores a los más pequeños de la casa\, a través de la diversión\, el humor\, el juego y sus personajes. Los niños disfrutan de un espectáculo de teatro musical… más información en la web del evento. \nDirector: Alejandro Alonso. \nAutor: Antoine de Saint-Exupéry. \nEntrada con invitación.
URL:https://www.salamancalia.es/evento/el-principito-freak-show-animarts/
LOCATION:Auditorio San Blas\, Cuesta de San Blas\, s/n\, Salamanca\, Salamanca\, 37002\, España
CATEGORIES:Ocio Infantil,Teatro / Escena
END:VEVENT
BEGIN:VEVENT
DTSTART;TZID=UTC:20210321T193000
DTEND;TZID=UTC:20210321T193000
DTSTAMP:20260426T042520
CREATED:20210309T155919Z
LAST-MODIFIED:20241015T183955Z
UID:10002592-1616355000-1616355000@www.salamancalia.es
SUMMARY:José Antonio López\, Isabel Monar y Vicente David Martín (Barítono\, Soprano y Piano)
DESCRIPTION:El barítono José Antonio López y la soprano Isabel Monar\, acompañados por el pianista Vicente David Martín\, interpretarán piezas para canto y piano de los siglos XIX y XX de Mendelssohn\, Schumann\, Brahms\, Berlioz\, Chausson\, Saint-Saëns\, Fauré\, Poulenc\, Quilter y Vaughan Williams… más información en la web del evento. \nVenta de entradas: https://culturasalamanca.sacatuentrada.es/es/entradas/ix-ciclo-de-conciertos-de-camara-y-solistas/2021-03-21
URL:https://www.salamancalia.es/evento/jose-antonio-lopez-isabel-monar-y-vicente-david-martin-baritono-soprano-y-piano/
LOCATION:Teatro Liceo\, Plaza del Liceo s/n\, Salamanca\, Salamanca\, 37002\, España
CATEGORIES:Conciertos
END:VEVENT
BEGIN:VEVENT
DTSTART;VALUE=DATE:20210322
DTEND;VALUE=DATE:20210326
DTSTAMP:20260426T042520
CREATED:20210318T084959Z
LAST-MODIFIED:20210318T085047Z
UID:10002538-1616371200-1616716799@www.salamancalia.es
SUMMARY:Semana del Japón
DESCRIPTION:Actividades por la semana del Japón: cultura\, sensibilidad e imagen.
URL:https://www.salamancalia.es/evento/semana-del-japon/
LOCATION:Online
CATEGORIES:Congresos y Jornadas
END:VEVENT
BEGIN:VEVENT
DTSTART;TZID=UTC:20210322T193000
DTEND;TZID=UTC:20210322T193000
DTSTAMP:20260426T042520
CREATED:20210311T120836Z
LAST-MODIFIED:20241015T184031Z
UID:10002667-1616441400-1616441400@www.salamancalia.es
SUMMARY:Los músicos de su alteza
DESCRIPTION:SALAMANCA BARROCA 20/21 \nLos músicos de su alteza: Veritas-Vanitas. \nEmoción\, frescura y rigor histórico forman su divisa. Una justa mezcla de investigación\, intuición e imaginación sirve a Los Músicos de Su Alteza para convertir\, desde el máximo respeto a la obra de los grandes maestros de siglos pasados\, la vieja escritura muerta en música viva. \nMás información en la web del evento.
URL:https://www.salamancalia.es/evento/los-musicos-de-su-alteza/
LOCATION:Auditorio de la Hospedería Fonseca\, Calle Fonseca\, 4\, Salamanca\, Salamanca\, 37002\, España
CATEGORIES:Conciertos
END:VEVENT
BEGIN:VEVENT
DTSTART;TZID=UTC:20210323T080000
DTEND;TZID=UTC:20210323T170000
DTSTAMP:20260426T042520
CREATED:20210323T112642Z
LAST-MODIFIED:20241016T095849Z
UID:10002552-1616486400-1616518800@www.salamancalia.es
SUMMARY:Claire Huangci
DESCRIPTION:La joven pianista estadounidense de ascendencia china Claire Huangci fue ganadora del Primer Premio y Premio Mozart de la Competencia Geza Anda. \nEn el concierto interpretará dos tocatas de J. S. Bach (BWV 911 y BWV 912)\, Hirtengesang de la sinfonía pastoral de Beethoven/Liszt\, Sonata nº 19 en do menor D 958 de Franz Schubert y cinco Danzas Húngaras de Johannes Brahms. \n 
URL:https://www.salamancalia.es/evento/claire-huangci/
LOCATION:Teatro Liceo\, Plaza del Liceo s/n\, Salamanca\, Salamanca\, 37002\, España
CATEGORIES:Conciertos
END:VEVENT
BEGIN:VEVENT
DTSTART;TZID=UTC:20210325T180000
DTEND;TZID=UTC:20210325T180000
DTSTAMP:20260426T042520
CREATED:20210309T094226Z
LAST-MODIFIED:20210309T155142Z
UID:10002557-1616695200-1616695200@www.salamancalia.es
SUMMARY:Cine mudo. La historia de un invento para contar historias
DESCRIPTION:Chema Corvo\, Alicia Garrudo y Alba Frenchilla (Salamanca). \nChema y Alicia han heredado de su tía Alejandrina un enorme edificio ruinoso. \n¿Qué fue este sitio? ¿Una sala de Fiestas? ¿Un Teatro?… ¡Oh sorpresa! Chema se sienta al piano y suena perfectamente. \nUna extraña señora\, Alice Guy\, con aspecto y ropas de hace siglo y medio\, aparece con una flauta travesera. Guy será la encargada de aclararles que ese salón era… UN CINE y les mostrará el comienzo del cine y algunas joyas del mejor cine de todos los tiempos.
URL:https://www.salamancalia.es/evento/cine-mudo-la-historia-de-un-invento-para-contar-historias/
LOCATION:Paseo de los Olivos 10-22\, Salamanca\, Salamanca\, 37005\, España
CATEGORIES:Cine,Teatro / Escena
END:VEVENT
BEGIN:VEVENT
DTSTART;TZID=UTC:20210325T180000
DTEND;TZID=UTC:20210325T190000
DTSTAMP:20260426T042520
CREATED:20210318T085558Z
LAST-MODIFIED:20210318T085558Z
UID:10002540-1616695200-1616698800@www.salamancalia.es
SUMMARY:I Jornada online Abordaje multidisciplinar de Fibromialgia y Síndrome de Fatiga Crónica
DESCRIPTION:II Webinar Fibromialgia – Síndrome de fatiga crónica
URL:https://www.salamancalia.es/evento/i-jornada-online-abordaje-multidisciplinar-de-fibromialgia-y-sindrome-de-fatiga-cronica/
LOCATION:Online
CATEGORIES:Congresos y Jornadas
END:VEVENT
END:VCALENDAR