BEGIN:VCALENDAR
VERSION:2.0
PRODID:-//Agenda cultural y eventos de ocio en Salamanca - ECPv6.15.20//NONSGML v1.0//EN
CALSCALE:GREGORIAN
METHOD:PUBLISH
X-WR-CALNAME:Agenda cultural y eventos de ocio en Salamanca
X-ORIGINAL-URL:https://www.salamancalia.es
X-WR-CALDESC:Eventos para Agenda cultural y eventos de ocio en Salamanca
REFRESH-INTERVAL;VALUE=DURATION:PT1H
X-Robots-Tag:noindex
X-PUBLISHED-TTL:PT1H
BEGIN:VTIMEZONE
TZID:UTC
BEGIN:STANDARD
TZOFFSETFROM:+0000
TZOFFSETTO:+0000
TZNAME:UTC
DTSTART:20200101T000000
END:STANDARD
END:VTIMEZONE
BEGIN:VEVENT
DTSTART;VALUE=DATE:20210303
DTEND;VALUE=DATE:20210328
DTSTAMP:20260426T004555
CREATED:20210309T091752Z
LAST-MODIFIED:20210309T165820Z
UID:10002536-1614729600-1616889599@www.salamancalia.es
SUMMARY:Inspirados por la MusSA. Jornadas de música creada en Salamanca
DESCRIPTION:Un recorrido por la música hecha en Salamanca\, a través de las portadas de los discos de los distintos músicos de la ciudad\, fotografías de sus conciertos y de algunos desus instrumentos musicales con “historia”. \nHorario: de 11’00 a 14’00 h. y de 18’00 a cierre excepto sábados tarde y festivos \nLugar: Sala de exposiciones de la Biblioteca M. Torrente Ballester
URL:https://www.salamancalia.es/evento/inspirados-por-la-mussa-jornadas-de-musica-creada-en-salamanca/
LOCATION:Biblioteca M. Torrente Ballester\, Paseo de los Olivos 10-22\, Salamanca\, Salamanca\, 37005\, España
CATEGORIES:Exposiciones
END:VEVENT
BEGIN:VEVENT
DTSTART;VALUE=DATE:20210304
DTEND;VALUE=DATE:20210405
DTSTAMP:20260426T004555
CREATED:20210319T095332Z
LAST-MODIFIED:20241015T183749Z
UID:10002543-1614816000-1617580799@www.salamancalia.es
SUMMARY:Xu Hongfei
DESCRIPTION:Xu Hongfei es un reconocido escultor nativo de Yangjiang a quien la ciudad de Salamanca considera Huésped Distinguido desde 2019. Esta vez\, la muestra escultórica abre la celebración del Año del Toro y las figuras están ubicadas en la Plaza Mayor\, Plaza del Liceo y el Patio de La Salina. El Patio acoge a ‘Alegría’ y ‘Fuerza’\, dos obras de gran tamaño compuesta en fibra de vidrio\, que se exponen para el disfrute de los visitantes.
URL:https://www.salamancalia.es/evento/xu-hongfei/
LOCATION:Palacio de la Salina\, Calle San Pablo\, 18\, Salamanca\, Salamanca\, 37001\, España
CATEGORIES:Exposiciones
END:VEVENT
BEGIN:VEVENT
DTSTART;VALUE=DATE:20210305
DTEND;VALUE=DATE:20210306
DTSTAMP:20260426T004555
CREATED:20210304T184225Z
LAST-MODIFIED:20210304T185523Z
UID:10002529-1614902400-1614988799@www.salamancalia.es
SUMMARY:Juego interactivo: Kahoot
DESCRIPTION:Juego para poner a prueba tus conocimientos sobre los grupos de música internacional más prometedores del último año\, a través de la herramienta Kahoot. \nParticipante de 14 a 30 años.
URL:https://www.salamancalia.es/evento/juego-interactivo-kahoot/
LOCATION:Online
CATEGORIES:Juegos
END:VEVENT
BEGIN:VEVENT
DTSTART;VALUE=DATE:20210306
DTEND;VALUE=DATE:20210627
DTSTAMP:20260426T004555
CREATED:20210309T182941Z
LAST-MODIFIED:20210309T182941Z
UID:10002514-1614988800-1624751999@www.salamancalia.es
SUMMARY:Cursos de golf
DESCRIPTION:Precios: Comunidad Universitaria 42 €. Asociados Alumni 52 €.
URL:https://www.salamancalia.es/evento/cursos-de-golf/
LOCATION:Salas Bajas\, Puente de Sánchez Fabrés\, s/n\, Salamanca\, Salamanca\, 37008\, España
CATEGORIES:Cursos y Talleres
END:VEVENT
BEGIN:VEVENT
DTSTART;VALUE=DATE:20210308
DTEND;VALUE=DATE:20210323
DTSTAMP:20260426T004555
CREATED:20210309T103849Z
LAST-MODIFIED:20210309T155025Z
UID:10002560-1615161600-1616457599@www.salamancalia.es
SUMMARY:olvidadAs: retratos de mujeres artistas
DESCRIPTION:Exposición: retratos de mujeres artistas. \nLugar: zona de esparcimiento Campus Ciudad Jardín (junto a cafetería).
URL:https://www.salamancalia.es/evento/olvidadas-retratos-de-mujeres-artistas/
LOCATION:Facultad de Psicología USAL\, Avda. de la Merced 109-131\, Salamanca\, Salamanca\, 37005\, España
CATEGORIES:Exposiciones
END:VEVENT
BEGIN:VEVENT
DTSTART;VALUE=DATE:20210308
DTEND;VALUE=DATE:20210401
DTSTAMP:20260426T004555
CREATED:20210309T124801Z
LAST-MODIFIED:20210309T155032Z
UID:10002574-1615161600-1617235199@www.salamancalia.es
SUMMARY:Las Oportunidades de la Edad: Mujeres Sabias
DESCRIPTION:Exposición fotográfica ‘Las Oportunidades de la Edad: Mujeres Sabias’\, cedida por el Instituto de la Mujer\, perteneciente al Ministerio de Sanidad\, Política Social e Igualdad. Está compuesta por 26 fotografías y pretende sensibilizar sobre el papel activo que\, dentro del ámbito económico social y cultural\, desempeñan las mujeres mayores de 60 años.
URL:https://www.salamancalia.es/evento/las-oportunidades-de-la-edad-mujeres-sabias/
LOCATION:Centro Municipal Integrado Julián Sánchez el Charro\, Plaza de la Concordia s/n\, Salamanca\, Salamanca\, 37005\, España
CATEGORIES:Exposiciones
END:VEVENT
BEGIN:VEVENT
DTSTART;TZID=UTC:20210308T080000
DTEND;TZID=UTC:20210322T140000
DTSTAMP:20260426T004555
CREATED:20210317T102711Z
LAST-MODIFIED:20241015T183754Z
UID:10002532-1615190400-1616421600@www.salamancalia.es
SUMMARY:Concurso municipal de escaparates decorados con la temática de la Semana Santa 2021
DESCRIPTION:El Ayuntamiento\, a través de la Concejalía de Promoción Económica\, Comercio y Mercados\, convoca un concurso municipal de escaparates decorados con la temática de la Semana Santa 2021. \nPodrán participar todos los establecimientos comerciales de la ciudad de Salamanca. Deberán permanecer decorados como mínimo desde el 27 de marzo hasta el 5 de abril de 2021. Premios de 2.500\, 1.500 y 700 euros para los tres primeros galardonados\, cuya dotación económica se destinará a la adquisición de equipamiento tecnológico. \nMás información en la web del evento (ver más abajo) y en las bases del concurso.
URL:https://www.salamancalia.es/evento/concurso-municipal-de-escaparates-decorados-con-la-tematica-de-la-semana-santa-2021/
LOCATION:Salamanca
CATEGORIES:Concursos
END:VEVENT
BEGIN:VEVENT
DTSTART;VALUE=DATE:20210309
DTEND;VALUE=DATE:20210401
DTSTAMP:20260426T004555
CREATED:20210309T175646Z
LAST-MODIFIED:20210309T180202Z
UID:10002638-1615248000-1617235199@www.salamancalia.es
SUMMARY:Cuéntame un cuento (V edición)
DESCRIPTION:El Centro de Estudios Brasileños de la Universidad de Salamanca convoca la quinta edición de su concurso de relato breve “Cuéntame un cuento”. Con el objetivo de incentivar la divulgación científica sobre/en Brasil\, esta nueva edición cuenta con la colaboración del Museu da Vida de la Fundação Oswaldo Cruz (Río de Janeiro). \nMás información en la web del evento.
URL:https://www.salamancalia.es/evento/cuentame-un-cuento-v-edicion/
LOCATION:Online
CATEGORIES:Concursos
END:VEVENT
BEGIN:VEVENT
DTSTART;VALUE=DATE:20210309
DTEND;VALUE=DATE:20210620
DTSTAMP:20260426T004555
CREATED:20210319T095649Z
LAST-MODIFIED:20210319T095649Z
UID:10002544-1615248000-1624147199@www.salamancalia.es
SUMMARY:Premio 'Villar y Macías' 2021
DESCRIPTION:El Centro de Estudios Salmantinos convoca un año más al Premio ‘Villar y Macías’ al que podrán optar aquellos trabajos de investigación que versen sobre temas salmantinos\, en cualquiera de los campos del saber\, según consta en las bases del mismo. \nMás información: http://www.centrodeestudiossalmantinos.es/FichaPublicacion?pid=ffe3522aae354257
URL:https://www.salamancalia.es/evento/premio-villar-y-macias-2021/
LOCATION:Salamanca
CATEGORIES:Concursos
END:VEVENT
BEGIN:VEVENT
DTSTART;VALUE=DATE:20210310
DTEND;VALUE=DATE:20210313
DTSTAMP:20260426T004555
CREATED:20210304T110438Z
LAST-MODIFIED:20210309T155036Z
UID:10002520-1615334400-1615593599@www.salamancalia.es
SUMMARY:XI Congreso de Igualdad de la Universidad de Salamanca
DESCRIPTION:Enseñar en igualdad de género: aspectos multidisciplinares \nEl encuentro científico tendrá lugar de manera íntegramente online\, a través de las herramientas habilitadas por el Estudio salmantino. Se enmarca en la necesidad de incorporar los estudios de igualdad y género al ámbito de las enseñanzas universitarias españolas y supone la continuación de los congresos realizados en las diez anteriores ediciones. \nLa actividad tiene carácter gratuito\, gracias a la financiación del Instituto de la Mujer y para la Igualdad de Oportunidades. Toda la información referente a la actividad\, así como el enlace de inscripción\, se encuentra disponible a través de la web. \n 
URL:https://www.salamancalia.es/evento/xi-congreso-de-igualdad-de-la-universidad-de-salamanca/
LOCATION:Online
CATEGORIES:Congresos y Jornadas
END:VEVENT
BEGIN:VEVENT
DTSTART;VALUE=DATE:20210310
DTEND;VALUE=DATE:20210515
DTSTAMP:20260426T004555
CREATED:20210319T100131Z
LAST-MODIFIED:20210319T100305Z
UID:10002700-1615334400-1621036799@www.salamancalia.es
SUMMARY:Concurso nacional de Canción de Cámara Rutas de Alba
DESCRIPTION:Festival de música vocal Rutas de Alba.\nSe convoca al I Concurso Nacional de Canción de Cámara ‘Rutas de Alba’\, enmarcado en el Festival del mismo nombre que se celebra en la Villa de Alba de Tormes. Creado como lugar de encuentro para los amantes de la Canción de Cámara\, repertorio que representa una de las cimas de la cultura europea\, se pretende dotar al concurso de un cierto sentido didáctico y pedagógico que estimule la participación de jóvenes músicos promoviendo este repertorio dentro de su formación. \nMás información en la web del evento (ver más abajo) \n 
URL:https://www.salamancalia.es/evento/concurso-nacional-de-cancion-de-camara-rutas-de-alba/
LOCATION:Salamanca
CATEGORIES:Concursos
END:VEVENT
BEGIN:VEVENT
DTSTART;VALUE=DATE:20210311
DTEND;VALUE=DATE:20210318
DTSTAMP:20260426T004555
CREATED:20210317T105441Z
LAST-MODIFIED:20241015T183819Z
UID:10002535-1615420800-1616025599@www.salamancalia.es
SUMMARY:Cursos de Inglés para Jóvenes Semana Santa 2021
DESCRIPTION:La Junta de Castilla y León convoca el programa «Cursos de Inglés para Jóvenes Semana Santa 2021» y establece las condiciones de participación\, con un total de 48 plazas. Los cursos dispondrán de los siguientes servicios: \n\nUn programa de cursos de inglés ONLINE utilizando aulas virtuales en donde se plantearán foros de debate\, talleres lingüísticos\, horarios de tutoría para aprovechar óptimamente todos los recursos disponibles.\nEquipo de profesores nativos y titulados en lengua inglesa.\nMaterial necesario para el desarrollo de la actividad.\n\n  \nDirigido a jóvenes entre 14 y 30 años que reúnan los requisitos.
URL:https://www.salamancalia.es/evento/cursos-de-ingles-para-jovenes-semana-santa-2021/
LOCATION:Salamanca
CATEGORIES:Cursos y Talleres
END:VEVENT
BEGIN:VEVENT
DTSTART;VALUE=DATE:20210311
DTEND;VALUE=DATE:20210616
DTSTAMP:20260426T004555
CREATED:20210319T103959Z
LAST-MODIFIED:20210319T104039Z
UID:10002728-1615420800-1623801599@www.salamancalia.es
SUMMARY:Libro de Octubre 2021
DESCRIPTION:El Ayuntamiento de Alba de Tormes hace un llamamiento a todos los vecinos de su término municipal a fin de que participen en la elaboración del libro que tradicionalmente se edita en octubre con motivo de la celebración de las fiestas de Santa Teresa de Jesús. \nEl libro es ya una tradición de más de 30 años y se ha convertido en un coleccionable donde queda reflejada gran parte de la historia de la Villa Ducal.
URL:https://www.salamancalia.es/evento/libro-de-octubre-2021/
LOCATION:Salamanca
CATEGORIES:Concursos
END:VEVENT
BEGIN:VEVENT
DTSTART;TZID=UTC:20210311T180000
DTEND;TZID=UTC:20210311T180000
DTSTAMP:20260426T004555
CREATED:20210309T092346Z
LAST-MODIFIED:20210309T155042Z
UID:10002539-1615485600-1615485600@www.salamancalia.es
SUMMARY:César Tejero Trío
DESCRIPTION:Sonidos balsámicos\, tiernos\, sugerentes\, delicados\, atávicos… Sonidos enérgicos\, abruptos\, silencios sorpresivos y marcadas dinámicas\, se entretejen creando un lenguaje propio. Sonidos que invitan al oyente a viajar por atmósferas que nos transportan en el tiempo\, nos trasladan por diversas latitudes y estimulan la imaginación hacia paisajes evocadores y oníricos. \nLugar: Teatro de la Biblioteca M. Torrente Ballester (Invitaciones en las Bibliotecas Municipales)
URL:https://www.salamancalia.es/evento/cesar-tejero-trio/
LOCATION:Biblioteca M. Torrente Ballester\, Paseo de los Olivos 10-22\, Salamanca\, Salamanca\, 37005\, España
CATEGORIES:Conciertos
END:VEVENT
BEGIN:VEVENT
DTSTART;VALUE=DATE:20210312
DTEND;VALUE=DATE:20210313
DTSTAMP:20260426T004555
CREATED:20210304T184751Z
LAST-MODIFIED:20210304T185516Z
UID:10002531-1615507200-1615593599@www.salamancalia.es
SUMMARY:Escape room virtual: el ladrón
DESCRIPTION:Escape room virtual. Encontrarás esta actividad en las redes sociales e Salamanca a tope. \nParticipantes de 14 a 30 años.
URL:https://www.salamancalia.es/evento/escape-room-virtual-el-ladron/
LOCATION:Online
CATEGORIES:Juegos
END:VEVENT
BEGIN:VEVENT
DTSTART;VALUE=DATE:20210312
DTEND;VALUE=DATE:20210413
DTSTAMP:20260426T004555
CREATED:20210322T120525Z
LAST-MODIFIED:20210322T120552Z
UID:10002736-1615507200-1618271999@www.salamancalia.es
SUMMARY:Vacunando\, ¡Dos y sumando!
DESCRIPTION:La exposición es una muestra basada en el libro “Vacunando ¡Dos siglos y sumando!” que ilustra de manera divulgativa la evolución de las vacunas y responde a las dudas más frecuentes que surgen sobre ellas. \nEl libro es una obra de Raquel Carnero y Luis Marcos\, con ilustraciones de Íñigo Ansola y publicado por Ediciones Universidad de Salamanca\, que ha servido de base para la creación de una exposición que llega en un momento en el que la vacunación forma parte de la actualidad informativa más que en mucho tiempo. \nLa exposición informativa está ubicada en la planta baja del Centro Comercial El Tormes y consta de nueve paneles que abordan los temas más relevantes del libro.
URL:https://www.salamancalia.es/evento/vacunando-dos-y-sumando/
LOCATION:Centro Comercial El Tormes\, Avenida de Salamanca s/n\, Santa Marta de Tormes\, Salamanca\, 37900\, España
CATEGORIES:Exposiciones
END:VEVENT
BEGIN:VEVENT
DTSTART;VALUE=DATE:20210312
DTEND;VALUE=DATE:20210912
DTSTAMP:20260426T004555
CREATED:20210317T104701Z
LAST-MODIFIED:20241015T183824Z
UID:10002533-1615507200-1631404799@www.salamancalia.es
SUMMARY:Arte Joven: Jóvenes Artistas de Castilla y León
DESCRIPTION:¡Ampliado plazo hasta el 11 de septiembre!  \nSi ya presentaste solicitud de participación con anterioridad\, podrás presentar mejoras o nueva obra (quedará sin efecto la anterior). \nEl Programa de Arte Joven cuyo pilar básico son los Premios “Arte Joven: Jóvenes Artistas de Castilla y León”\, tiene como fin fomentar la promoción artística y cultural y facilitar la autonomía y el acceso al mundo laboral de aquellos jóvenes que quieren orientar su futuro en la práctica de cualquier disciplina artística. Y presta también atención a la divulgación del arte y el acercamiento de todos los jóvenes castellanos y leoneses que\, sin ser artistas\, están interesados en el tema. \nLa Consejería de Familia e Igualdad de Oportunidades\, a través del Instituto de la Juventud de Castilla y León\, ha convocado una nueva edición de los premios ‘Arte Joven’: Programa Arte Joven: Jóvenes Artistas en Castilla y León 2021 \nSu finalidad es premiar la creación artística y promocionar la obra de jóvenes artistas en las siguientes áreas: artes escénicas y cinematografía\, artes plásticas y visuales\, letras jóvenes\, música\, gastronomía\, diseño de moda y diseño gráfico. \nDirigido a jóvenes con edades comprendidas entre 16 y 30 años. Pueden haber nacido en Castilla y León\, estar empadronados en la Comunidad o ser descendientes de castellanos y leoneses.
URL:https://www.salamancalia.es/evento/arte-joven-jovenes-artistas-de-castilla-y-leon/
LOCATION:Salamanca
CATEGORIES:Concursos
END:VEVENT
BEGIN:VEVENT
DTSTART;TZID=UTC:20210312T200000
DTEND;TZID=UTC:20210312T200000
DTSTAMP:20260426T004555
CREATED:20210311T162321Z
LAST-MODIFIED:20210311T162321Z
UID:10002685-1615579200-1615579200@www.salamancalia.es
SUMMARY:María "La Jabalina"
DESCRIPTION:Compañía Hongaresa. \nEspectáculo para adultos. \nEspectáculo creado a partir de la vida de la miliciana anarquista María “La Jabalina” nacida en Puerto de Sagunto y última mujer fusilada por el franquismo. Los documentos y testimonios históricos permiten rastrear su vida\, desvelándose un periplo vital propio de los personajes trágicos… más información en la web del evento. \nEntrada libre hasta completar aforo. \n* Uso obligatorio de mascarilla y cumplimiento de las medidas de seguridad.
URL:https://www.salamancalia.es/evento/maria-la-jabalina/
LOCATION:Biblioteca Pública de Salamanca «Casa de las Conchas»\, C/ Compañía\, 2\, Salamanca\, Salamanca\, 37002\, España
CATEGORIES:Teatro / Escena
END:VEVENT
BEGIN:VEVENT
DTSTART;VALUE=DATE:20210313
DTEND;VALUE=DATE:20210314
DTSTAMP:20260426T004555
CREATED:20210309T172844Z
LAST-MODIFIED:20210309T173000Z
UID:10002622-1615593600-1615679999@www.salamancalia.es
SUMMARY:Juego interactivo: Quiz reptiles
DESCRIPTION:Demuestra todo lo que sabes sobre los reptiles\, los animales que más se parecen a los dinosaurios. Serpientes\, cocodrilos\, caimanes\, tortugas y muchos animales más acechan detrás de las preguntas. A por ello. Encontrarás esta actividad en nuestras redes sociales. \nParticipantes de 7 a 13 años.
URL:https://www.salamancalia.es/evento/juego-interactivo-quiz-reptiles/
LOCATION:Online
CATEGORIES:Juegos,Ocio Infantil
END:VEVENT
BEGIN:VEVENT
DTSTART;VALUE=DATE:20210313
DTEND;VALUE=DATE:20210314
DTSTAMP:20260426T004555
CREATED:20210309T174127Z
LAST-MODIFIED:20210309T174248Z
UID:10002635-1615593600-1615679999@www.salamancalia.es
SUMMARY:Videotutorial: estiramientos II
DESCRIPTION:Participantes de 14 a 30 años
URL:https://www.salamancalia.es/evento/videotutorial-estiramientos-ii/
LOCATION:Online
CATEGORIES:Deportes
END:VEVENT
BEGIN:VEVENT
DTSTART;VALUE=DATE:20210313
DTEND;VALUE=DATE:20210315
DTSTAMP:20260426T004555
CREATED:20210304T182915Z
LAST-MODIFIED:20210304T185511Z
UID:10002523-1615593600-1615766399@www.salamancalia.es
SUMMARY:Taller Intensivo de Teoría Teatral
DESCRIPTION:Curso de Teoría teatral donde aprender a analizar los infinitos entresijos y posibilidades que los textos teatrales esconden.
URL:https://www.salamancalia.es/evento/taller-intensivo-de-teoria-teatral/
LOCATION:laBulé\, Plaza San Boal\, 15\, Salamanca\, España
CATEGORIES:Cursos y Talleres,Teatro / Escena
END:VEVENT
BEGIN:VEVENT
DTSTART;TZID=UTC:20210313T120000
DTEND;TZID=UTC:20210313T120000
DTSTAMP:20260426T004555
CREATED:20210309T092732Z
LAST-MODIFIED:20210309T155049Z
UID:10002542-1615636800-1615636800@www.salamancalia.es
SUMMARY:Encuentro con la ilustradora Leticia Ruifernández
DESCRIPTION:«Yo voy soñando caminos».  Encuentro con la ilustradora Leticia Ruifernández\nEncuentros con los lectores. \nLa ilustradora Leticia Ruifernández vendrá a contarnos cómo ha sido el proceso creativo de Yo voy soñando caminos\, la antología de textos de Machado realizada por Antonio Rodríguez Almodóvar y con epílogo de Julio Llamazares.
URL:https://www.salamancalia.es/evento/encuentro-con-la-ilustradora-leticia-ruifernandez/
LOCATION:Biblioteca M. Torrente Ballester\, Paseo de los Olivos 10-22\, Salamanca\, Salamanca\, 37005\, España
CATEGORIES:Presentaciones
END:VEVENT
BEGIN:VEVENT
DTSTART;TZID=UTC:20210313T170000
DTEND;TZID=UTC:20210313T170000
DTSTAMP:20260426T004555
CREATED:20210310T104108Z
LAST-MODIFIED:20210310T104806Z
UID:10002521-1615654800-1615654800@www.salamancalia.es
SUMMARY:Masterclass de Dancehall en directo
DESCRIPTION:Masterclass de Dancehall en directo\, con motivo del 20 ANIVERSARIO de la Academia de Baile Raquel Gómez. \nEn directo en el perfil https://www.instagram.com/acbaile_raquelgomez/ \nMás información en la web del evento.
URL:https://www.salamancalia.es/evento/masterclass-de-dancehall-en-directo/
LOCATION:Online
CATEGORIES:Baile y danza,Cursos y Talleres
END:VEVENT
BEGIN:VEVENT
DTSTART;TZID=UTC:20210313T180000
DTEND;TZID=UTC:20210313T180000
DTSTAMP:20260426T004555
CREATED:20210309T093103Z
LAST-MODIFIED:20210309T155054Z
UID:10002545-1615658400-1615658400@www.salamancalia.es
SUMMARY:Soñando Dulcinea. La Befana (Salamanca)
DESCRIPTION:Teatro para adultos. \nLa pluma de Cervantes nos regaló a este personaje que ya sin remedio forma parte de nuestro imaginario sobre el amor. Don Quijote la deseó\, la amó de forma incondicional; transformó a la mujer sencilla\, elevándola a la categoría de princesa\, de señora que todo caballero desearía tener a su lado\, batiéndose\, incluso\, en duelo por defender su nombre y su honor.
URL:https://www.salamancalia.es/evento/sonando-dulcinea-la-befana-salamanca/
LOCATION:Biblioteca M. Torrente Ballester\, Paseo de los Olivos 10-22\, Salamanca\, Salamanca\, 37005\, España
CATEGORIES:Teatro / Escena
END:VEVENT
BEGIN:VEVENT
DTSTART;TZID=UTC:20210313T193000
DTEND;TZID=UTC:20210313T193000
DTSTAMP:20260426T004555
CREATED:20210309T152640Z
LAST-MODIFIED:20241015T183828Z
UID:10002575-1615663800-1615663800@www.salamancalia.es
SUMMARY:Don Quijote somos todos
DESCRIPTION:Don Quijote somos todos narra los esfuerzos de un pueblo manchego\, de cuyo nombre nadie se acuerda\, por no desaparecer para siempre. Abandonado en medio de la España vacía\, con malas comunicaciones y escasos servicios\, su único patrimonio está en su pasado: ser la cuna del más famoso caballero andante\, el ingenioso don Quijote de la Mancha. \nMás información en la web del evento. \nVenta de entradas: https://culturasalamanca.sacatuentrada.es/es/entradas/don-quijote-somos-todos-2
URL:https://www.salamancalia.es/evento/don-quijote-somos-todos/
LOCATION:Teatro Liceo\, Plaza del Liceo s/n\, Salamanca\, Salamanca\, 37002\, España
CATEGORIES:Teatro / Escena
END:VEVENT
BEGIN:VEVENT
DTSTART;TZID=UTC:20210313T193000
DTEND;TZID=UTC:20210313T193000
DTSTAMP:20260426T004555
CREATED:20210309T153605Z
LAST-MODIFIED:20241016T095821Z
UID:10002577-1615663800-1615663800@www.salamancalia.es
SUMMARY:Marwan. El viejo boxeador
DESCRIPTION:El boca a boca y su trabajo incesante como artista independiente fueron los que han llevado a Marwan a ser una de las principales voces de la canción de autor en España y Latinoamérica. Su último disco El viejo boxeador (2020). está compuesto por diez canciones. \nMás información en la web del evento. \nVenta de entradas: https://culturasalamanca.sacatuentrada.es/es/entradas/marwan-1/2021-03-13
URL:https://www.salamancalia.es/evento/marwan-el-viejo-boxeador/
LOCATION:CAEM\, Avda. de las Artes\, 45-55\, Salamanca\, Salamanca\, 37008\, España
CATEGORIES:Conciertos
END:VEVENT
BEGIN:VEVENT
DTSTART;TZID=UTC:20210313T193000
DTEND;TZID=UTC:20210313T193000
DTSTAMP:20260426T004555
CREATED:20210311T120006Z
LAST-MODIFIED:20210311T170201Z
UID:10002655-1615663800-1615663800@www.salamancalia.es
SUMMARY:Arturo Serra Quintet
DESCRIPTION:Arturo Serra\, vibráfono\nAntonio Gonzalez\, saxo alto\nBori Albero\, contrabajo\nJuan Galiardo\, piano\nSanti Colomer\, batería
URL:https://www.salamancalia.es/evento/arturo-serra-quintet/
LOCATION:Teatro Juan del Enzina\, Calle Tostado\, 8\, Salamanca\, Salamanca\, 37008\, España
CATEGORIES:Conciertos
END:VEVENT
BEGIN:VEVENT
DTSTART;TZID=UTC:20210313T200000
DTEND;TZID=UTC:20210313T200000
DTSTAMP:20260426T004555
CREATED:20210309T100440Z
LAST-MODIFIED:20210309T155109Z
UID:10002559-1615665600-1615665600@www.salamancalia.es
SUMMARY:Max Verié con versos y otros misterios
DESCRIPTION:El campeón nacional de mentalismo Max Verdié regresa para presentar las experiencias privadas y televisivas de su visión poética del ilusionismo psicológico y la hipnosis. El misterio de los enigmas mentales junto a la belleza del asombro
URL:https://www.salamancalia.es/evento/max-verie-con-versos-y-otros-misterios/
LOCATION:almargen\, Avenida de las Artes\, 70\, Salamanca\, Salamanca\, 37003\, España
CATEGORIES:Teatro / Escena
END:VEVENT
BEGIN:VEVENT
DTSTART;VALUE=DATE:20210314
DTEND;VALUE=DATE:20210315
DTSTAMP:20260426T004555
CREATED:20210309T183402Z
LAST-MODIFIED:20210309T184430Z
UID:10002516-1615680000-1615766399@www.salamancalia.es
SUMMARY:Ascensión al monte Jálama desde el Payo
DESCRIPTION:Actividad de senderismo de montaña en el que se transitará principalmente por pistas de tierra con tramos de sendas y veredas balizadas (marcas de SL y balizado con cintas carrera de montaña) de distinta entidad en las zonas más altas del recorrido. \nPrecios: \n\nComunidad Universitaria: 12 €.\nSocios ALUMNI y federados con el GUM-USAL: 15 €.\nAjenos a la USAL: 19 €.
URL:https://www.salamancalia.es/evento/ascension-al-monte-jalama-desde-el-payo/
LOCATION:Salamanca
CATEGORIES:Viajes y Excursiones
END:VEVENT
BEGIN:VEVENT
DTSTART;VALUE=DATE:20210314
DTEND;VALUE=DATE:20211102
DTSTAMP:20260426T004555
CREATED:20210416T112419Z
LAST-MODIFIED:20260416T071652Z
UID:10002562-1615680000-1635811199@www.salamancalia.es
SUMMARY:Alma Charra
DESCRIPTION:Un recorrido por la vida y el arraigo del artista salmantino Venancio Blanco. \nEsta propuesta expositiva incluye una selección de esculturas y dibujos de Venancio que describen algunas estampas de la tradición y cultura charras. \nObras de Venancio Blanco en Salamanca: \n\nMonumento al Vaquero Charro. Pza de España. Salamanca.\nMonumento a Gerardo Gombau. Pza de San Julián. Salamanca.\nMonumento a San Francisco de Asís. Campo de San Francisco. Salamanca.\nRelieve. Instituto de Educación Secundaria Venancio Blanco. Salamanca.\nMedallón del Rey Juan Carlos y Dña. Sofía. Plaza Mayor de Salamanca.\nSan Fernando. Cuartel de Ingenieros General Arroquia. Salamanca.\nBoceto del Monumento al Vaquero Charro. Casino de Salamanca.\nSanta Teresa. Alba de Tormes. Salamanca.\nColecciones privadas.\n\n 
URL:https://www.salamancalia.es/evento/alma-charra/
LOCATION:Sala de Exposiciones de Santo Domingo\, C/ Arroyo de Santo Domingo\, Salamanca\, Salamanca\, 37008\, España
CATEGORIES:Exposiciones
END:VEVENT
END:VCALENDAR