BEGIN:VCALENDAR
VERSION:2.0
PRODID:-//Agenda cultural y eventos de ocio en Salamanca - ECPv6.15.20//NONSGML v1.0//EN
CALSCALE:GREGORIAN
METHOD:PUBLISH
X-WR-CALNAME:Agenda cultural y eventos de ocio en Salamanca
X-ORIGINAL-URL:https://www.salamancalia.es
X-WR-CALDESC:Eventos para Agenda cultural y eventos de ocio en Salamanca
REFRESH-INTERVAL;VALUE=DURATION:PT1H
X-Robots-Tag:noindex
X-PUBLISHED-TTL:PT1H
BEGIN:VTIMEZONE
TZID:UTC
BEGIN:STANDARD
TZOFFSETFROM:+0000
TZOFFSETTO:+0000
TZNAME:UTC
DTSTART:20220101T000000
END:STANDARD
END:VTIMEZONE
BEGIN:VEVENT
DTSTART;VALUE=DATE:20230519
DTEND;VALUE=DATE:20230522
DTSTAMP:20260423T161645
CREATED:20230425T081057Z
LAST-MODIFIED:20230425T081057Z
UID:10003587-1684454400-1684713599@www.salamancalia.es
SUMMARY:7ª Feria de Minerales Salamanca
DESCRIPTION:Vuelve la Feria de Minerales de Salamanca.
URL:https://www.salamancalia.es/evento/7a-feria-de-minerales-salamanca/
LOCATION:Facultad de Ciencias\, Plaza de los caídos s/n\, Salamanca\, Salamanca\, España
CATEGORIES:Ferias y fiestas | Festivales
END:VEVENT
BEGIN:VEVENT
DTSTART;VALUE=DATE:20230519
DTEND;VALUE=DATE:20230619
DTSTAMP:20260423T161645
CREATED:20230519T114923Z
LAST-MODIFIED:20230602T111431Z
UID:10004526-1684454400-1687132799@www.salamancalia.es
SUMMARY:Un viaje por la tradición charra
DESCRIPTION:Horarios\n\nDe lunes a viernes de 10:00 a 14:00 y de 17:00 a 21:00 horas.\n\n  \nExposición sobre la indumentaria tradicional de la provincia salmantina. \nOrganizada por La Asociación de Mujeres Flor de Salamanca en colaboración con el Ayuntamiento\, El Corte Inglés y la Joyería Queralt Ruiz. \n  \nTal vez te interese el Festival Siglo de Oro Salamanca 2023 y las Fiestas San Juan de Sahagún 2023.
URL:https://www.salamancalia.es/evento/un-viaje-por-la-tradicion-charra/
LOCATION:Centro Socio-cultural de la Plaza de Trujillo\, Pl. Trujillo 31\, Salamanca\, Salamanca\, 37003\, España
CATEGORIES:Exposiciones
END:VEVENT
BEGIN:VEVENT
DTSTART;TZID=UTC:20230519T210000
DTEND;TZID=UTC:20230519T210000
DTSTAMP:20260423T161645
CREATED:20230425T104939Z
LAST-MODIFIED:20230425T105009Z
UID:10004467-1684530000-1684530000@www.salamancalia.es
SUMMARY:La profesora
DESCRIPTION:Intérpretes: Isabel Ordaz y Marcial Álvarez. \nComprar entradas.
URL:https://www.salamancalia.es/evento/la-profesora/
LOCATION:Teatro Liceo\, Plaza del Liceo s/n\, Salamanca\, Salamanca\, 37002\, España
CATEGORIES:Teatro / Escena
END:VEVENT
BEGIN:VEVENT
DTSTART;VALUE=DATE:20230520
DTEND;VALUE=DATE:20230521
DTSTAMP:20260423T161645
CREATED:20230510T112520Z
LAST-MODIFIED:20230510T112520Z
UID:10003617-1684540800-1684627199@www.salamancalia.es
SUMMARY:Lettering
DESCRIPTION:De 10:30 a 13:00. \nPodrás iniciarte en una disciplina artística apasionante y absolutamente creativa. \nEn este taller conocerás cuáles son los trazos básicos de Lettering y empezarás a dibujar letras bonitas. \nDescubrirás cómo crear fondos divertidos y cómo empezar a dibujar con degradados. Y si ya conoces el Lettering\, puedes perfeccionar tu técnica. \n 
URL:https://www.salamancalia.es/evento/lettering/
LOCATION:La U mutante\, Melchor Cano\, 9\, Salamanca\, Salamanca\, 37007\, España
CATEGORIES:Cursos y Talleres
ORGANIZER;CN="La U mutante":MAILTO:u@laumutante.com
END:VEVENT
BEGIN:VEVENT
DTSTART;VALUE=DATE:20230520
DTEND;VALUE=DATE:20230521
DTSTAMP:20260423T161645
CREATED:20230510T112759Z
LAST-MODIFIED:20230510T112759Z
UID:10003619-1684540800-1684627199@www.salamancalia.es
SUMMARY:Ganchillo
DESCRIPTION:De 10:00 a 13:30. \nAprender paso a paso los diferentes puntos básicos del tejido con ganchillo. Esta técnica abrirá una puerta a tu creatividad para proyectos textiles\, decorativos y funcionales. (Para quienes asistieron al primer taller\, el objetivo será profundizar en estos puntos y practicarlos haciendo algún objeto o complemento). \n 
URL:https://www.salamancalia.es/evento/ganchillo/
LOCATION:La U mutante\, Melchor Cano\, 9\, Salamanca\, Salamanca\, 37007\, España
CATEGORIES:Cursos y Talleres
ORGANIZER;CN="La U mutante":MAILTO:u@laumutante.com
END:VEVENT
BEGIN:VEVENT
DTSTART;VALUE=DATE:20230520
DTEND;VALUE=DATE:20230522
DTSTAMP:20260423T161645
CREATED:20230511T164912Z
LAST-MODIFIED:20230511T164912Z
UID:10003636-1684540800-1684713599@www.salamancalia.es
SUMMARY:XV Feria alimentaria y muestra artesana de Ledesma
DESCRIPTION:
URL:https://www.salamancalia.es/evento/xv-feria-alimentaria-y-muestra-artesana-de-ledesma/
LOCATION:Ledesma\, Ledesma\, Salamanca\, España
CATEGORIES:Ferias y fiestas | Festivales
END:VEVENT
BEGIN:VEVENT
DTSTART;TZID=UTC:20230520T093000
DTEND;TZID=UTC:20230520T200000
DTSTAMP:20260423T161645
CREATED:20230511T171200Z
LAST-MODIFIED:20230511T171200Z
UID:10004508-1684575000-1684612800@www.salamancalia.es
SUMMARY:Día del Minibasket 2023
DESCRIPTION:Categorías: \n\nPequebasket\nBenjamín\nAlevín\nMasculino\nFemenino\nMixto\n\nHinchables y regalos para todos los participantes.
URL:https://www.salamancalia.es/evento/dia-del-minibasket-2023/
LOCATION:Parque de los Jesuitas
CATEGORIES:Deportes
END:VEVENT
BEGIN:VEVENT
DTSTART;TZID=UTC:20230520T190000
DTEND;TZID=UTC:20230520T190000
DTSTAMP:20260423T161645
CREATED:20230316T161338Z
LAST-MODIFIED:20230316T161425Z
UID:10004445-1684609200-1684609200@www.salamancalia.es
SUMMARY:Taburete. Gira Matadero 5
DESCRIPTION:Comprar entradas.
URL:https://www.salamancalia.es/evento/taburete-gira-matadero-5/
LOCATION:Espacio MAS\, Via de servicio N-501 km 88\, Salamanca\, Salamanca\, España
CATEGORIES:Concursos
END:VEVENT
BEGIN:VEVENT
DTSTART;TZID=UTC:20230520T210000
DTEND;TZID=UTC:20230520T210000
DTSTAMP:20260423T161645
CREATED:20230228T123820Z
LAST-MODIFIED:20260416T080021Z
UID:10004403-1684616400-1684616400@www.salamancalia.es
SUMMARY:Miguel Poveda
DESCRIPTION:Gira «DIVERSO». \nComprar entradas. \n 
URL:https://www.salamancalia.es/evento/miguel-poveda-en-salamanca/
LOCATION:CAEM\, Avda. de las Artes\, 45-55\, Salamanca\, Salamanca\, 37008\, España
CATEGORIES:Conciertos
END:VEVENT
BEGIN:VEVENT
DTSTART;TZID=UTC:20230520T210000
DTEND;TZID=UTC:20230520T210000
DTSTAMP:20260423T161645
CREATED:20230427T155947Z
LAST-MODIFIED:20230427T160030Z
UID:10003608-1684616400-1684616400@www.salamancalia.es
SUMMARY:Una infeliz llamada Fortunata
DESCRIPTION:Obra que tendrá lugar dentro de la «Muestra Universitaria de Artes Escénicas 2023» a cargo de «La Bohemia» bajo la dirección de Lina Rodríguez. \nComprar entradas. \nMás información en la web el evento (ver más abajo). \n 
URL:https://www.salamancalia.es/evento/una-infeliz-llamada-fortunata/
LOCATION:Teatro Juan del Enzina\, Calle Tostado\, 8\, Salamanca\, Salamanca\, 37008\, España
CATEGORIES:Teatro / Escena
END:VEVENT
BEGIN:VEVENT
DTSTART;TZID=UTC:20230520T220000
DTEND;TZID=UTC:20230520T220000
DTSTAMP:20260423T161645
CREATED:20230511T144553Z
LAST-MODIFIED:20230511T144553Z
UID:10003633-1684620000-1684620000@www.salamancalia.es
SUMMARY:SINESTESIA
DESCRIPTION:Comprar entradas.
URL:https://www.salamancalia.es/evento/sinestesia/
LOCATION:Sala Music Factory\, Plaza Monterrey\, 7\, Salamanca\, Salamanca\, España
CATEGORIES:Conciertos
END:VEVENT
BEGIN:VEVENT
DTSTART;TZID=UTC:20230521T120000
DTEND;TZID=UTC:20230521T120000
DTSTAMP:20260423T161645
CREATED:20230427T153443Z
LAST-MODIFIED:20260416T080336Z
UID:10004481-1684670400-1684670400@www.salamancalia.es
SUMMARY:Canción Gamberra
DESCRIPTION:Sandra Redondo (soprano) y Miguel Ángel Caro (piano). \nEntrada libre hasta completar el aforo. \n 
URL:https://www.salamancalia.es/evento/cancion-gamberra/
LOCATION:Auditorio del Centro Municipal Integrado Plaza De Trujillo\, Plaza Trujillo\, 1\, Salamanca\, Salamanca\, España
CATEGORIES:Conciertos
END:VEVENT
BEGIN:VEVENT
DTSTART;VALUE=DATE:20230522
DTEND;VALUE=DATE:20230523
DTSTAMP:20260423T161645
CREATED:20230510T113528Z
LAST-MODIFIED:20230510T113528Z
UID:10004488-1684713600-1684799999@www.salamancalia.es
SUMMARY:Iniciación a la fotografía
DESCRIPTION:Comienzo en la semana del 22 de mayo. \nCurso de 16 horas en 8 clases. \nFormación de grupos de mañana y tarde. \nConocer los factores esenciales de la exposición fotográfica y las principales reglas de composición. Comentar algunas obras de autores icónicos y repasar los hitos más relevantes en la historia de la Fotografía. \nLos participantes\, a través de las nociones comentadas y las prácticas diarias realizadas\, podrán controlar su cámara y componer sus imágenes con destreza. Obtendrán además una noción básica sobre la historia de la Fotografía y sobre los rasgos más destacados de algunas obras relevantes. \n  \n  \n 
URL:https://www.salamancalia.es/evento/iniciacion-a-la-fotografia/
LOCATION:La U mutante\, Melchor Cano\, 9\, Salamanca\, Salamanca\, 37007\, España
CATEGORIES:Cursos y Talleres
ORGANIZER;CN="La U mutante":MAILTO:u@laumutante.com
END:VEVENT
BEGIN:VEVENT
DTSTART;TZID=UTC:20230524T200000
DTEND;TZID=UTC:20230524T200000
DTSTAMP:20260423T161645
CREATED:20230427T153711Z
LAST-MODIFIED:20230427T153928Z
UID:10004482-1684958400-1684958400@www.salamancalia.es
SUMMARY:Al este del Edén y a este que le den
DESCRIPTION:Compañía Métrica Pura. \nComprar entradas.
URL:https://www.salamancalia.es/evento/al-este-del-eden-y-a-este-que-le-den/
LOCATION:Teatro Liceo\, Plaza del Liceo s/n\, Salamanca\, Salamanca\, 37002\, España
CATEGORIES:Teatro / Escena
END:VEVENT
BEGIN:VEVENT
DTSTART;TZID=UTC:20230525T180000
DTEND;TZID=UTC:20230525T180000
DTSTAMP:20260423T161645
CREATED:20230522T090215Z
LAST-MODIFIED:20230522T090215Z
UID:10004530-1685037600-1685037600@www.salamancalia.es
SUMMARY:University of Notre Dame Chorale
DESCRIPTION:Concierto de Música Sacra y Música Litúrgica Contemporánea. \nEntrada libre.
URL:https://www.salamancalia.es/evento/university-of-notre-dame-chorale/
LOCATION:Iglesia de la Purísima\, Pl. Agustinas\, Salamanca\, Salamanca\, 37002\, España
CATEGORIES:Conciertos
END:VEVENT
BEGIN:VEVENT
DTSTART;TZID=UTC:20230526T193000
DTEND;TZID=UTC:20230528T193000
DTSTAMP:20260423T161645
CREATED:20230524T082318Z
LAST-MODIFIED:20230524T082318Z
UID:10003661-1685129400-1685302200@www.salamancalia.es
SUMMARY:La casa torcida
DESCRIPTION:Una obra de La Máscara Teatro. \nDías 26\, 27 y 28 a las 19:30. Comprar entradas.
URL:https://www.salamancalia.es/evento/la-casa-torcida/
LOCATION:Auditorio Calatrava\, C\ Monte Olivete\, s/n\, Salamanca\, Salamanca\, 37008\, España
CATEGORIES:Teatro / Escena
END:VEVENT
BEGIN:VEVENT
DTSTART;TZID=UTC:20230526T200000
DTEND;TZID=UTC:20230526T200000
DTSTAMP:20260423T161645
CREATED:20230427T154159Z
LAST-MODIFIED:20260416T080337Z
UID:10004483-1685131200-1685131200@www.salamancalia.es
SUMMARY:Coro de la Universidad de Notre Dame
DESCRIPTION:Entrada libre hasta completar el aforo. \n  \nTal vez te interese el Programa completo del Festival Siglo de Oro Salamanca 2023: desfile\, teatro\, comida\, conferencias.. \n 
URL:https://www.salamancalia.es/evento/coro-de-la-universidad-de-notre-dame/
LOCATION:Patio Chico\, Calle del patio Chico\, Salamanca\, Salamanca\, 37008\, España
CATEGORIES:Conciertos
END:VEVENT
BEGIN:VEVENT
DTSTART;TZID=UTC:20230526T210000
DTEND;TZID=UTC:20230526T210000
DTSTAMP:20260423T161645
CREATED:20230511T111017Z
LAST-MODIFIED:20230511T111017Z
UID:10004503-1685134800-1685134800@www.salamancalia.es
SUMMARY:Teatro entre culturas: lecturas dramatizadas
DESCRIPTION:Obra que tendrá lugar dentro de la «Muestra Universitaria de Artes Escénicas 2023» a cargo de «Traduttori Teatrori» bajo la dirección de Aurora Lauzardo Ugarte. \nComprar entradas. \nMás información en la web el evento (ver más abajo). \n 
URL:https://www.salamancalia.es/evento/teatro-entre-culturas-lecturas-dramatizadas/
LOCATION:Teatro Juan del Enzina\, Calle Tostado\, 8\, Salamanca\, Salamanca\, 37008\, España
CATEGORIES:Teatro / Escena
END:VEVENT
BEGIN:VEVENT
DTSTART;TZID=UTC:20230526T220000
DTEND;TZID=UTC:20230526T220000
DTSTAMP:20260423T161645
CREATED:20230427T154534Z
LAST-MODIFIED:20260416T080339Z
UID:10004484-1685138400-1685138400@www.salamancalia.es
SUMMARY:Sadia: presentación del disco Whiskey\, Amor y Blues
DESCRIPTION:Sadia en concierto. \n 
URL:https://www.salamancalia.es/evento/sadia-presentacion-del-disco-whiskey-amor-y-blues/
LOCATION:Sala B del CAEM\, Avenida de las Artes\, 45-55\, Salamanca\, Salamanca\, 37003\, España
CATEGORIES:Conciertos
END:VEVENT
BEGIN:VEVENT
DTSTART;VALUE=DATE:20230527
DTEND;VALUE=DATE:20230528
DTSTAMP:20260423T161645
CREATED:20230510T112938Z
LAST-MODIFIED:20230510T112938Z
UID:10003621-1685145600-1685231999@www.salamancalia.es
SUMMARY:Zentangle
DESCRIPTION:De 10:30 a 13:00. \nEl método Zentangle® fue creado en 2003 por Rick Roberts y María Thomas. \nEs un método de dibujo basado en la reproducción de trazos sencillos para realizar distintos patrones. Los trazos se repiten a lo largo del patrón\, consiguiendo un gran nivel de relajación y/o de meditación creativa. \n 
URL:https://www.salamancalia.es/evento/zentangle/
LOCATION:La U mutante\, Melchor Cano\, 9\, Salamanca\, Salamanca\, 37007\, España
CATEGORIES:Cursos y Talleres
ORGANIZER;CN="La U mutante":MAILTO:u@laumutante.com
END:VEVENT
BEGIN:VEVENT
DTSTART;VALUE=DATE:20230527
DTEND;VALUE=DATE:20230605
DTSTAMP:20260423T161645
CREATED:20230523T154147Z
LAST-MODIFIED:20230524T072643Z
UID:10003659-1685145600-1685923199@www.salamancalia.es
SUMMARY:Talleres de fotografía experimental
DESCRIPTION:Tendrán lugar los días 27 y 28 de mayo y 3 y 4 de junio. \nCada uno de ellos tratará sobre una técnica fotográfica diferente: cianotipia\, cámara estenopeica\, antotipia y transfer. \nSerán impartidos por jóvenes artistas estudiantes en prácticas de másteres de la Universidad de Salamanca. \nLos talleres serán impartidos por Cristina Guerrero Rey\, Pablo González Muñoz\, Carolina Ortega Vallejo y Juan Álvarez. Jóvenes artistas estudiantes de los másteres de Bellas Artes y Estudios Avanzados de Historia del Arte de la Universidad de Salamanca. \nVan dirigidos a todas las edades\, aunque los menores de 14 años deberán ir acompañados por un adulto. \nPara participar no se requiere un conocimiento artístico de grabado o fotografía previo. Los talleres son: \n\nel sábado 27 de mayo será el taller sobre cianotipia\nel domingo 28 sobre cámara estenopeica\nel sábado 3 de junio el taller tratará sobre antiopia\nel domingo 4 de junio trabajarán sobre la técnica transfer\n\nCada uno de los talleres tiene 20 plazas y tienen una duración de cuatro horas\, desde las 10:00 hasta las 14:00 horas. \n  \nTal vez te interese el Programa completo del Festival Siglo de Oro Salamanca 2023: desfile\, teatro\, comida\, conferencias... \n  \n 
URL:https://www.salamancalia.es/evento/talleres-de-fotografia-experimental/
LOCATION:DA2\, Domus Artium 2002\, Avda. de la Aldehuela\, 30\, Salamanca\, Salamanca\, 37008\, España
CATEGORIES:Cursos y Talleres
END:VEVENT
BEGIN:VEVENT
DTSTART;VALUE=DATE:20230527
DTEND;VALUE=DATE:20230730
DTSTAMP:20260423T161645
CREATED:20230510T113121Z
LAST-MODIFIED:20230510T113213Z
UID:10004487-1685145600-1690675199@www.salamancalia.es
SUMMARY:Cianotipia
DESCRIPTION:Todos los sábados (hasta finales de Julio). \nDe 10:15 a 13:45. \nConoce la técnica de la cianotipia\, cómo preparar la emulsión\, qué papeles usar\, cómo conseguir los motivos\, qué pasos hay que dar para realizar la insolación\,. \nEn el taller aprenderás a realizar cianotipias y\, tras varias pruebas de emulsión e insolación\, te llevarás tus propias obras. \nTambién puedes conseguir cianotipias de tus propias imágenes\, (envíanoslas con antelación y lo tendremos todo preparado). \n  \n 
URL:https://www.salamancalia.es/evento/cianotipia/
LOCATION:La U mutante\, Melchor Cano\, 9\, Salamanca\, Salamanca\, 37007\, España
CATEGORIES:Cursos y Talleres
ORGANIZER;CN="La U mutante":MAILTO:u@laumutante.com
END:VEVENT
BEGIN:VEVENT
DTSTART;TZID=UTC:20230527T170000
DTEND;TZID=UTC:20230527T170000
DTSTAMP:20260423T161645
CREATED:20230127T103224Z
LAST-MODIFIED:20230206T112346Z
UID:10004360-1685206800-1685206800@www.salamancalia.es
SUMMARY:Iberia Festival Salamanca 2023
DESCRIPTION:Programa del tour X aniversario Iberia: \n\nLoquillo\nIlegales\nCeltas Cortos\nBicho pal monte\n\nComprar entradas.
URL:https://www.salamancalia.es/evento/iberia-festival-salamanca-gira-10-aniversario/
CATEGORIES:Conciertos,Ferias y fiestas | Festivales
END:VEVENT
BEGIN:VEVENT
DTSTART;TZID=UTC:20230527T173000
DTEND;TZID=UTC:20230527T203000
DTSTAMP:20260423T161645
CREATED:20230511T172110Z
LAST-MODIFIED:20230511T172206Z
UID:10004510-1685208600-1685219400@www.salamancalia.es
SUMMARY:IX Cross Villamayor - ASPACE
DESCRIPTION:Modalidades de pago\n\nCoste: 8 €\nCaminata 5\,6Km\, 17:45h\nCarrera 8\,5Km\, 18:00h\n\nModalidades Gratuitas\n\nCarrera de Movilidad Reducida 300m\, 19:10h\nCarreras de menores\, 19:20h\n\nDONATIVO OPCIONAL
URL:https://www.salamancalia.es/evento/ix-cross-villamayor-aspace/
CATEGORIES:Deportes
END:VEVENT
BEGIN:VEVENT
DTSTART;TZID=UTC:20230528T180000
DTEND;TZID=UTC:20230528T180000
DTSTAMP:20260423T161645
CREATED:20230425T100405Z
LAST-MODIFIED:20230425T100405Z
UID:10004464-1685296800-1685296800@www.salamancalia.es
SUMMARY:Tributo a Mecano
DESCRIPTION:Aidalai Tributo MECANO. \nComprar entradas.
URL:https://www.salamancalia.es/evento/tributo-a-mecano/
LOCATION:Palacio de Congresos y Exposiciones de Castilla y León\, Cuesta de Oviedo\, S/N\, Salamanca\, Salamanca\, 37008\, España
CATEGORIES:Conciertos
END:VEVENT
BEGIN:VEVENT
DTSTART;TZID=UTC:20230529T200000
DTEND;TZID=UTC:20230529T200000
DTSTAMP:20260423T161645
CREATED:20230427T154849Z
LAST-MODIFIED:20260416T080342Z
UID:10004485-1685390400-1685390400@www.salamancalia.es
SUMMARY:Javier Perianes y Cuarteto Ribera de la Oscyl
DESCRIPTION:Comprar entradas. \n 
URL:https://www.salamancalia.es/evento/javier-perianes-y-cuarteto-ribera-de-la-oscyl/
LOCATION:Teatro Liceo\, Plaza del Liceo s/n\, Salamanca\, Salamanca\, 37002\, España
CATEGORIES:Conciertos
END:VEVENT
BEGIN:VEVENT
DTSTART;VALUE=DATE:20230601
DTEND;VALUE=DATE:20230626
DTSTAMP:20260423T161645
CREATED:20230530T110914Z
LAST-MODIFIED:20230530T110914Z
UID:10004540-1685577600-1687737599@www.salamancalia.es
SUMMARY:Paseos interpretativos de la naturaleza
DESCRIPTION:5 itinerarios abiertos a público general que se iniciarán en junio en el contexto de la tercera Semana Savia.
URL:https://www.salamancalia.es/evento/paseos-interpretativos-de-la-naturaleza/
LOCATION:Salamanca
CATEGORIES:Especiales
END:VEVENT
BEGIN:VEVENT
DTSTART;VALUE=DATE:20230601
DTEND;VALUE=DATE:20230630
DTSTAMP:20260423T161645
CREATED:20230519T115542Z
LAST-MODIFIED:20230524T072530Z
UID:10004527-1685577600-1688083199@www.salamancalia.es
SUMMARY:Cine corto de verano 2023
DESCRIPTION:Proyección de los mejores cortos nacionales e internacionales\, que competirán por el premio al mejor cortometraje del certamen nacional de CortoEspaña. Los jueves de junio. \nPrograma de cortometrajes\n1 de junio a las 22:15\n\nChaval (29’) de Jaime Olías de Lerma\nLoop (8’) de Pablo Polledi\nEspinas (15’) de Iván Sáinz-Pardo\nAlcanzar el vórtice (5’) de Pedro Poveda\nLeopoldo el del bar (5’) de Diego Porral\nVotamos (14´) de Santiago Requejo\n\n  \n8 de junio a las 22:15\n\nTotem loba (22’) de Verónica Echegui\nParches (5’) de David Villarrubia Loreno\nLa luz (13’) de Iago de Soto\nCohete (4’) de La Masía Reels\nTranvía (8’) de Carlos Boena\nCemento y Acero (16´) de Oriol Villar\n\n  \n22 de junio a las 22:15\n\n17 minutos con Nora (19’) de Imanol Ruiz de Nora\nThe monkey  (17’) de Xosé Zapata\, Lorenzo Degl´lnnocenti\nNur y abrir (13’) de Manu Gómez\nSorda (18’) de Nuria Muñoz-Ortín\, Eva Libertad\nCarnívoro (6’) de Lander Castro\nInútil (8´) de Raquel Guerrero\n\n  \n29 de junio a las 22:15\n\nClub Silencio (18’) de Irene Albanell\nNacer (9’) de Roberto Valle\nPocos\, buenos y seguros (20’) de Ales Payá\, Gorka Lasosoa\nUna historia azul (18’) de Mónica Lilac\nLa primavera siempre vuelve (10’) de Alicia Núñez Puerto\nCristiano (11´) de Adán Pichardo\n\n  \nTal vez te interese el Festival Siglo de Oro Salamanca 2023.
URL:https://www.salamancalia.es/evento/cine-corto-de-verano-2023/
LOCATION:Calle Granero\, Calle Granero\, Salamanca\, Salamanca\, España
CATEGORIES:Cine
END:VEVENT
BEGIN:VEVENT
DTSTART;VALUE=DATE:20230601
DTEND;VALUE=DATE:20230701
DTSTAMP:20260423T161645
CREATED:20230607T085643Z
LAST-MODIFIED:20230607T085643Z
UID:10004556-1685577600-1688169599@www.salamancalia.es
SUMMARY:125 aniversario del nacimiento de Federico García Lorca
DESCRIPTION:Proyecto multidisciplinar que incluye una exposición de retratos en la Plaza Mayor\, un recital teatralizado y un ciclo de conferencias para rendirá homenaje a Federico García Lorca por el 125 aniversario de su nacimiento: \n\nExposición de 114 retratos en la Plaza Mayor durante el mes de junio cuyo autor es el salmantino Florencio Maillo. Incluye retratos de Lorca\, junto a los de sus amigos y contemporáneos que cimentaron la personalidad del poeta.\nEl recital\, ‘Folklorquiando’\, protagonizado por el folklorista salmantino Gabriel Calvo está programado el 3 de junio en el Teatro Liceo.\nEl ciclo de conferencias se desarrollará a lo largo del mes de junio en los Jardines de Santo Domingo y en la Torre de los Anaya.
URL:https://www.salamancalia.es/evento/125-aniversario-del-nacimiento-de-federico-garcia-lorca/
LOCATION:Salamanca
CATEGORIES:Especiales
ATTACH;FMTTYPE=image/jpeg:https://www.salamancalia.es/wp-content/uploads/2023/06/Plaza-Mayor-con-retratos-por-el-el-125-aniversario-del-nacimiento-de-Federico-Garcia-Lorca.jpg
END:VEVENT
BEGIN:VEVENT
DTSTART;VALUE=DATE:20230601
DTEND;VALUE=DATE:20230702
DTSTAMP:20260423T161645
CREATED:20230511T103937Z
LAST-MODIFIED:20240305T183702Z
UID:10004499-1685577600-1688255999@www.salamancalia.es
SUMMARY:Siglo de Oro Salamanca 2023. III Edición
DESCRIPTION:3º Festival Turístico-Cultural «El Siglo de Oro en Salamanca. Bodas de Felipe II». \nVive la historia descubriendo los Siglos de Oro\, rememorando la época de esplendor de Salamanca durante los siglos XVI y XVII\, a través de este festival de eventos en junio. Salamanca se situó en la cúspide del pensamiento con humanistas como Fray Luis de León\, Francisco de Victoria\, San Juan de la Cruz o Santa Teresa. \nSe mostrará cómo era la vida en los siglos XVI y XVII. \n \n2ª Muestra de Teatro Clásico Español Siglo de Oro\nConsulta aquí la representaciones\, horarios\, precios…\n \nProgramación del III Festival Siglo de Oro de Salamanca 2023\n\nSábado 3 de junio\nExposición de Carros y Oficios Antiguos de la provincia de Salamanca: \n\nEn la Plaza de la Concordia\nDe 11:00 a 14:30\nDirigida a todos los públicos. Gratuita\n\nDesfile del Siglo de Oro: \n\nRecreación de los acontecimientos y desfile de los personajes históricos más relevantes de la ciudad de Salamanca durante los siglos de oro.\nSalida desde la Plaza de la Concordia (descarga de caballerías a las 16:00h)\nDe 17:00 a 19:30\nRecorrido del desfile Siglo de Oro: Plaza de la Concordia a las 17:00\, Av. María Auxiliadora\, Av. Mirat\, Calle Bientocadas\, Calle José Jáuregui\, Calle Zamora\, Plaza Mayor (17:45h Pregón del Siglo de Oro y recreación de baile renacentista)\, Plaza Poeta Iglesias\, Calle Quintana\, Calle Juan del Rey\, Calle Prado\, Calle Prior\, Calle Compañía -> Recreación de la Boda de Felipe II: Calle Rua Antigua\,  Plaza de Anaya\,  Pórtico de la Catedral\, fachada de Ramos (18:30 a 19:30)\n\nPregón Siglo de Oro  y recreación de baile renacentista: \n\nEn la Plaza Mayor\nA las 17:45\n\nRecreación de la Boda de Felipe II: \n\nEn el Pórtico de la Catedral. Fachada de Ramos\nDe 18:30 a 19:30\n\n  \nDomingo 4 de junio\nExposiciones. Campamento de los Tercios: armas y cañones de los Tercios \n\nJunto al campo de fútbol del Puente Romano\nDe 11:00 a 12:30\nDirigida a todos los públicos. Gratuita\n\nJuegos antiguos infantiles y yincana en el campamento de los Tercios: armas y cañones de los Tercios \n\nEn el Campamento de los Tercios. Ribera del Tormes (junto a Puente Romano)\nDe 11:00 a 12:30\nDirigida a público familiar\n\nBatalla de los Tercios \n\nEn el Parque Antonio de Nebrija. Ribera Tormes\nDe 12:30 a 13:30\nDirigida a todos los públicos. Gratuito\nParticipantes: 70 figurantes y 10 caballos\n\nComida Popular: “Arroz con carne\, al estilo de Pastores y Tercios”. Precios populares \n\nEn el Parque Antonio de Nebrija\nDe 13:30 a 15:00\n\n  \nDel 7 de junio al 1 de julio\nExposición la moda en el Siglo de Oro Español \nTaller de costura (gratuito): \n\nLugar: Sala de Exposiciones de Unicaja Banco. Plaza de los Bandos\n\nHorario: \n\nMartes a viernes de 18:00 a 21:00\nSábados de 12:00 a 14:00 y de 18:00 a 21:00\nDomingo de 12:00 a 14:00\nLunes cerrado\n\n  \n  \nJueves 8 de junio\nConcierto cantautor Juan Carlos Prieto Torres y Recital de poemas místicos de Santa Teresa y San Juan de la Cruz: \n\nEn la Iglesia de la Purísima\nA las 21:00h.\nEntrada gratuita hasta completar aforo\n\n  \nViernes 9 de junio\nTeatro: Bodas de Amor y Honor. Teatro lopesco de la boda de Felipe II: \n\nEn el Palacio de Congresos\nA las 21:00h\nCompañía Amantes del Teatro\nEntrada inversa (a voluntad): en beneficio Asociación contra el Bullying de CyL y el Centro Materno Infantil Ave María de Santa Marta\nAportación voluntaria a la salida\nDirigida a todos los públicos\nInvitaciones en salamancaymas.es\n\n  \nSábado 10 de junio\nRuta teatralizada «Historias del Siglo de Oro en Salamanca» \n\nLugar: Patio Chico.\nHora: 21:00h.\nEntrada gratuita\n\n\nDomingo 11 de junio\nTaller de moldeado con temática de personajes del Siglo de Oro. Así moldean los niños los personajes del Siglo de Oro:\n \n\nEn la Plaza de los Bandos\nPara niños de 3 a 10 años\nDe 11:30 a 13:30\nGratuito\n\nConcierto de música Renacentista. Ensamble Alla Antiqua: \n\nPolifonía de cantos e instrumentos del siglo XVI y Recital de Poesía: Lope\, Calderón\, Tirso de Molina\, Garcilaso\, Cervantes…\nGrupo musical Ensemble alla Antiqua y grupo actores Platea Teatro\nEn la Iglesia de la Purísima\nA las 21:00\nGratuito. Hasta completar aforo\nDirigida a todos los públicos\n\n  \nJueves 15 de junio\nRecital música y poemas de amor y místicos del siglo XVI. Intérpretes: cantautor Juan Carlos Prieto Torres y músico Chema Corvo \n\nEn la Iglesia de la Purísima\nA as 21:00\nGratuito. Hasta completar aforo\n\n  \nViernes 16 de junio\nRuta teatralizada “Historias del Siglo de Oro en Salamanca”: \n\nEn el Patio Chico\nA las 21:00\nEntrada gratuita\n\n  \nSábado 17 de junio\nEntrega de diplomas del curso de costura histórica Trajes del Siglo de Oro Español: \n\nEn el Palacio de Congresos. Sala Menor\nA las 20:00\nGratuita\n\n  \nDomingo 18 de junio\nBanquete del Siglo De Oro. Simulación del banquete de bodas de Felipe II y Maria Manuela de Portugal: \n\nDe 14:30 a 16:30\nMenú: 55 €\nEn la capilla del Colegio Arzobispo Fonseca\nRealizado por el restaurante Cocina de Toño\n120 comensales. Los beneficios serán destinados al Centro Materno Infantil Ave María de Santa Marta y a PYFANO.\nReservas en www.festivalsiglodeorosalamanca.com\n\nBailes del Siglo XVI: \n\nDurante la comida se realizarán tres bailes típicos de la época del Siglo de Oro\nRealizados por 8 bailarines dirigidos por la coreógrafa Aurora Monje Liras.\nNúmero de comensales: 120\nTendrá lugar en la Capilla del Colegio Arzobispo Fonseca\n\nEntrega de Galardones del Siglo De Oro: en la sobremesa del banquete. \n  \nDel 1 al 30 de junio\nExposición: 12 Personajes del Siglo de Oro en Salamanca. Con el objetivo de poner en valor los personajes históricos de la ciudad\n(12 personajes de trascendencia histórica o mitológica) \n\nEn el Patio de la Casa de las Conchas\nDe lunes a sábado 9:00 a 21:00\nDirigida a todos los públicos. Entrada gratuita\n\n  \nDel 1 al 30 de junio\nExposición «España en América» \n\nEn la Plaza de San Benito\nAbierta permanentemente\nDirigida a todos los públicos. Entrada gratuita\n\n  \n \nCiclo de Conferencias Siglo de Oro «La Universalidad del Siglo de Oro desde Salamanca»\n\nConsulta aquí las conferencias\, ponentes y fechas. \n  \nTríptico con toda la información oficial. \n\nTambién puede interesarte: \n\nUn paseo por Salamanca\, en una tarde: ruta turística por Salamanca\nQué ver y visitar en Salamanca en 1 día: selección de monumentos y lugares turísticos imprescindibles\nQué ver en un fin de semana en Salamanca. Conocer Salamanca en 2 días\n\n\n  \nReportaje sobre el Siglo de Oro de Salamanca 2021\nGran reportaje del canal Jasapeliculas. \n 
URL:https://www.salamancalia.es/evento/siglo-de-oro-salamanca-2023-iii-edicion/
LOCATION:Salamanca
CATEGORIES:Ferias y fiestas | Festivales
END:VEVENT
END:VCALENDAR