BEGIN:VCALENDAR
VERSION:2.0
PRODID:-//Agenda cultural y eventos de ocio en Salamanca - ECPv6.15.20//NONSGML v1.0//EN
CALSCALE:GREGORIAN
METHOD:PUBLISH
X-ORIGINAL-URL:https://www.salamancalia.es
X-WR-CALDESC:Eventos para Agenda cultural y eventos de ocio en Salamanca
REFRESH-INTERVAL;VALUE=DURATION:PT1H
X-Robots-Tag:noindex
X-PUBLISHED-TTL:PT1H
BEGIN:VTIMEZONE
TZID:UTC
BEGIN:STANDARD
TZOFFSETFROM:+0000
TZOFFSETTO:+0000
TZNAME:UTC
DTSTART:20220101T000000
END:STANDARD
END:VTIMEZONE
BEGIN:VEVENT
DTSTART;TZID=UTC:20230914T200000
DTEND;TZID=UTC:20230914T200000
DTSTAMP:20260425T105933
CREATED:20230802T155428Z
LAST-MODIFIED:20260416T081419Z
UID:10003814-1694721600-1694721600@www.salamancalia.es
SUMMARY:Sonidos de sótano
DESCRIPTION:Concierto de Sonidos de sótano en las Ferias y Fiestas de Salamanca. \n  \n\nConciertos de las Ferias y Fiestas de Salamanca 2023\nProgramación completa de las Ferias y Fiestas de Salamanca 2023\n\n 
URL:https://www.salamancalia.es/evento/sonidos-de-sotano/
LOCATION:Plaza Barcelona\, Plaza Barcelona\, Salamanca\, Salamanca\, España
CATEGORIES:Conciertos
END:VEVENT
BEGIN:VEVENT
DTSTART;TZID=UTC:20230914T203000
DTEND;TZID=UTC:20230914T203000
DTSTAMP:20260425T105933
CREATED:20230601T175842Z
LAST-MODIFIED:20230910T153050Z
UID:10004545-1694723400-1694723400@www.salamancalia.es
SUMMARY:Grease\, El Musical
DESCRIPTION:Musical basado en Grease\, la historia de Danny Zuko y Sandy Olsson a finales de los años 50 en el instituto Rydell High. \nSesiones\n\nJueves 14 de septiembre a las 20:30\nViernes 15 de septiembre a las 18:00\nViernes 15 de septiembre a las 21:30\nSábado 16 de septiembre a las 18:00\nSábado 16 de septiembre a las 21:30\nDomingo 17 de septiembre a las 17:30\n\nEntradas\n\nTaquilla del Teatro Liceo\nwww.ciudaddecultura.org\n\n  \n  \n\nProgramación completa de las Ferias y Fiestas de Salamanca 2023
URL:https://www.salamancalia.es/evento/grease-el-musical/2023-09-14/
LOCATION:CAEM\, Avda. de las Artes\, 45-55\, Salamanca\, Salamanca\, 37008\, España
CATEGORIES:Baile y danza,Teatro / Escena
END:VEVENT
BEGIN:VEVENT
DTSTART;TZID=UTC:20230914T220000
DTEND;TZID=UTC:20230914T220000
DTSTAMP:20260425T105933
CREATED:20230802T135403Z
LAST-MODIFIED:20260416T081401Z
UID:10003801-1694728800-1694728800@www.salamancalia.es
SUMMARY:Juan Magán en las Ferias y Fiestas de Salamanca 2023
DESCRIPTION:Concierto de Juan Magán en las Ferias y Fiestas de Salamanca. \n  \n\nConciertos de las Ferias y Fiestas de Salamanca 2023\nProgramación completa de las Ferias y Fiestas de Salamanca 2023\n\n 
URL:https://www.salamancalia.es/evento/juan-magan-en-las-ferias-y-fiestas-de-salamanca-2023/
LOCATION:Plaza Mayor de Salamanca\, Pl. Mayor\, s/n\, Salamanca\, Salamanca\, 37002\, España
CATEGORIES:Conciertos
END:VEVENT
BEGIN:VEVENT
DTSTART;VALUE=DATE:20230915
DTEND;VALUE=DATE:20230916
DTSTAMP:20260425T105933
CREATED:20230704T084544Z
LAST-MODIFIED:20230825T085313Z
UID:10004607-1694736000-1694822399@www.salamancalia.es
SUMMARY:Ferias y fiestas de Salamanca 2023. Viernes 15 de septiembre
DESCRIPTION:Programación del viernes 15 de septiembre\nPrograma Deportivo de Ferias. \n11:30 – Concierto Didáctico. Música y Policía. Banda Sinfónica de la Policía Nacional. En la Plaza Mayor. \nDe 17:00 a 20:30 – XVII Festival de Artes de Calle. CIRKOMOTIK. En la Plaza Valmuza (Barrio El Zurguén).\nJuegos\, instalaciones\, actividades de circo y teatro. Para todos los públicos. \n17:30 – Ferias y Circo: atracciones en el recinto ferial de La Aldehuela \n18:00 – Cartel taurino: Novillada Picada. \nA las 18:00 y a las 21:30 – Grease\, el musical. En el CAEM. Entradas: 45\, 49 y 55€ (taquilla del Teatro Liceo y www.ciudaddecultura.org) \n\nGrease\, el musical – viernes 15 de septiembre a las 18:00\nGrease\, el musical – viernes 15 de septiembre a las 21:30\n\n19:00 – XVII Festival de Artes de Calle. DESPROVISTO. En el Patio Chico.\nPara todos los públicos\, recomendado a partir de 4 años. \n22:00 – Espectáculo Pirotécnico. “ARRELS DE FOC”. Pirotecnia Global Foc. Entornos del Puente Romano. Duración: 18 minutos aprox. \n23:00 – Concierto: Café Quijano. En la Plaza Mayor. \n  \n\nPrograma del sábado 16 de septiembre >>\n<< Programa del jueves 14 de septiembre\nProgramación completa de las Ferias y Fiestas de Salamanca 2023
URL:https://www.salamancalia.es/evento/ferias-y-fiestas-de-salamanca-2023-viernes-15-de-septiembre/
LOCATION:Salamanca
CATEGORIES:Ferias y fiestas | Festivales
END:VEVENT
BEGIN:VEVENT
DTSTART;VALUE=DATE:20230915
DTEND;VALUE=DATE:20230916
DTSTAMP:20260425T105933
CREATED:20230823T084525Z
LAST-MODIFIED:20230823T084800Z
UID:10004717-1694736000-1694822399@www.salamancalia.es
SUMMARY:Feria Taurina 2023: Viernes 15 de septiembre. Ferias y fiestas en Salamanca
DESCRIPTION:Viernes 15 de septiembre\n18:00 – Novillada Picada. Lorenzo Rodríguez Espioja. \n\nValentín HOYOS\nIsmael MARTÍN\nMario NAVAS\n\n  \nVenta de entradas\nAccede a la venta online \n  \n\nFeria taurina de las Ferias y Fiestas de Salamanca 2023\nProgramación completa de las Ferias y Fiestas de Salamanca 2023
URL:https://www.salamancalia.es/evento/feria-taurina-2023-viernes-15-de-septiembre-ferias-y-fiestas-en-salamanca/
LOCATION:Plaza de toros La Glorieta\, Av. de San Agustín\, 1\, Salamanca\, Salamanca\, 37005\, España
CATEGORIES:Toros
END:VEVENT
BEGIN:VEVENT
DTSTART;VALUE=DATE:20230915
DTEND;VALUE=DATE:20230916
DTSTAMP:20260425T105933
CREATED:20230823T095804Z
LAST-MODIFIED:20230823T095804Z
UID:10003860-1694736000-1694822399@www.salamancalia.es
SUMMARY:XVII Festival de Artes de Calle. Viernes 15 de septiembre
DESCRIPTION:Viernes 15 de septiembre\n\nDe 17:00 a 20:30 – CIRKOMOTIK. Cía Almozandia Teatro y Animación. Plaza Valmuza (Barrio El Zurguén).\nJuegos\, instalaciones\, actividades de circo y teatro. Para todos los públicos.\n19:00 – DESPROVISTO. Compañía UpArte. Patio Chico. Para todos los públicos\, recomendado a partir de 4 años.\n\n  \n\nPrograma del XVII Festival de Artes de Calle\nProgramación completa de las Ferias y Fiestas de Salamanca 2023\nConciertos de las Ferias y Fiestas de Salamanca 2023
URL:https://www.salamancalia.es/evento/xvii-festival-de-artes-de-calle-viernes-15-de-septiembre/
LOCATION:Salamanca
CATEGORIES:Ferias y fiestas | Festivales,Ocio Infantil
END:VEVENT
BEGIN:VEVENT
DTSTART;VALUE=DATE:20230915
DTEND;VALUE=DATE:20230916
DTSTAMP:20260425T105933
CREATED:20230904T102553Z
LAST-MODIFIED:20230904T102553Z
UID:10003902-1694736000-1694822399@www.salamancalia.es
SUMMARY:Momentos rurales: paisaje y paisanaje
DESCRIPTION:I Certamen de Pintura al aire libre «Momentos rurales: paisaje y paisanaje». \nMás información aquí. \n  \n  \nTambién puede interesarte la programación de Ferias y Fiestas de Salamanca 2023.
URL:https://www.salamancalia.es/evento/momentos-rurales-paisaje-y-paisanaje/
LOCATION:Barruecopardo
CATEGORIES:Concursos
END:VEVENT
BEGIN:VEVENT
DTSTART;VALUE=DATE:20230915
DTEND;VALUE=DATE:20230916
DTSTAMP:20260425T105933
CREATED:20230904T104514Z
LAST-MODIFIED:20230904T104514Z
UID:10003903-1694736000-1694822399@www.salamancalia.es
SUMMARY:CoderDojo Salamanca
DESCRIPTION:Club de programación gratuito en Salamanca para niñ@s de 7 a 17 años. \nTodos los viernes de 18:30 a 19:30. \nMás información.
URL:https://www.salamancalia.es/evento/coderdojo-salamanca/
LOCATION:Salamanca
CATEGORIES:Cursos y Talleres
END:VEVENT
BEGIN:VEVENT
DTSTART;VALUE=DATE:20230915
DTEND;VALUE=DATE:20230916
DTSTAMP:20260425T105933
CREATED:20230905T104308Z
LAST-MODIFIED:20230905T104343Z
UID:10004766-1694736000-1694822399@www.salamancalia.es
SUMMARY:Los talleres de los viernes
DESCRIPTION:Clases adecuadas a tu nivel\, y realizadas a tu ritmo. \nPensadas para poder realizar tu proyecto personal de diseño\, para terminar alguna prenda empezada en casa y que no sabes cómo finalizar\, para complementar otros cursos que estés realizando en La U mutante o a modo de tutorías. \nTodos los viernes. \nComienzo 15-09-2023
URL:https://www.salamancalia.es/evento/los-talleres-de-los-viernes/
LOCATION:La U mutante\, Melchor Cano\, 9\, Salamanca\, Salamanca\, 37007\, España
CATEGORIES:Cursos y Talleres
ORGANIZER;CN="La U mutante":MAILTO:u@laumutante.com
END:VEVENT
BEGIN:VEVENT
DTSTART;VALUE=DATE:20230915
DTEND;VALUE=DATE:20231116
DTSTAMP:20260425T105933
CREATED:20230920T094829Z
LAST-MODIFIED:20230920T094829Z
UID:10003921-1694736000-1700092799@www.salamancalia.es
SUMMARY:1º Concurso de Cuentos Infantiles por los Buenos Tratos
DESCRIPTION:Del 15 de septiembre al 15 de noviembre de 2023. \nPremio: 200€ \nMás información en https://adavas-salamanca.org/
URL:https://www.salamancalia.es/evento/1o-concurso-de-cuentos-infantiles-por-los-buenos-tratos/
LOCATION:Salamanca
CATEGORIES:Concursos
END:VEVENT
BEGIN:VEVENT
DTSTART;TZID=UTC:20230915T113000
DTEND;TZID=UTC:20230915T113000
DTSTAMP:20260425T105933
CREATED:20230824T095605Z
LAST-MODIFIED:20260416T081923Z
UID:10004734-1694777400-1694777400@www.salamancalia.es
SUMMARY:Banda Sinfónica de la Policía Nacional. Ferias y Fiestas de Salamanca 2023
DESCRIPTION:Concierto Didáctico. Música y Policía. Banda Sinfónica de la Policía Nacional. \nDirige: Vicente Fernández García. \n  \n\nConciertos de las Ferias y Fiestas de Salamanca 2023\nProgramación completa de las Ferias y Fiestas de Salamanca 2023\n\n 
URL:https://www.salamancalia.es/evento/banda-sinfonica-de-la-policia-nacional-ferias-y-fiestas-de-salamanca-2023/
LOCATION:Plaza Mayor de Salamanca\, Pl. Mayor\, s/n\, Salamanca\, Salamanca\, 37002\, España
CATEGORIES:Conciertos
END:VEVENT
BEGIN:VEVENT
DTSTART;TZID=UTC:20230915T170000
DTEND;TZID=UTC:20230915T203000
DTSTAMP:20260425T105933
CREATED:20230807T183513Z
LAST-MODIFIED:20230818T080407Z
UID:10004682-1694797200-1694809800@www.salamancalia.es
SUMMARY:CIRKOMOTIK. XVII Festival Artes de Calle
DESCRIPTION:Juegos\, instalaciones\, actividades de circo y teatro a cargo de la compañía Almozandia Teatro y Animación. \nEl CIRKOMOTIK es un parque de juegos compartidos basado en elementos y conceptos de: \n\nequilibrio\nhabilidad\ncoordinación\nmotricidad\ncirco\n\nLa instalación cuenta con cerca de 40 elementos de juego donde pueden jugar más de 150 personas a la vez. \nLugar\nPlaza de la Valmuza (barrio El Zurguén). \nPara todos los públicos. \n\nProgramación completa de las Ferias y Fiestas de Salamanca 2023\nXVII Festival Artes de Calle
URL:https://www.salamancalia.es/evento/cirkomotik-xvii-festival-artes-de-calle-10/
LOCATION:Salamanca
CATEGORIES:Ocio Infantil
END:VEVENT
BEGIN:VEVENT
DTSTART;TZID=UTC:20230915T180000
DTEND;TZID=UTC:20230915T180000
DTSTAMP:20260425T105933
CREATED:20230601T175842Z
LAST-MODIFIED:20230910T153050Z
UID:10004546-1694800800-1694800800@www.salamancalia.es
SUMMARY:Grease\, El Musical
DESCRIPTION:Musical basado en Grease\, la historia de Danny Zuko y Sandy Olsson a finales de los años 50 en el instituto Rydell High. \nSesiones\n\nJueves 14 de septiembre a las 20:30\nViernes 15 de septiembre a las 18:00\nViernes 15 de septiembre a las 21:30\nSábado 16 de septiembre a las 18:00\nSábado 16 de septiembre a las 21:30\nDomingo 17 de septiembre a las 17:30\n\nEntradas\n\nTaquilla del Teatro Liceo\nwww.ciudaddecultura.org\n\n  \n  \n\nProgramación completa de las Ferias y Fiestas de Salamanca 2023
URL:https://www.salamancalia.es/evento/grease-el-musical/2023-09-15/1/
LOCATION:CAEM\, Avda. de las Artes\, 45-55\, Salamanca\, Salamanca\, 37008\, España
CATEGORIES:Baile y danza,Teatro / Escena
END:VEVENT
BEGIN:VEVENT
DTSTART;TZID=UTC:20230915T190000
DTEND;TZID=UTC:20230915T190000
DTSTAMP:20260425T105933
CREATED:20230808T150001Z
LAST-MODIFIED:20230808T151006Z
UID:10003834-1694804400-1694804400@www.salamancalia.es
SUMMARY:DESProVISTO. XVII Festival Artes de Calle
DESCRIPTION:Compañía UpArte. \n\nProgramación completa de las Ferias y Fiestas de Salamanca 2023\nXVII Festival Artes de Calle
URL:https://www.salamancalia.es/evento/desprovisto-xvii-festival-artes-de-calle/
LOCATION:Patio Chico\, Calle del patio Chico\, Salamanca\, Salamanca\, 37008\, España
CATEGORIES:Ocio Infantil
END:VEVENT
BEGIN:VEVENT
DTSTART;TZID=UTC:20230915T213000
DTEND;TZID=UTC:20230915T213000
DTSTAMP:20260425T105933
CREATED:20230601T175842Z
LAST-MODIFIED:20230910T153050Z
UID:10004547-1694813400-1694813400@www.salamancalia.es
SUMMARY:Grease\, El Musical
DESCRIPTION:Musical basado en Grease\, la historia de Danny Zuko y Sandy Olsson a finales de los años 50 en el instituto Rydell High. \nSesiones\n\nJueves 14 de septiembre a las 20:30\nViernes 15 de septiembre a las 18:00\nViernes 15 de septiembre a las 21:30\nSábado 16 de septiembre a las 18:00\nSábado 16 de septiembre a las 21:30\nDomingo 17 de septiembre a las 17:30\n\nEntradas\n\nTaquilla del Teatro Liceo\nwww.ciudaddecultura.org\n\n  \n  \n\nProgramación completa de las Ferias y Fiestas de Salamanca 2023
URL:https://www.salamancalia.es/evento/grease-el-musical/2023-09-15/2/
LOCATION:CAEM\, Avda. de las Artes\, 45-55\, Salamanca\, Salamanca\, 37008\, España
CATEGORIES:Baile y danza,Teatro / Escena
END:VEVENT
BEGIN:VEVENT
DTSTART;TZID=UTC:20230915T220000
DTEND;TZID=UTC:20230915T220000
DTSTAMP:20260425T105933
CREATED:20230727T105411Z
LAST-MODIFIED:20230727T105411Z
UID:10003781-1694815200-1694815200@www.salamancalia.es
SUMMARY:Ferias y fiestas de Salamanca 2023: Fuegos artificiales
DESCRIPTION:Viernes 15 de septiembre\n22:00 – «Arrels de Foc» a cargo de Pirotecnia Global Foc. \nLugar\nEn los entornos del Puente Romano pudiendo verse desde múltiples lugares de Salamanca. \n  \n\n\nProgramación completa de las Ferias y Fiestas de Salamanca 2023\n\n 
URL:https://www.salamancalia.es/evento/ferias-y-fiestas-de-salamanca-2023-fuegos-artificiales-2/
LOCATION:Puente Romano\, Puente Romano\, Salamanca\, Salamanca\, 37008\, España
CATEGORIES:Especiales
ATTACH;FMTTYPE=image/jpeg:https://www.salamancalia.es/wp-content/uploads/2023/07/Ferias-y-fiestas-de-Salamanca-2023.-Fuegos-artificiales.jpg
END:VEVENT
BEGIN:VEVENT
DTSTART;TZID=UTC:20230915T220000
DTEND;TZID=UTC:20230915T220000
DTSTAMP:20260425T105933
CREATED:20230802T135708Z
LAST-MODIFIED:20260416T081404Z
UID:10003802-1694815200-1694815200@www.salamancalia.es
SUMMARY:Café Quijano en las Ferias y Fiestas de Salamanca 2023
DESCRIPTION:Concierto de Café Quijano en las Ferias y Fiestas de Salamanca. Manhattan Tour 2023. \n  \n\nConciertos de las Ferias y Fiestas de Salamanca 2023\nProgramación completa de las Ferias y Fiestas de Salamanca 2023\n\n 
URL:https://www.salamancalia.es/evento/cafe-quijano-en-las-ferias-y-fiestas-de-salamanca-2023/
LOCATION:Plaza Mayor de Salamanca\, Pl. Mayor\, s/n\, Salamanca\, Salamanca\, 37002\, España
CATEGORIES:Conciertos
END:VEVENT
BEGIN:VEVENT
DTSTART;VALUE=DATE:20230916
DTEND;VALUE=DATE:20230917
DTSTAMP:20260425T105933
CREATED:20230704T084920Z
LAST-MODIFIED:20230825T085311Z
UID:10003725-1694822400-1694908799@www.salamancalia.es
SUMMARY:Ferias y fiestas de Salamanca 2023. Sábado 16 de septiembre
DESCRIPTION:Programación del sábado 16 de septiembre\nPrograma Deportivo de Ferias. \n17:30 – Ferias y Circo: atracciones en el recinto ferial de La Aldehuela. \n18:00 – Cartel taurino: Corrida de toros. \n18:00 – Grease\, el musical. \n21:30 – Grease\, el musical. \n  \n\nPrograma del domingo 17 de septiembre >>\n<< Programa el viernes 15 de septiembre\nProgramación completa de las Ferias y Fiestas de Salamanca 2023
URL:https://www.salamancalia.es/evento/ferias-y-fiestas-de-salamanca-2023-sabado-16-de-septiembre/
LOCATION:Salamanca
CATEGORIES:Ferias y fiestas | Festivales
END:VEVENT
BEGIN:VEVENT
DTSTART;VALUE=DATE:20230916
DTEND;VALUE=DATE:20230917
DTSTAMP:20260425T105933
CREATED:20230801T145818Z
LAST-MODIFIED:20230825T092757Z
UID:10004661-1694822400-1694908799@www.salamancalia.es
SUMMARY:Noche del Patrimonio 2023
DESCRIPTION:Apertura nocturna y gratuita de espacios emblemáticos\nActividades\n‘Escena Patrimonio’ con el espectáculo de danza ‘Los Narciso’ de Helena Martín\n\n  \n\nProgramación completa de las Ferias y Fiestas de Salamanca 2023
URL:https://www.salamancalia.es/evento/noche-del-patrimonio-2023/
LOCATION:Salamanca
CATEGORIES:Especiales
END:VEVENT
BEGIN:VEVENT
DTSTART;VALUE=DATE:20230916
DTEND;VALUE=DATE:20230917
DTSTAMP:20260425T105933
CREATED:20230823T084744Z
LAST-MODIFIED:20230915T120319Z
UID:10004718-1694822400-1694908799@www.salamancalia.es
SUMMARY:Feria Taurina 2023: Sábado 16 de septiembre. Ferias y fiestas en Salamanca
DESCRIPTION:Sábado 16 de septiembre\n18:00 – Corrida de toros. García Jiménez y Olga Jiménez. \n\nMORANTE de la Puebla\nSebastián CASTELLA\nJosé María MANZANARES\n\nConfirmado oficialmente: Morante de la Puebla no estará este sábado en La Glorieta. La empresa BMF está a la espera de confirmar el sustituto del diestro sevillano. \nVenta de entradas\nAccede a la venta online \n  \n\nFeria taurina de las Ferias y Fiestas de Salamanca 2023\nProgramación completa de las Ferias y Fiestas de Salamanca 2023
URL:https://www.salamancalia.es/evento/feria-taurina-2023-sabado-16-de-septiembre-ferias-y-fiestas-en-salamanca/
LOCATION:Plaza de toros La Glorieta\, Av. de San Agustín\, 1\, Salamanca\, Salamanca\, 37005\, España
CATEGORIES:Toros
END:VEVENT
BEGIN:VEVENT
DTSTART;VALUE=DATE:20230916
DTEND;VALUE=DATE:20230917
DTSTAMP:20260425T105933
CREATED:20230905T102900Z
LAST-MODIFIED:20230905T102900Z
UID:10004760-1694822400-1694908799@www.salamancalia.es
SUMMARY:Bordados Mexicanos
DESCRIPTION:Aprender las puntadas más utilizadas en distintas regiones de México: Tenango\, Zinancantán\, Chamula. \nAl final del taller te llevarás una bolsa de algodón bordada con todas esas puntadas\, una guía impresa con el paso a paso de cada una de ellas y el kit de bordado para que puedas seguir bordando en casa.
URL:https://www.salamancalia.es/evento/bordados-mexicanos/
LOCATION:La U mutante\, Melchor Cano\, 9\, Salamanca\, Salamanca\, 37007\, España
CATEGORIES:Cursos y Talleres
ORGANIZER;CN="La U mutante":MAILTO:u@laumutante.com
END:VEVENT
BEGIN:VEVENT
DTSTART;VALUE=DATE:20230916
DTEND;VALUE=DATE:20230917
DTSTAMP:20260425T105933
CREATED:20230905T103404Z
LAST-MODIFIED:20230905T103427Z
UID:10004761-1694822400-1694908799@www.salamancalia.es
SUMMARY:Muñecas de tela
DESCRIPTION:Primero de tres talleres organizados para la creación y diseño de muñecas de tela: La muñeca ancestral. \n(Siguientes talleres en octubre – La muñeca creativa – y en noviembre – La muñeca juguete -). \nEn este primer taller conectaremos con lo ancestral\, con los materiales naturales (maderas\, palos\, telas\, hilos\, plumas\, hojas\, piedras\, metales\, etc.)\, con la creatividad sin prisa\, con la tierra\, con los orígenes para valorar la construcción de la figura humana a través de los elementos.
URL:https://www.salamancalia.es/evento/munecas-de-tela/
LOCATION:La U mutante\, Melchor Cano\, 9\, Salamanca\, Salamanca\, 37007\, España
CATEGORIES:Cursos y Talleres
ORGANIZER;CN="La U mutante":MAILTO:u@laumutante.com
END:VEVENT
BEGIN:VEVENT
DTSTART;VALUE=DATE:20230916
DTEND;VALUE=DATE:20230917
DTSTAMP:20260425T105933
CREATED:20230905T103626Z
LAST-MODIFIED:20230905T103626Z
UID:10004762-1694822400-1694908799@www.salamancalia.es
SUMMARY:Máquina de coser
DESCRIPTION:Aprender a manejar una máquina de coser y practicar a través de distintos ejercicios de costura. \nTe llevarás a casa un muestrario de costura con distintas puntadas.
URL:https://www.salamancalia.es/evento/maquina-de-coser-2/
LOCATION:La U mutante\, Melchor Cano\, 9\, Salamanca\, Salamanca\, 37007\, España
CATEGORIES:Cursos y Talleres
ORGANIZER;CN="La U mutante":MAILTO:u@laumutante.com
END:VEVENT
BEGIN:VEVENT
DTSTART;TZID=UTC:20230916T180000
DTEND;TZID=UTC:20230916T180000
DTSTAMP:20260425T105933
CREATED:20230601T175842Z
LAST-MODIFIED:20230910T153050Z
UID:10004548-1694887200-1694887200@www.salamancalia.es
SUMMARY:Grease\, El Musical
DESCRIPTION:Musical basado en Grease\, la historia de Danny Zuko y Sandy Olsson a finales de los años 50 en el instituto Rydell High. \nSesiones\n\nJueves 14 de septiembre a las 20:30\nViernes 15 de septiembre a las 18:00\nViernes 15 de septiembre a las 21:30\nSábado 16 de septiembre a las 18:00\nSábado 16 de septiembre a las 21:30\nDomingo 17 de septiembre a las 17:30\n\nEntradas\n\nTaquilla del Teatro Liceo\nwww.ciudaddecultura.org\n\n  \n  \n\nProgramación completa de las Ferias y Fiestas de Salamanca 2023
URL:https://www.salamancalia.es/evento/grease-el-musical/2023-09-16/1/
LOCATION:CAEM\, Avda. de las Artes\, 45-55\, Salamanca\, Salamanca\, 37008\, España
CATEGORIES:Baile y danza,Teatro / Escena
END:VEVENT
BEGIN:VEVENT
DTSTART;TZID=UTC:20230916T213000
DTEND;TZID=UTC:20230916T213000
DTSTAMP:20260425T105933
CREATED:20230601T175842Z
LAST-MODIFIED:20230910T153050Z
UID:10004549-1694899800-1694899800@www.salamancalia.es
SUMMARY:Grease\, El Musical
DESCRIPTION:Musical basado en Grease\, la historia de Danny Zuko y Sandy Olsson a finales de los años 50 en el instituto Rydell High. \nSesiones\n\nJueves 14 de septiembre a las 20:30\nViernes 15 de septiembre a las 18:00\nViernes 15 de septiembre a las 21:30\nSábado 16 de septiembre a las 18:00\nSábado 16 de septiembre a las 21:30\nDomingo 17 de septiembre a las 17:30\n\nEntradas\n\nTaquilla del Teatro Liceo\nwww.ciudaddecultura.org\n\n  \n  \n\nProgramación completa de las Ferias y Fiestas de Salamanca 2023
URL:https://www.salamancalia.es/evento/grease-el-musical/2023-09-16/2/
LOCATION:CAEM\, Avda. de las Artes\, 45-55\, Salamanca\, Salamanca\, 37008\, España
CATEGORIES:Baile y danza,Teatro / Escena
END:VEVENT
BEGIN:VEVENT
DTSTART;VALUE=DATE:20230917
DTEND;VALUE=DATE:20230918
DTSTAMP:20260425T105933
CREATED:20230704T085252Z
LAST-MODIFIED:20230825T085309Z
UID:10003727-1694908800-1694995199@www.salamancalia.es
SUMMARY:Ferias y fiestas de Salamanca 2023. Domingo 17 de septiembre
DESCRIPTION:Programación del domingo 17 de septiembre\nPrograma Deportivo de Ferias. \n11:30 – Suelta popular de vaquillas. \n17:30 – Grease\, el musical. \n17:30 – Ferias y Circo: atracciones en el recinto ferial de La Aldehuela \n18:00 – Cartel taurino: Corrida de toros. \n  \n\n\n<< Programación del sábado 16 de septiembre\nProgramación completa de las Ferias y Fiestas de Salamanca 2023
URL:https://www.salamancalia.es/evento/ferias-y-fiestas-de-salamanca-2023-domingo-17-de-septiembre/
LOCATION:Salamanca
CATEGORIES:Ferias y fiestas | Festivales
END:VEVENT
BEGIN:VEVENT
DTSTART;VALUE=DATE:20230917
DTEND;VALUE=DATE:20230918
DTSTAMP:20260425T105933
CREATED:20230823T084938Z
LAST-MODIFIED:20230823T084938Z
UID:10004719-1694908800-1694995199@www.salamancalia.es
SUMMARY:Feria Taurina 2023: Domingo 17 de septiembre. Ferias y fiestas en Salamanca
DESCRIPTION:Domingo 17 de septiembre\n11:30 – Suelta popular de vaquillas \n18:00 – Corrida de toros. Puerto de San Lorenzo y la Ventana del Puerto \n\nAlejandro TALAVANTE\nEmilio DE JUSTO\nROCA REY\n\n  \nVenta de entradas\nAccede a la venta online \n  \n\nFeria taurina de las Ferias y Fiestas de Salamanca 2023\nProgramación completa de las Ferias y Fiestas de Salamanca 2023
URL:https://www.salamancalia.es/evento/feria-taurina-2023-domingo-17-de-septiembre-ferias-y-fiestas-en-salamanca/
LOCATION:Plaza de toros La Glorieta\, Av. de San Agustín\, 1\, Salamanca\, Salamanca\, 37005\, España
CATEGORIES:Toros
END:VEVENT
BEGIN:VEVENT
DTSTART;TZID=UTC:20230917T173000
DTEND;TZID=UTC:20230917T173000
DTSTAMP:20260425T105933
CREATED:20230601T175842Z
LAST-MODIFIED:20230910T153050Z
UID:10004550-1694971800-1694971800@www.salamancalia.es
SUMMARY:Grease\, El Musical
DESCRIPTION:Musical basado en Grease\, la historia de Danny Zuko y Sandy Olsson a finales de los años 50 en el instituto Rydell High. \nSesiones\n\nJueves 14 de septiembre a las 20:30\nViernes 15 de septiembre a las 18:00\nViernes 15 de septiembre a las 21:30\nSábado 16 de septiembre a las 18:00\nSábado 16 de septiembre a las 21:30\nDomingo 17 de septiembre a las 17:30\n\nEntradas\n\nTaquilla del Teatro Liceo\nwww.ciudaddecultura.org\n\n  \n  \n\nProgramación completa de las Ferias y Fiestas de Salamanca 2023
URL:https://www.salamancalia.es/evento/grease-el-musical/2023-09-17/
LOCATION:CAEM\, Avda. de las Artes\, 45-55\, Salamanca\, Salamanca\, 37008\, España
CATEGORIES:Baile y danza,Teatro / Escena
END:VEVENT
BEGIN:VEVENT
DTSTART;TZID=UTC:20230918T200000
DTEND;TZID=UTC:20230922T200000
DTSTAMP:20260425T105933
CREATED:20230915T084819Z
LAST-MODIFIED:20230915T084819Z
UID:10004775-1695067200-1695412800@www.salamancalia.es
SUMMARY:XXV Semana de Cine Español en Béjar
DESCRIPTION:Todas las películas y cortometrajes se proyectarán a las 20:00 en el Teatro Cervantes\, con un precio de entrada de 2 €. \nLa taquilla se encontrará abierta de lunes a viernes desde las 18:00. \nProgramación completa.
URL:https://www.salamancalia.es/evento/xxv-semana-de-cine-espanol-en-bejar/
LOCATION:Teatro Cervantes de Béjar\, Calle Olleros\, 1\, Béjar\, Salamanca\, 37700\, España
CATEGORIES:Cine
END:VEVENT
BEGIN:VEVENT
DTSTART;VALUE=DATE:20230919
DTEND;VALUE=DATE:20231019
DTSTAMP:20260425T105933
CREATED:20230919T082124Z
LAST-MODIFIED:20230919T082124Z
UID:10003912-1695081600-1697673599@www.salamancalia.es
SUMMARY:VI Festival Jóvenes Talentos
DESCRIPTION:Festival para impulsar la creatividad y las habilidades artísticas. \nSe mantendrá en 10.000 euros la cuantía total de los premios y habrá diez modalidades de participación con dos categorías de edad: \n\nartes circenses\n‘beat box’\ncanción\ncuentacuentos\ndanza\ninterpretación musical\nmagia\nmicroteatro\nmonólogos\npoesía recitada o dramatizada\n\nEl festival consta de dos fases: una de selección y otra de actuación. \nEstá dirigido a jóvenes de 14 a 35 años\, divididos en categorías de 14 a 21 años y de 22 a 35 años. \nLa gala final de este año se celebrará el 17 de noviembre a las 19:00 horas en el auditorio del Centro Municipal Julián Sánchez ‘El Charro’ y actuará el violinista Javin Lin. \nPremios\nCada una de las categorías tendrá un premio de 2.000 euros\, un segundo de 1.400 euros y un tercero de 1.000 euros\, así como un accésit de 600 euros. \nPlazo de presentación de las propuestas\nDesde el martes 19 de septiembre al 18 de octubre. \nLos interesados deberán presentarlas en un único envío (presencial\, por correo postal o correo electrónico) en: \nEspacio Joven (Ayuntamiento de Salamanca) calle José Jáuregui\, 16 37002 Salamanca.\nTeléfono: 923 281 101\nCorreo electrónico: espaciojoven@aytosalamanca.es\nHorario de entrega presencial: de lunes a viernes\, de 8:30 a 14:00 horas y de 17:00 a 20:00 horas. \nWeb del evento con las bases y toda la información.
URL:https://www.salamancalia.es/evento/vi-festival-jovenes-talentos/
LOCATION:Espacio Joven\, C/José Jáuregui\, nº 16\, Salamanca\, Salamanca\, España
CATEGORIES:Ferias y fiestas | Festivales
END:VEVENT
END:VCALENDAR