BEGIN:VCALENDAR
VERSION:2.0
PRODID:-//Agenda cultural y eventos de ocio en Salamanca - ECPv6.15.20//NONSGML v1.0//EN
CALSCALE:GREGORIAN
METHOD:PUBLISH
X-ORIGINAL-URL:https://www.salamancalia.es
X-WR-CALDESC:Eventos para Agenda cultural y eventos de ocio en Salamanca
REFRESH-INTERVAL;VALUE=DURATION:PT1H
X-Robots-Tag:noindex
X-PUBLISHED-TTL:PT1H
BEGIN:VTIMEZONE
TZID:UTC
BEGIN:STANDARD
TZOFFSETFROM:+0000
TZOFFSETTO:+0000
TZNAME:UTC
DTSTART:20220101T000000
END:STANDARD
END:VTIMEZONE
BEGIN:VEVENT
DTSTART;VALUE=DATE:20231106
DTEND;VALUE=DATE:20231109
DTSTAMP:20260426T030951
CREATED:20230530T100604Z
LAST-MODIFIED:20230711T093848Z
UID:10004538-1699228800-1699487999@www.salamancalia.es
SUMMARY:IV Congreso Nacional y I Iberoamericano del síndrome de Turner
DESCRIPTION:Hacia la consolidación y unificación.
URL:https://www.salamancalia.es/evento/iv-congreso-nacional-y-i-iberoamericano-del-sindrome-de-turner/
LOCATION:Palacio de Congresos y Exposiciones de Castilla y León\, Cuesta de Oviedo\, S/N\, Salamanca\, Salamanca\, 37008\, España
CATEGORIES:Congresos y Jornadas
END:VEVENT
BEGIN:VEVENT
DTSTART;VALUE=DATE:20231106
DTEND;VALUE=DATE:20231212
DTSTAMP:20260426T030951
CREATED:20231201T100534Z
LAST-MODIFIED:20231201T100638Z
UID:10004963-1699228800-1702339199@www.salamancalia.es
SUMMARY:ReciclArte
DESCRIPTION:Hacer del RECICLAJE MODA. \nUna exposición para fomentar la economía circular. \nHorario\n\nLunes a sábado de 10:00 a 19:00h\nDomingos y festivos de 10:00 a 14:00h\n\n  \n\nNavidad en Salamanca 2023
URL:https://www.salamancalia.es/evento/reciclarte-2/
LOCATION:Patio de Escuelas\, Salamanca\, Salamanca\, España
CATEGORIES:Exposiciones
END:VEVENT
BEGIN:VEVENT
DTSTART;VALUE=DATE:20231107
DTEND;VALUE=DATE:20231117
DTSTAMP:20260426T030951
CREATED:20231102T161721Z
LAST-MODIFIED:20231102T161721Z
UID:10004862-1699315200-1700179199@www.salamancalia.es
SUMMARY:Semana de la ciencia 2023
DESCRIPTION:Un total de 21 de actividades: visitas a colecciones científicas de la universidad de Salamanca\, conferencias\, talleres\, exposiciones y un espectáculo de monólogos científicos. \nConsulta toda la información (inscripciones\, horarios\, programa completo…).
URL:https://www.salamancalia.es/evento/semana-de-la-ciencia-2023/
LOCATION:Salamanca
CATEGORIES:Especiales
END:VEVENT
BEGIN:VEVENT
DTSTART;VALUE=DATE:20231108
DTEND;VALUE=DATE:20231130
DTSTAMP:20260426T030951
CREATED:20231114T120918Z
LAST-MODIFIED:20260416T082528Z
UID:10004880-1699401600-1701302399@www.salamancalia.es
SUMMARY:Trabajos realizados en el taller de artes plásticas y visuales: colección 2022-23
DESCRIPTION:Colección de trabajos realizados por los participantes de un taller de artes plásticas organizado por la Fundación AVIVA\, con el objetivo de mejorar la calidad de vida y la participación social de las personas con discapacidad\, y que se desarrolló entre el mes de septiembre de 2022 y el mes de junio de 2023. \nHorario\n\nde 9:00 14:00 horas\nde 17:00 20:00 horas\n\n 
URL:https://www.salamancalia.es/evento/trabajos-realizados-en-el-taller-de-artes-plasticas-y-visuales-coleccion-2022-23/
LOCATION:Sala de Exposiciones Espacio Joven\, c/ José Jáuregui\, 16\, Salamanca\, Salamanca\, 37002\, España
CATEGORIES:Exposiciones
END:VEVENT
BEGIN:VEVENT
DTSTART;VALUE=DATE:20231108
DTEND;VALUE=DATE:20240129
DTSTAMP:20260426T030951
CREATED:20231114T121436Z
LAST-MODIFIED:20231114T121436Z
UID:10004881-1699401600-1706486399@www.salamancalia.es
SUMMARY:Tomás Bretón\, mucho más que la verbena de la Paloma
DESCRIPTION:Organizada por el Ayuntamiento de Salamanca y la Biblioteca Nacional de España. \nEsta muestra forma parte de los actos organizados por el Ayuntamiento de Salamanca para conmemorar el centenario de la muerte del músico y compositor salmantino. \nComisariada por Víctor Sánchez Sánchez. \nReúne más de un centenar de obras de la propia colección de la Biblioteca Nacional de España y de otras instituciones españolas\, como del Ayuntamiento de Salamanca. \n 
URL:https://www.salamancalia.es/evento/tomas-breton-mucho-mas-que-la-verbena-de-la-paloma/
LOCATION:Torre de los Anaya\, Esquina con\, Calle San Pablo & Calle Jesús\, Salamanca\, Salamanca\, España
CATEGORIES:Exposiciones
END:VEVENT
BEGIN:VEVENT
DTSTART;VALUE=DATE:20231110
DTEND;VALUE=DATE:20231120
DTSTAMP:20260426T030951
CREATED:20231114T123137Z
LAST-MODIFIED:20231114T123137Z
UID:10004883-1699574400-1700438399@www.salamancalia.es
SUMMARY:III Concurso de pinchos Van Dyck y alrededores
DESCRIPTION:Participantes:
URL:https://www.salamancalia.es/evento/iii-concurso-de-pinchos-van-dyck-y-alrededores/
LOCATION:Salamanca
CATEGORIES:Concursos
END:VEVENT
BEGIN:VEVENT
DTSTART;VALUE=DATE:20231110
DTEND;VALUE=DATE:20240226
DTSTAMP:20260426T030951
CREATED:20231201T101751Z
LAST-MODIFIED:20231201T101834Z
UID:10004966-1699574400-1708905599@www.salamancalia.es
SUMMARY:Cabello/Carceller
DESCRIPTION:Visiones contemporáneas. \nComisariada por Playtime Audiovisuales. \nEl trigésimo tercer ciclo expositivo de Visiones Contemporáneas\, últimas tendencias del cine y vídeo en España\, un proyecto comisariado por Playtime Audiovisuales (Natalia Piñuel Martín y Enrique Piñuel Martín) para el DA2 – Domus Artium 2002\, en su undécima temporada\, está dedicado al colectivo artístico Cabello/Carceller. \nConsulta toda la información (en pdf). \n  \n\nNavidad en Salamanca 2023
URL:https://www.salamancalia.es/evento/cabello-carceller/
LOCATION:DA2\, Domus Artium 2002\, Avda. de la Aldehuela\, 30\, Salamanca\, Salamanca\, 37008\, España
CATEGORIES:Exposiciones
END:VEVENT
BEGIN:VEVENT
DTSTART;TZID=UTC:20231110T210000
DTEND;TZID=UTC:20231111T210000
DTSTAMP:20260426T030951
CREATED:20231103T112253Z
LAST-MODIFIED:20231103T112827Z
UID:10004865-1699650000-1699736400@www.salamancalia.es
SUMMARY:Romeo y Julieta despiertan...
DESCRIPTION:Sesiones\n\nviernes 10 de noviembre a las 21:00\nsábado 11 de noviembre a las 21:00\n\nIntérpretes\n\nAna Belén\nJesús Noguero\nIrene Rouco\nJosé Luis Torrijo\nDavid San José\n\nDuración: 1h 40′.
URL:https://www.salamancalia.es/evento/romeo-y-julieta-despiertan/
LOCATION:Teatro Liceo\, Plaza del Liceo s/n\, Salamanca\, Salamanca\, 37002\, España
CATEGORIES:Teatro / Escena
END:VEVENT
BEGIN:VEVENT
DTSTART;TZID=UTC:20231110T220000
DTEND;TZID=UTC:20231110T220000
DTSTAMP:20260426T030951
CREATED:20230607T084928Z
LAST-MODIFIED:20260416T080354Z
UID:10004554-1699653600-1699653600@www.salamancalia.es
SUMMARY:Hens
DESCRIPTION:Presentará su segundo disco en solitario «No me odio tanto». \nWeb del evento. \n 
URL:https://www.salamancalia.es/evento/hens/
LOCATION:Sala B del CAEM\, Avenida de las Artes\, 45-55\, Salamanca\, Salamanca\, 37003\, España
CATEGORIES:Conciertos
END:VEVENT
BEGIN:VEVENT
DTSTART;VALUE=DATE:20231111
DTEND;VALUE=DATE:20231112
DTSTAMP:20260426T030951
CREATED:20231031T174558Z
LAST-MODIFIED:20231031T174558Z
UID:10004851-1699660800-1699747199@www.salamancalia.es
SUMMARY:Lettering
DESCRIPTION:En este taller podrás iniciarte en el Lettering o\, si ya tienes conocimientos\, profundizar en la técnica: la sesión es personalizada y nos adaptaremos a tu nivel. Desde cero y a tu ritmo. \nTrazos básicos\, letras bonitas\, empezar a formar palabras\, aprender las bases para degradados\, … \nSerá una mañana divertida y muy creativa. \nTe facilitaremos las plantillas adecuadas y todo el material necesario.
URL:https://www.salamancalia.es/evento/lettering-3/
LOCATION:La U mutante\, Melchor Cano\, 9\, Salamanca\, Salamanca\, 37007\, España
CATEGORIES:Cursos y Talleres
ORGANIZER;CN="La U mutante":MAILTO:u@laumutante.com
END:VEVENT
BEGIN:VEVENT
DTSTART;VALUE=DATE:20231111
DTEND;VALUE=DATE:20231112
DTSTAMP:20260426T030951
CREATED:20231101T140818Z
LAST-MODIFIED:20231101T140818Z
UID:10004856-1699660800-1699747199@www.salamancalia.es
SUMMARY:Acuarela
DESCRIPTION:En esta ocasión nuestra inspiración se centrará en el otoño: motivos otoñales y una paleta de colores propios de esta época nos servirán para experimentar con distintas técnicas y planteamientos de esta disciplina artística. Un taller idóneo tanto para no iniciados como para aquellos que quieran mejorar su técnica. \nTodos los materiales incluidos.
URL:https://www.salamancalia.es/evento/acuarela-2/
LOCATION:La U mutante\, Melchor Cano\, 9\, Salamanca\, Salamanca\, 37007\, España
CATEGORIES:Cursos y Talleres
ORGANIZER;CN="La U mutante":MAILTO:u@laumutante.com
END:VEVENT
BEGIN:VEVENT
DTSTART;TZID=UTC:20231111T223000
DTEND;TZID=UTC:20231111T223000
DTSTAMP:20260426T030951
CREATED:20231107T162503Z
LAST-MODIFIED:20231107T162503Z
UID:10004876-1699741800-1699741800@www.salamancalia.es
SUMMARY:Concierto de "La duda ofende"
DESCRIPTION:Concierto de «La duda ofende» en The Liverpool Pub
URL:https://www.salamancalia.es/evento/concierto-de-la-duda-ofende/
LOCATION:The Liverpool Pub Music\, c/ Gran Via 51\, Salamanca\, Salamanca\, España
CATEGORIES:Conciertos
END:VEVENT
BEGIN:VEVENT
DTSTART;TZID=UTC:20231112T180000
DTEND;TZID=UTC:20231112T180000
DTSTAMP:20260426T030951
CREATED:20231010T154307Z
LAST-MODIFIED:20231010T154307Z
UID:10003953-1699812000-1699812000@www.salamancalia.es
SUMMARY:Buenismo Show
DESCRIPTION:Espectáculo de humor de Manuel Burque\, Henar Álvarez y Quique Peinado\, basado en el reconocido programa de radio que presentan ellos mismos. \nDuración: 90 minutos. \nEdad recomendada:  más de 16 años.
URL:https://www.salamancalia.es/evento/buenismo-show-salamanca/
LOCATION:Palacio de Congresos y Exposiciones de Castilla y León\, Cuesta de Oviedo\, S/N\, Salamanca\, Salamanca\, 37008\, España
CATEGORIES:Humor / Monólogos
END:VEVENT
BEGIN:VEVENT
DTSTART;TZID=UTC:20231112T190000
DTEND;TZID=UTC:20231112T190000
DTSTAMP:20260426T030951
CREATED:20231031T110339Z
LAST-MODIFIED:20231031T110606Z
UID:10004846-1699815600-1699815600@www.salamancalia.es
SUMMARY:Música de cine
DESCRIPTION:Concierto-homenaje a Zacarías González. \nBanda Municipal de Música de Salamanca.
URL:https://www.salamancalia.es/evento/musica-de-cine/
LOCATION:Teatro Liceo\, Plaza del Liceo s/n\, Salamanca\, Salamanca\, 37002\, España
CATEGORIES:Conciertos
END:VEVENT
BEGIN:VEVENT
DTSTART;VALUE=DATE:20231113
DTEND;VALUE=DATE:20231115
DTSTAMP:20260426T030951
CREATED:20231102T160543Z
LAST-MODIFIED:20231102T160543Z
UID:10004860-1699833600-1700006399@www.salamancalia.es
SUMMARY:Jornadas de sensibilización: La conducta suicida en la infancia y la juventud\, una visión multidisciplinar
DESCRIPTION:Tendrán lugar los días 13 y 14 de noviembre de 2023 en horario de 16: 30 a 19:30 en la Facultad de Farmacia de la Universidad de Salamanca. \nAsistencia libre\, sin inscripción previa\, hasta completar aforo. \nMás información y programa completo.
URL:https://www.salamancalia.es/evento/jornadas-de-sensibilizacion-la-conducta-suicida-en-la-infancia-y-la-juventud-una-vision-multidisciplinar/
CATEGORIES:Congresos y Jornadas
END:VEVENT
BEGIN:VEVENT
DTSTART;VALUE=DATE:20231114
DTEND;VALUE=DATE:20231117
DTSTAMP:20260426T030951
CREATED:20231031T112201Z
LAST-MODIFIED:20231031T112635Z
UID:10004847-1699920000-1700179199@www.salamancalia.es
SUMMARY:Ciclo de Conferencias sobre Tomás Bretón
DESCRIPTION:14 de noviembre a las 20:00\nMás allá de la Zarzuela: \n\nMaría Palacios Nieto\, profesora titular de Historia y Ciencias de la Música de la USAL.\nPresenta Bernardo Garcia-Bernalt\, profesor titular de la USAL.\n\n15 de noviembre a las 20:00\nTomás Bretón y «musicalia» de Ortega y Gasset. \n\nAntonio Notario Ruiz\, profesor Titular de Estética y Teoría de las Artes de la USAL.\nPresenta Román Álvarez\, catedrático de la USAL y vicepresidente de la Junta Directiva de Alumni.\n\n16 de noviembre a las 20:00\nEl perfil masónico de Tomás Bretón a través de su diario. \n\nJacinto Torres Mulas\, catedrático de Musicología del Real Conservatorio Superior de Música de Madrid.\nPresenta Enrique Cabero\, presidente del Consejo Económico y Social de Castilla y León y profesor de la USAL.
URL:https://www.salamancalia.es/evento/ciclo-de-conferencias-sobre-tomas-breton/
LOCATION:Teatro Liceo\, Plaza del Liceo s/n\, Salamanca\, Salamanca\, 37002\, España
CATEGORIES:Congresos y Jornadas
END:VEVENT
BEGIN:VEVENT
DTSTART;VALUE=DATE:20231115
DTEND;VALUE=DATE:20231120
DTSTAMP:20260426T030951
CREATED:20230228T154437Z
LAST-MODIFIED:20230228T154511Z
UID:10004409-1700006400-1700438399@www.salamancalia.es
SUMMARY:II Semana del Español
DESCRIPTION:Reunirá a más de 250 profesionales del sector. \nLa II Semana del Español será un evento híbrido físico-digital con el multiobjetivo de: \n\nPotenciar los sectores económicos vinculados al español como lengua extranjera\nMejorar la calidad de la enseñanza\nPoner en valor el turismo idiomático\nCrear un punto de encuentro entre todos los profesionales del sector\n\nConsulta la agenda completa aquí.
URL:https://www.salamancalia.es/evento/ii-semana-del-espanol-en-salamanca/
LOCATION:Palacio de Congresos y Exposiciones de Castilla y León\, Cuesta de Oviedo\, S/N\, Salamanca\, Salamanca\, 37008\, España
CATEGORIES:Congresos y Jornadas
END:VEVENT
BEGIN:VEVENT
DTSTART;VALUE=DATE:20231115
DTEND;VALUE=DATE:20231213
DTSTAMP:20260426T030951
CREATED:20231116T155923Z
LAST-MODIFIED:20231116T160046Z
UID:10004891-1700006400-1702425599@www.salamancalia.es
SUMMARY:Leonardo da Vinci en Salamanca
DESCRIPTION:La Fundación ‘la Caixa’ y el Ayuntamiento de Salamanca presentan la exposición ‘Leonardo da Vinci. Observa. Cuestiona. Experimenta’ \nOrganizada por la Fundación ‘la Caixa’ en colaboración con el Ayuntamiento de Salamanca\, esta experiencia presenta al hombre del Renacimiento desde una perspectiva innovadora. \nEn el proyecto ‘Leonardo da Vinci. Observa. Cuestiona. Experimenta’ no se muestra como un genio\, sino como una actitud ante la vida\, como una forma de mirar e interactuar con la realidad en la que la curiosidad fue el motor que dio rienda suelta a su genialidad. \nLa muestra\, que cuenta con la colaboración del Château du Clos Lucé – Parc Leonardo da Vinci\, se desarrolla en dos espacios: en el interior\, un espectáculo audiovisual conecta el pensamiento de Leonardo con nuestro día a día; en el exterior\, cuatro grandes maquetas reproducen fielmente algunas de las ideas más modernas y premonitorias de Leonardo. \nHorario visitas\nPases público general (duración 30 minutos) \n\nDe lunes a viernes de 12:30 a 14:00 y de 17:00 a 21:00\nSábados\, domingos y festivos de 11:00 a 14:00 y de 17:00 a 21:00\n\nMás información.
URL:https://www.salamancalia.es/evento/leonardo-da-vinci-en-salamanca/
LOCATION:Plaza de Anaya\, Plaza de Anaya\, Salamanca\, Salamanca\, España
CATEGORIES:Exposiciones
END:VEVENT
BEGIN:VEVENT
DTSTART;TZID=UTC:20231115T140000
DTEND;TZID=UTC:20231118T233000
DTSTAMP:20260426T030951
CREATED:20231010T152701Z
LAST-MODIFIED:20240305T182409Z
UID:10003951-1700056800-1700350200@www.salamancalia.es
SUMMARY:II Semana del Español en Salamanca
DESCRIPTION:Un evento único donde se unen todos los perfiles profesionales del sector ELE. \nSesiones formativas\, reuniones empresariales y actividades culturales. \nLa Semana del Español es un evento híbrido físico-digital que tendrá lugar el 13 y 14 de noviembre en formato digital y del 15 al 18 de noviembre de 2023 en Salamanca. \nMás información.
URL:https://www.salamancalia.es/evento/ii-semana-del-espanol-salamanca/
CATEGORIES:Congresos y Jornadas
END:VEVENT
BEGIN:VEVENT
DTSTART;VALUE=DATE:20231117
DTEND;VALUE=DATE:20231211
DTSTAMP:20260426T030951
CREATED:20231201T100910Z
LAST-MODIFIED:20231201T100910Z
UID:10004964-1700179200-1702252799@www.salamancalia.es
SUMMARY:Valores en la tuna
DESCRIPTION:“Valores en la Tuna: Folclore\, fraternidad y filantropía estudiantil” \nHorario\n\nMartes a sábado de 12:00 a 14:00h y de 17:30 a 20:30h\nDomingos y festivos de 10:00 a 14:00h\nLunes cerrado\n\nEn la Sala B. Hospedería Fonseca. \n  \n\nNavidad en Salamanca 2023
URL:https://www.salamancalia.es/evento/valores-en-la-tuna/
LOCATION:Hospedería Fonseca\, Calle Fonseca\, 4\, Salamanca\, 37002\, España
CATEGORIES:Exposiciones
END:VEVENT
BEGIN:VEVENT
DTSTART;TZID=UTC:20231117T213000
DTEND;TZID=UTC:20231117T213000
DTSTAMP:20260426T030951
CREATED:20231114T122753Z
LAST-MODIFIED:20231114T122753Z
UID:10004882-1700256600-1700256600@www.salamancalia.es
SUMMARY:Mario Cea y Santi Tamariz
DESCRIPTION:Concierto acústico.
URL:https://www.salamancalia.es/evento/mario-cea-y-santi-tamariz/
LOCATION:Pakipalla\, Calle San Justo 27\, Salamanca\, Salamanca\, 37001\, España
CATEGORIES:Conciertos
END:VEVENT
BEGIN:VEVENT
DTSTART;TZID=UTC:20231117T220000
DTEND;TZID=UTC:20231117T220000
DTSTAMP:20260426T030951
CREATED:20231010T114516Z
LAST-MODIFIED:20240305T182406Z
UID:10004802-1700258400-1700258400@www.salamancalia.es
SUMMARY:Uña y Carne
DESCRIPTION:El grupo de rumba flamenca Uña y Carne llega a Salamanca con su Tour de Invierno 2023. \n“Pasa el canutito”\, “Dame de eso”\, “Mil razones” o “Habrá un lugar”; la banda tocará sus canciones más míticas en un concierto irrepetible. \nEl grupo musical Uña y Carne\, compuesto por el compositor y productor alicantino Carlos Salado y el cantante Antonio Clavería arrancan su tour de invierno 2023. El próximo 17 de noviembre\, Uña y Carne actuará en Sala B interpretando canciones míticas de su disco “Lo que el tiempo no sabe borrar”\, así como otros temas y sorpresas. \nTras lanzar al mercado su última canción “Dame de eso” en colaboración con la cantante latinoamericana Lennis Rodríguez\, Uña y Carne trae la rumba flamenca a Salamanca con canciones tan conocidas como “Pasa el canutito”\, “Yo me drogo”\, “Mil Razones” con la cantante Bebe o “Habrá un lugar”\, en colaboración con El Canijo de Jerez.
URL:https://www.salamancalia.es/evento/una-y-carne/
LOCATION:Sala B del CAEM\, Avenida de las Artes\, 45-55\, Salamanca\, Salamanca\, 37003\, España
CATEGORIES:Conciertos
END:VEVENT
BEGIN:VEVENT
DTSTART;TZID=UTC:20231117T220000
DTEND;TZID=UTC:20231117T220000
DTSTAMP:20260426T030951
CREATED:20231114T110010Z
LAST-MODIFIED:20231114T110010Z
UID:10004879-1700258400-1700258400@www.salamancalia.es
SUMMARY:Jam Session
DESCRIPTION:Jam Session en The Liverpool Pub.
URL:https://www.salamancalia.es/evento/jam-session/
LOCATION:The Liverpool Pub Music\, c/ Gran Via 51\, Salamanca\, Salamanca\, España
CATEGORIES:Conciertos
END:VEVENT
BEGIN:VEVENT
DTSTART;TZID=UTC:20231117T220000
DTEND;TZID=UTC:20231201T220000
DTSTAMP:20260426T030951
CREATED:20231114T105022Z
LAST-MODIFIED:20231114T105221Z
UID:10004878-1700258400-1701468000@www.salamancalia.es
SUMMARY:La Nouvelle Helmantique
DESCRIPTION:La Nouvelle Helmantique actuará en el Café Novelty. \n¡¡Os esperamos para bailar el mejor swing!! \n\nViernes 17 de noviembre a las 22:00\nViernes 1 de diciembre a las 22:00
URL:https://www.salamancalia.es/evento/la-nouvelle-helmantique-4/
LOCATION:Café Novelty\, Plaza Mayor 2\, Salamanca\, Salamanca\, España
CATEGORIES:Conciertos
END:VEVENT
BEGIN:VEVENT
DTSTART;VALUE=DATE:20231118
DTEND;VALUE=DATE:20231119
DTSTAMP:20260426T030951
CREATED:20231031T174727Z
LAST-MODIFIED:20231031T174727Z
UID:10004852-1700265600-1700351999@www.salamancalia.es
SUMMARY:Muñecas de tela
DESCRIPTION:En este taller aprenderás la técnica para confeccionar una muñeca de tela con los patrones y las medidas de las muñecas Waldorf. \nCrearemos la muñeca: sus elementos\, los bordados\, su peinado\, y la confección de su ropa. \nAl finalizar el taller te llevarás tu muñeca de tela terminada con una ropa sencilla. Será un juguete con alma y 100% natural (algodón y lana)\, que podrá convertirse en la compañía perfecta para tus hijos en cuentos\, juegos y fantasías. \nTodos los materiales incluidos.
URL:https://www.salamancalia.es/evento/munecas-de-tela-2/
LOCATION:La U mutante\, Melchor Cano\, 9\, Salamanca\, Salamanca\, 37007\, España
CATEGORIES:Cursos y Talleres
ORGANIZER;CN="La U mutante":MAILTO:u@laumutante.com
END:VEVENT
BEGIN:VEVENT
DTSTART;VALUE=DATE:20231118
DTEND;VALUE=DATE:20231119
DTSTAMP:20260426T030951
CREATED:20231031T174916Z
LAST-MODIFIED:20231031T174916Z
UID:10004853-1700265600-1700351999@www.salamancalia.es
SUMMARY:Ganchillo
DESCRIPTION:Aprenderás los diferentes puntos básicos del tejido con ganchillo\, abriendo la puerta a tu creatividad para proyectos textiles\, decorativos y funcionales. \nHablaremos de materiales y otras consideraciones y abordaremos distintos puntos básicos\, (punto deslizado o raso\, punto bajo o medio punto\, medio punto alto o media vareta\, vareta o punto alto\, vareta doble o punto alto doble)\, aumentos o disminuciones. \nTodos los materiales incluidos.
URL:https://www.salamancalia.es/evento/ganchillo-2/
LOCATION:La U mutante\, Melchor Cano\, 9\, Salamanca\, Salamanca\, 37007\, España
CATEGORIES:Cursos y Talleres
ORGANIZER;CN="La U mutante":MAILTO:u@laumutante.com
END:VEVENT
BEGIN:VEVENT
DTSTART;VALUE=DATE:20231118
DTEND;VALUE=DATE:20231127
DTSTAMP:20260426T030951
CREATED:20231031T121340Z
LAST-MODIFIED:20231114T122135Z
UID:10004848-1700265600-1701043199@www.salamancalia.es
SUMMARY:IV Salón del Libro Infantil y Juvenil
DESCRIPTION:“Los malos también cuentan”\nOrganizado por la Asociación LASAL (Salamanca Animación a la Lectura)  con el apoyo del Ayuntamiento de Salamanca  a través de la Fundación Salamanca Ciudad de Saberes y la Red de Bibliotecas Municipales de Salamanca. \n\nUn encuentro de las lectoras y los lectores con los libros. Un intercambio de experiencias de lectura. Una ocasión para leer y compartir emociones alrededor de los libros.\nExposiciones dinamizadas\, recomendaciones de lectura\, encuentros con autores\, talleres creativos\, concursos\, charlas…\nActividades para familias\, centros escolares\, estudiantes universitarios de las facultades de Educación y Biblioteconomía y Documentación\, docentes y profesionales de las bibliotecas\, asociaciones como ASPRODES\, ONCE\, ASPACE Y CÁRITAS…\n\nTendrá su sede en la Torre de los Anaya pero se extenderá su programación a todas las bibliotecas de la Red de Bibliotecas de Salamanca\, la biblioteca de la Casa de las Conchas\, las librerías Cartemverso y Letras Corsarias\, los Cines Van Dyck… y este año también pasacalles. \nProgramación\n\nMás información IV Salón del Libro Infantil y Juvenil “Los malos también cuentan”.\nSalón del libro infantil y juvenil: actividades en los colegios.
URL:https://www.salamancalia.es/evento/iv-salon-del-libro-infantil-y-juvenil/
CATEGORIES:Ferias y fiestas | Festivales
END:VEVENT
BEGIN:VEVENT
DTSTART;TZID=UTC:20231118T200000
DTEND;TZID=UTC:20231118T200000
DTSTAMP:20260426T030951
CREATED:20231114T103812Z
LAST-MODIFIED:20231114T104042Z
UID:10004877-1700337600-1700337600@www.salamancalia.es
SUMMARY:Misa de Santa Cecilia de Joseph Haydn
DESCRIPTION:El sábado 18 de noviembre\, a las 20:00 y en el Centro de Artes Escénicas y de la Música (CAEM)\,  la Orquesta clásica del Teatro Liceo de Salamanca inaugura su temporada 2023-24 con el estreno en Salamanca de una de las grandes obras corales de Joseph Haydn la más ambiciosa de sus misas en cuanto a arquitectura y proporciones y lo hace en su primera colaboración con otra institución musical señera de la ciudad: el Coro de cámara de la USAL. \nJoseph HAYDN (1732-1809)\nMisa de Santa Cecilia Hob. XXII:5\n(Missa Cellensis in honorem BVM) \nI \nKYRIE\n1. Kyrie eleison I: Adagio Allegro con spirito (Coro)\n2. Christe eleison: Allegretto (Tenor solo & Coro)\n3. Kyrie eleison II: Vivace (Coro) \nGLORIA\n4. Gloria in excelsis Deo: Allegro di molto (Coro)\n5. Laudamus te: Moderato (Soprano solo)\n6. Gratias agimus tibi: Allabreve (Coro)\n7. Domine Deus: Allegro (Alto\, tenor & basso soli)\n8. Qui tollis peccata mundi: Adagio (Alto solo & Coro)\n9. Quoniam tu solus: Allegro di molto (Soprano solo)\n10. Cum Sancto Spiritu: Largo Allegro con spirito (Coro) \nII \nCREDO\n11. Credo in unum Deum: Vivace (Soprano solo & Coro\n12a. Et incarnatus est: Largo (Tenor solo)\n12b. Crucifixus: Largo (Alto & Basso soli)\n13. Et resurrexit (Tenor solo & Coro) \nSANCTUS BENEDICTUS\n14. Sanctus: Adagio Allegro (Coro)\n15. Benedictus: Andante Allegro (Coro) \nAGNUS DEI\n16. Agnus Dei: Largo (Basso solo)\n17. Dona nobis pacem: Presto (Coro) \n  \nAgnieszka Grzywacz\, soprano\nMarta Infante Alexandre\, alto\nAriel Hernández Roque\, tenor\nJesús García Aréjula\, bajo \nCORO DE CÁMARA DE LA UNIVERSIDAD DE SALAMANCA\n(Bernardo García Bernalt\, dir.) \nORQUESTA CLÁSICA DEL TEATRO LICEO DE SALAMANCA\nAlfonso Sebastián Alegre\, dirección
URL:https://www.salamancalia.es/evento/misa-de-santa-cecilia-de-joseph-haydn/
LOCATION:CAEM\, Avda. de las Artes\, 45-55\, Salamanca\, Salamanca\, 37008\, España
CATEGORIES:Conciertos
END:VEVENT
BEGIN:VEVENT
DTSTART;TZID=UTC:20231118T210000
DTEND;TZID=UTC:20231118T210000
DTSTAMP:20260426T030951
CREATED:20231103T123746Z
LAST-MODIFIED:20231103T123746Z
UID:10004875-1700341200-1700341200@www.salamancalia.es
SUMMARY:Cena y risas con Dani Mateo
DESCRIPTION:Cena y risas con Dani Mateo. \nArtista invitado: Raúl Fervé.
URL:https://www.salamancalia.es/evento/cena-y-risas-con-dani-mateo/
LOCATION:Palacio de Figueroa (Casino de Salamanca)\, Calle Zamora\, 11\, 15\, Salamanca\, Salamanca\, 37002\, España
CATEGORIES:Humor / Monólogos
END:VEVENT
BEGIN:VEVENT
DTSTART;TZID=UTC:20231119T180000
DTEND;TZID=UTC:20231119T180000
DTSTAMP:20260426T030951
CREATED:20231010T114756Z
LAST-MODIFIED:20231010T114756Z
UID:10004803-1700416800-1700416800@www.salamancalia.es
SUMMARY:Hay un mago en ti
DESCRIPTION:Compañía Miguel de Lucas. \nDuración: 1 hora. \nRecomendado para niños a partir de 5 años
URL:https://www.salamancalia.es/evento/hay-un-mago-en-ti/
LOCATION:Teatro Liceo\, Plaza del Liceo s/n\, Salamanca\, Salamanca\, 37002\, España
CATEGORIES:Magia,Ocio Infantil
END:VEVENT
END:VCALENDAR