BEGIN:VCALENDAR
VERSION:2.0
PRODID:-//Agenda cultural y eventos de ocio en Salamanca - ECPv6.15.20//NONSGML v1.0//EN
CALSCALE:GREGORIAN
METHOD:PUBLISH
X-ORIGINAL-URL:https://www.salamancalia.es
X-WR-CALDESC:Eventos para Agenda cultural y eventos de ocio en Salamanca
REFRESH-INTERVAL;VALUE=DURATION:PT1H
X-Robots-Tag:noindex
X-PUBLISHED-TTL:PT1H
BEGIN:VTIMEZONE
TZID:UTC
BEGIN:STANDARD
TZOFFSETFROM:+0000
TZOFFSETTO:+0000
TZNAME:UTC
DTSTART:20220101T000000
END:STANDARD
END:VTIMEZONE
BEGIN:VEVENT
DTSTART;VALUE=DATE:20230703
DTEND;VALUE=DATE:20230715
DTSTAMP:20260424T021414
CREATED:20230425T144300Z
LAST-MODIFIED:20230425T144339Z
UID:10004473-1688342400-1689379199@www.salamancalia.es
SUMMARY:XXVII Curso de Música Antigua
DESCRIPTION:Del 3 al 7 de julio de 2023 \n\nCanto: Carlos Mena\n\nDel 10 al 14 de julio de 2023 \n\nClave: Jacques Ogg\nViolín/viola: Pedro Gandía e Hiro Kurosaki\nViolonchelo/viola de gamba: Itziar Atutxa\n\n  \nPlazo de inscripción\n\nHasta el 23 de junio de 2023
URL:https://www.salamancalia.es/evento/xxvii-curso-de-musica-antigua/
LOCATION:Hospedería Fonseca\, Calle Fonseca\, 4\, Salamanca\, 37002\, España
CATEGORIES:Cursos y Talleres
END:VEVENT
BEGIN:VEVENT
DTSTART;VALUE=DATE:20230703
DTEND;VALUE=DATE:20230815
DTSTAMP:20260424T021414
CREATED:20230621T084843Z
LAST-MODIFIED:20230621T084843Z
UID:10003721-1688342400-1692057599@www.salamancalia.es
SUMMARY:Talleres de astronomía
DESCRIPTION:Taller de verano: El Universo más divertido. \nDirigido a niños entre 6 y 16 años. \nSe realizará en horario de 10:30 a 12:30 horas. \nLas sesiones durarán entre 60 y 75 minutos. \nEste taller gratuito está planteado para que los chicos y chicas conozcan las peculiaridades del UNIVERSO que nos rodea. \nSerá impartido por aquilanaturaleza. \nInformación e inscripciones en el propio Museo del Comercio. \nSesiones\n\ndel 3 al 14 de julio\ndel 1 al 14 de agosto
URL:https://www.salamancalia.es/evento/talleres-de-astronomia/
LOCATION:Museo del Comercio\, Avda. de Campoamor\, s/n\, Salamanca\, Salamanca\, 37003\, España
CATEGORIES:Cursos y Talleres
END:VEVENT
BEGIN:VEVENT
DTSTART;VALUE=DATE:20230703
DTEND;VALUE=DATE:20230901
DTSTAMP:20260424T021414
CREATED:20230531T073356Z
LAST-MODIFIED:20230606T161759Z
UID:10004541-1688342400-1693526399@www.salamancalia.es
SUMMARY:Actividades de verano Mikado Mysteries: Detectives del Tiempo
DESCRIPTION:Comenzamos el día 3 de julio con las Actividades de verano Mikado Mysteries: Detectives del Tiempo \n¿Cómo inscribirse?\n\nPor teléfono o Whatsapp en el 627 57 34 99\nA través del correo electrónico info@mikadosalamanca.com\nPresencialmente en horario de lunes a viernes de 15:30h a 20:30h\n\nEl mejor plan para que tus hijos puedan reforzar los conocimientos escolares de su nivel y realizar actividades divertidas y educativas a través del tiempo y las épocas de la historia. \nDesvela los enigmas de la historia con MIKADO MYSTERIES ¡Un verano lleno de intriga\, misterio y diversión en cada época histórica! \nHorario de las actividades de verano\n\nDe lunes a viernes de 10:00h a 14:00h\n\nPlazas limitadas. \n¡Reserva tu plaza! \nPrecio: 220€/mes. \n 
URL:https://www.salamancalia.es/evento/actividades-de-verano-mikado-mysteries-detectives-del-tiempo/
LOCATION:Mikado Salamanca Centro Psicopedagógico\, Paseo de Canalejas 32\, Bajo\, Salamanca\, Salamanca\, 37001\, España
CATEGORIES:Campamentos y Campus
ORGANIZER;CN="Mikado Salamanca Centro Psicopedag%C3%B3gico":MAILTO:info@mikadosalamanca.com
END:VEVENT
BEGIN:VEVENT
DTSTART;VALUE=DATE:20230706
DTEND;VALUE=DATE:20230805
DTSTAMP:20260424T021414
CREATED:20230706T092222Z
LAST-MODIFIED:20230823T065254Z
UID:10004622-1688601600-1691193599@www.salamancalia.es
SUMMARY:Carteles Anunciadores de las Ferias y Fiestas de Béjar 2023
DESCRIPTION:Bases para el Certamen de Carteles Anunciadores de las Ferias y Fiestas de Béjar 2023. \nPrograma de Fiestas y Ferias de Béjar 2023.
URL:https://www.salamancalia.es/evento/carteles-anunciadores-de-las-ferias-y-fiestas-de-bejar-2023/
LOCATION:Béjar\, Béjar\, Salamanca\, España
CATEGORIES:Concursos
END:VEVENT
BEGIN:VEVENT
DTSTART;VALUE=DATE:20230707
DTEND;VALUE=DATE:20230708
DTSTAMP:20260424T021414
CREATED:20230705T084457Z
LAST-MODIFIED:20230705T084651Z
UID:10004617-1688688000-1688774399@www.salamancalia.es
SUMMARY:Zentangle
DESCRIPTION:Curso de iniciación. \nEspecialmente dirigido a niñas/os\, aunque para todas las edades a partir de 8 años. El objetivo es aprender en qué consiste el método Zentangle ®  (8 pasos) realizando dibujos sorprendentes a partir de trazos muy simples. Este método es perfecto para activar la concentración y aumentar nuestra creatividad y nuestra autoestima. No se necesita ningún conocimiento previo. \nTambién habrá un segundo taller el 14-07. \n  \n 
URL:https://www.salamancalia.es/evento/zentangle-3/
LOCATION:La U mutante\, Melchor Cano\, 9\, Salamanca\, Salamanca\, 37007\, España
CATEGORIES:Cursos y Talleres
ORGANIZER;CN="La U mutante":MAILTO:u@laumutante.com
END:VEVENT
BEGIN:VEVENT
DTSTART;VALUE=DATE:20230707
DTEND;VALUE=DATE:20230725
DTSTAMP:20260424T021414
CREATED:20230706T093238Z
LAST-MODIFIED:20230706T093417Z
UID:10004623-1688688000-1690243199@www.salamancalia.es
SUMMARY:Festival de Música Vocal Rutas de Alba 2023
DESCRIPTION:Con el homenaje al músico salmantino Tomás Bretón. \nMúltiples conciertos\, charlas\, visitas guiadas\, talleres y muchas más actividades. \nProgramación completa.
URL:https://www.salamancalia.es/evento/festival-de-musica-vocal-rutas-de-alba-2023/
LOCATION:Salamanca
CATEGORIES:Ferias y fiestas | Festivales
END:VEVENT
BEGIN:VEVENT
DTSTART;VALUE=DATE:20230707
DTEND;VALUE=DATE:20230813
DTSTAMP:20260424T021414
CREATED:20230706T085555Z
LAST-MODIFIED:20230710T073851Z
UID:10003761-1688688000-1691884799@www.salamancalia.es
SUMMARY:Viverfest 2023 - Festival Cultural de Verano Villamayor
DESCRIPTION:Actividades culturales para las noches de verano: música clásica\, música melódica\, música fusión\, cine de verano\, magia… \n  \nMás  fiestas en pueblos de Salamanca 2023.
URL:https://www.salamancalia.es/evento/viverfest-2023-festival-cultural-de-verano-villamayor/
LOCATION:Villamayor\, Villamayor\, Salamanca\, España
CATEGORIES:Ferias y fiestas | Festivales
END:VEVENT
BEGIN:VEVENT
DTSTART;VALUE=DATE:20230707
DTEND;VALUE=DATE:20230826
DTSTAMP:20260424T021414
CREATED:20230614T133931Z
LAST-MODIFIED:20230614T134113Z
UID:10003712-1688688000-1693007999@www.salamancalia.es
SUMMARY:Cine al aire libre 2023 en Salamanca
DESCRIPTION:Programa completo en pdf.
URL:https://www.salamancalia.es/evento/cine-al-aire-libre-2023-en-salamanca/
LOCATION:Biblioteca M. Torrente Ballester\, Paseo de los Olivos 10-22\, Salamanca\, Salamanca\, 37005\, España
CATEGORIES:Cine
END:VEVENT
BEGIN:VEVENT
DTSTART;TZID=UTC:20230707T210000
DTEND;TZID=UTC:20230707T210000
DTSTAMP:20260424T021414
CREATED:20230704T092128Z
LAST-MODIFIED:20230704T093240Z
UID:10003728-1688763600-1688763600@www.salamancalia.es
SUMMARY:¿Quién se acordará?
DESCRIPTION:Celebramos el centenario de la muerte de Tomás Bretón. \nCompañía ForoAsteros Teatro. \nDuración: 40´. \nEspectáculo accesible para personas con discapacidad auditiva. \nEntrada libre hasta completar aforo. \nPlazas y Patios 2023. Programación cultural en verano en Salamanca.
URL:https://www.salamancalia.es/evento/quien-se-acordara/2023-07-07/
LOCATION:Las Úrsulas
CATEGORIES:Teatro / Escena
END:VEVENT
BEGIN:VEVENT
DTSTART;VALUE=DATE:20230708
DTEND;VALUE=DATE:20230709
DTSTAMP:20260424T021414
CREATED:20230705T084904Z
LAST-MODIFIED:20230705T084904Z
UID:10004618-1688774400-1688860799@www.salamancalia.es
SUMMARY:Taller de acuarela
DESCRIPTION:Taller de acuarela para todos los niveles. \nEn esta ocasión nuestra inspiración se centrará en la botánica: plantas\, flores\, o incluso frutos\, nos darán la oportunidad de conocer materiales y técnicas y experimentar con el agua y el color creando sombras y luces\, formas y volúmenes. \n  \n 
URL:https://www.salamancalia.es/evento/taller-de-acuarela/
LOCATION:La U mutante\, Melchor Cano\, 9\, Salamanca\, Salamanca\, 37007\, España
CATEGORIES:Cursos y Talleres
ORGANIZER;CN="La U mutante":MAILTO:u@laumutante.com
END:VEVENT
BEGIN:VEVENT
DTSTART;VALUE=DATE:20230708
DTEND;VALUE=DATE:20230709
DTSTAMP:20260424T021414
CREATED:20230705T085049Z
LAST-MODIFIED:20230705T085049Z
UID:10004619-1688774400-1688860799@www.salamancalia.es
SUMMARY:Marcapáginas en Zentangle
DESCRIPTION:Aprender a dibujar distintos tangles para realizar un marcapáginas en blanco y negro y otro sobre una base de acuarela. Los patrones dibujados seguirán el método Zentangle. \nTambién habrá un segundo taller el 15-07. \n  \n  \n 
URL:https://www.salamancalia.es/evento/marcapaginas-en-zentangle/
LOCATION:La U mutante\, Melchor Cano\, 9\, Salamanca\, Salamanca\, 37007\, España
CATEGORIES:Cursos y Talleres
ORGANIZER;CN="La U mutante":MAILTO:u@laumutante.com
END:VEVENT
BEGIN:VEVENT
DTSTART;VALUE=DATE:20230708
DTEND;VALUE=DATE:20230709
DTSTAMP:20260424T021414
CREATED:20230705T112723Z
LAST-MODIFIED:20230710T073839Z
UID:10003755-1688774400-1688860799@www.salamancalia.es
SUMMARY:Fiestas de Guijuelo - Festividad de San Cristóbal
DESCRIPTION:19:00 – MISA\n20:00 – BENDICIÓN Y DESFILE por las calles de la localidad\, escoltados por la Policía Local.\n21:00 – VINO DE HONOR para los participantes. En Cafetería ‘Los Ángeles’.  Imprescindible invitación. Recogida de invitación en el Ayuntamiento de Guijuelo y Centro de transporte de Guijuelo del 22 al 30 de junio 2023.\n23:30 – MÚSICA EN DIRECTO con la actuación del grupo DISTRITO pop y los DJ LOCALES Alberto Molines y DJ Mon. En la PLAZA JULIÁN COCA.\n\n  \nMás fiestas en pueblos de Salamanca 2023.
URL:https://www.salamancalia.es/evento/fiestas-de-guijuelo-festividad-de-san-cristobal/
LOCATION:Guijuelo\, Guijuelo\, Salamanca\, España
CATEGORIES:Ferias y fiestas | Festivales
END:VEVENT
BEGIN:VEVENT
DTSTART;VALUE=DATE:20230708
DTEND;VALUE=DATE:20230730
DTSTAMP:20260424T021414
CREATED:20230707T081918Z
LAST-MODIFIED:20230707T082123Z
UID:10004627-1688774400-1690675199@www.salamancalia.es
SUMMARY:Las noches de Lis 2023
DESCRIPTION:Los conciertos de la duodécima edición de «Las Noches de Lis» tendrán lugar en La Terraza de Lis a partir de las 22:00 horas. \nSábado 8 de julio\n\nKarmento\n\nSábado 15 de julio\n\nHellen de Luxe y Santi Tamariz\n\nSábado 22 de julio\n\nSheila Blanco\n\nSábado 29 de julio\n\nCristina del Pozo
URL:https://www.salamancalia.es/evento/las-noches-de-lis-2023/
LOCATION:Museo Art Nouveau y Art Déco Casa Lis\, C/Gibraltar\,14\, Salamanca\, Salamanca\, 37008\, España
CATEGORIES:Conciertos
END:VEVENT
BEGIN:VEVENT
DTSTART;VALUE=DATE:20230708
DTEND;VALUE=DATE:20230904
DTSTAMP:20260424T021414
CREATED:20230705T090430Z
LAST-MODIFIED:20230705T090430Z
UID:10003752-1688774400-1693785599@www.salamancalia.es
SUMMARY:Muestra de trabajos de alumnas/os curso 2022/23
DESCRIPTION:El día 8 inauguraremos una muestra que permanecerá durante todo el mes y hasta los primeros días de septiembre\, de los trabajos realizados por alumnas/os en diferentes disciplinas: diseño de moda\, acuarela\, fotografía\, lettering\, encuadernación\, … Una especie de guiño al compromiso demostrado por personas que han compartido tiempo\, interés y conocimiento y han conseguido\, a través de las distintas clases y disciplinas\, pequeñas obras de arte. \nLa entrada es libre. \n  \n  \n  \n 
URL:https://www.salamancalia.es/evento/muestra-de-trabajos-de-alumnas-os-curso-2022-23/
LOCATION:La U mutante\, Melchor Cano\, 9\, Salamanca\, Salamanca\, 37007\, España
CATEGORIES:Exposiciones
ORGANIZER;CN="La U mutante":MAILTO:u@laumutante.com
END:VEVENT
BEGIN:VEVENT
DTSTART;TZID=UTC:20230708T193000
DTEND;TZID=UTC:20230708T193000
DTSTAMP:20260424T021414
CREATED:20230706T092628Z
LAST-MODIFIED:20230706T092628Z
UID:10004624-1688844600-1688844600@www.salamancalia.es
SUMMARY:Duende ecuestre
DESCRIPTION:Espectáculo ecuestre.
URL:https://www.salamancalia.es/evento/duende-ecuestre/
LOCATION:Plaza de Toros Bejar\, Ctra. Castañar\, 37700 Béjar\, Salamanca\, Salamanca\, Salamanca\, 37700\, España
CATEGORIES:Especiales
END:VEVENT
BEGIN:VEVENT
DTSTART;TZID=UTC:20230708T210000
DTEND;TZID=UTC:20230708T210000
DTSTAMP:20260424T021414
CREATED:20230704T093341Z
LAST-MODIFIED:20230704T093435Z
UID:10003731-1688850000-1688850000@www.salamancalia.es
SUMMARY:Cucurrucucú Paloma\, y la pelirroja... ¿qué?
DESCRIPTION:Compañía EduLogic Producciones. \nDuración: 40´. \nEspectáculo accesible para personas con discapacidad auditiva. \nEntrada libre hasta completar aforo. \nPlazas y Patios 2023. Programación cultural en verano en Salamanca.
URL:https://www.salamancalia.es/evento/cucurrucucu-paloma-y-la-pelirroja-que/2023-07-08/
LOCATION:Plaza de San Boal (Iglesia)\, Plaza de San Boal\, Salamanca\, Salamanca\, España
CATEGORIES:Teatro / Escena
END:VEVENT
BEGIN:VEVENT
DTSTART;TZID=UTC:20230708T223000
DTEND;TZID=UTC:20230708T223000
DTSTAMP:20260424T021414
CREATED:20230704T095941Z
LAST-MODIFIED:20230704T095941Z
UID:10003747-1688855400-1688855400@www.salamancalia.es
SUMMARY:Florilegio
DESCRIPTION:Caminero Quinteto. \nEntrada libre hasta completar aforo. \nPlazas y Patios 2023. Programación cultural en verano en Salamanca.
URL:https://www.salamancalia.es/evento/florilegio/
LOCATION:Jardines de Santo Domingo de la Cruz\, Calle\, Arroyo de Santo Domingo\, 18\, Salamanca\, Salamanca\, 37008\, España
CATEGORIES:Conciertos
END:VEVENT
BEGIN:VEVENT
DTSTART;TZID=UTC:20230709T103000
DTEND;TZID=UTC:20230709T143000
DTSTAMP:20260424T021414
CREATED:20230707T084359Z
LAST-MODIFIED:20230707T084506Z
UID:10004629-1688898600-1688913000@www.salamancalia.es
SUMMARY:Mójate por la Esclerosis Múltiple 2023
DESCRIPTION:Productos solidarios\nPhotocall de playa\nMúsica en directo\nConcurso de dibujo
URL:https://www.salamancalia.es/evento/mojate-por-la-esclerosis-multiple-2023/
LOCATION:Parque de la Alamedilla\, Parque de la Alamedilla\, Salamanca\, Salamanca\, España
CATEGORIES:Especiales
END:VEVENT
BEGIN:VEVENT
DTSTART;VALUE=DATE:20230710
DTEND;VALUE=DATE:20230711
DTSTAMP:20260424T021414
CREATED:20230705T085245Z
LAST-MODIFIED:20230705T085245Z
UID:10004620-1688947200-1689033599@www.salamancalia.es
SUMMARY:Básico de fotografía
DESCRIPTION:Grupo de tardes y 11-07-2023\, grupo de mañanas. \n10 horas para conocer los factores esenciales de la exposición fotográfica y las principales reglas de composición. \nLos participantes\, a través de las nociones teóricas y técnicas y las prácticas diarias podrán controlar su cámara y componer sus imágenes con destreza. \n  \n  \n  \n 
URL:https://www.salamancalia.es/evento/basico-de-fotografia/
LOCATION:La U mutante\, Melchor Cano\, 9\, Salamanca\, Salamanca\, 37007\, España
CATEGORIES:Cursos y Talleres
ORGANIZER;CN="La U mutante":MAILTO:u@laumutante.com
END:VEVENT
BEGIN:VEVENT
DTSTART;VALUE=DATE:20230711
DTEND;VALUE=DATE:20230718
DTSTAMP:20260424T021414
CREATED:20230711T120140Z
LAST-MODIFIED:20230711T120140Z
UID:10003769-1689033600-1689638399@www.salamancalia.es
SUMMARY:Jornadas Cultura Tradicional Rayana 2023
DESCRIPTION:En Ciudad Rodrigo. \nPrograma completo en la web del evento (ver más abajo). \nOtros festivales y fiestas en pueblos de Salamanca 2023.
URL:https://www.salamancalia.es/evento/jornadas-cultura-tradicional-rayana-2023/
LOCATION:Ciudad Rodrigo\, Ciudad Rodrigo\, Salamanca\, España
CATEGORIES:Ferias y fiestas | Festivales
END:VEVENT
BEGIN:VEVENT
DTSTART;TZID=UTC:20230711T203000
DTEND;TZID=UTC:20230711T203000
DTSTAMP:20260424T021414
CREATED:20230706T084510Z
LAST-MODIFIED:20230706T084510Z
UID:10003760-1689107400-1689107400@www.salamancalia.es
SUMMARY:Concierto Coral Eltham College Choir
DESCRIPTION:Concierto gratuito en la Catedral Vieja de Salamanca. \n  \nTambién puede interesarte: Plazas y Patios Salamanca. Programación cultural de verano 2023
URL:https://www.salamancalia.es/evento/concierto-coral-eltham-college-choir/
LOCATION:Catedral Vieja\, Plaza Juan XXIII\, s/n\, Salamanca\, Salamanca\, 37008\, España
CATEGORIES:Conciertos
END:VEVENT
BEGIN:VEVENT
DTSTART;TZID=UTC:20230711T223000
DTEND;TZID=UTC:20230711T223000
DTSTAMP:20260424T021414
CREATED:20230608T172346Z
LAST-MODIFIED:20230623T115123Z
UID:10004574-1689114600-1689114600@www.salamancalia.es
SUMMARY:Raynald Colom y Francesco Cafiso Quintet
DESCRIPTION:Comprar entradas. \n  \nProgramación del VI Festival Internacional de Jazz en Salamanca. \nPlazas y Patios 2023. Programación cultural en verano en Salamanca.
URL:https://www.salamancalia.es/evento/raynald-colom-y-francesco-cafiso-quintet/
LOCATION:Patio Chico\, Calle del patio Chico\, Salamanca\, Salamanca\, 37008\, España
CATEGORIES:Conciertos
END:VEVENT
BEGIN:VEVENT
DTSTART;TZID=UTC:20230711T223000
DTEND;TZID=UTC:20230715T223000
DTSTAMP:20260424T021414
CREATED:20230607T082606Z
LAST-MODIFIED:20230623T115040Z
UID:10003681-1689114600-1689460200@www.salamancalia.es
SUMMARY:VI Festival Internacional de Jazz
DESCRIPTION:Todos los conciertos tendrán lugar a las 22:30. \nPrograma del festival\n\nmartes 11 de julio – Raynald Colom y Francesco Cafiso Quintet\nmiércoles 12 de julio – Roberta Gambarini\njueves 13 de julio – Emmet Cohen Trío\nsábado 14 de julio – Steve Turre «Generations» Sextet\ndomingo 15 de julio – The Grasso Brothers\n\nPrecio\n3€ por concierto. Comprar entradas. \n  \nPlazas y Patios 2023. Programación cultural en verano en Salamanca.
URL:https://www.salamancalia.es/evento/vi-festival-internacional-de-jazz-2023/
LOCATION:Patio Chico\, Calle del patio Chico\, Salamanca\, Salamanca\, 37008\, España
CATEGORIES:Ferias y fiestas | Festivales
END:VEVENT
BEGIN:VEVENT
DTSTART;VALUE=DATE:20230712
DTEND;VALUE=DATE:20230713
DTSTAMP:20260424T021414
CREATED:20230705T085452Z
LAST-MODIFIED:20230705T085545Z
UID:10004621-1689120000-1689206399@www.salamancalia.es
SUMMARY:Aprender a manejar una máquina de coser
DESCRIPTION:Practicarás distintos ejercicios de costura y te llevarás a casa un muestrario con distintas puntadas. Partes de la máquina\, (palanca tirahilos\, enhebrador automático\, cortahilos\, canilla\, …)\, tensión del hilo\, mantenimiento básico\, resolución de problemas\, etc. \nTambién habrá talleres los días 19 y 26 de julio. \n45 € (80 €\, dos talleres\, 100 €\, los tres) \n  \n  \n  \n  \n 
URL:https://www.salamancalia.es/evento/aprender-a-manejar-una-maquina-de-coser/
LOCATION:La U mutante\, Melchor Cano\, 9\, Salamanca\, Salamanca\, 37007\, España
CATEGORIES:Cursos y Talleres
ORGANIZER;CN="La U mutante":MAILTO:u@laumutante.com
END:VEVENT
BEGIN:VEVENT
DTSTART;VALUE=DATE:20230712
DTEND;VALUE=DATE:20230715
DTSTAMP:20260424T021414
CREATED:20230608T174454Z
LAST-MODIFIED:20230608T174454Z
UID:10004579-1689120000-1689379199@www.salamancalia.es
SUMMARY:IV Congreso Internacional sobre Derechos Humanos
DESCRIPTION:Justicia climática y Derechos Humanos.
URL:https://www.salamancalia.es/evento/iv-congreso-internacional-sobre-derechos-humanos/
LOCATION:Facultad de Derecho\, Avda. Francisco Tomás y Valiente\, s/n\, Salamanca\, Salamanca\, 37007\, España
CATEGORIES:Congresos y Jornadas
END:VEVENT
BEGIN:VEVENT
DTSTART;TZID=UTC:20230712T223000
DTEND;TZID=UTC:20230712T223000
DTSTAMP:20260424T021414
CREATED:20230608T172557Z
LAST-MODIFIED:20230623T115200Z
UID:10004575-1689201000-1689201000@www.salamancalia.es
SUMMARY:Roberta Gambarini
DESCRIPTION:Comprar entradas. \n  \nProgramación del VI Festival Internacional de Jazz en Salamanca. \nProgramación de Plazas y Patios 2023 en Salamanca.
URL:https://www.salamancalia.es/evento/roberta-gambarini/
LOCATION:Patio Chico\, Calle del patio Chico\, Salamanca\, Salamanca\, 37008\, España
CATEGORIES:Conciertos
END:VEVENT
BEGIN:VEVENT
DTSTART;VALUE=DATE:20230713
DTEND;VALUE=DATE:20230715
DTSTAMP:20260424T021414
CREATED:20230523T093340Z
LAST-MODIFIED:20230523T093340Z
UID:10004532-1689206400-1689379199@www.salamancalia.es
SUMMARY:X Jornadas Internacionales de Enseñanza y Aprendizaje de la Estadística y la Investigación Operativa
DESCRIPTION:Toda la información: programa\, registro\, organizadores…
URL:https://www.salamancalia.es/evento/x-jornadas-internacionales-de-ensenanza-y-aprendizaje-de-la-estadistica-y-la-investigacion-operativa/
LOCATION:Colegio Arzobispo Fonseca\, C/ Fonseca\, 4\, Salamanca\, Salamanca\, España
CATEGORIES:Congresos y Jornadas
END:VEVENT
BEGIN:VEVENT
DTSTART;VALUE=DATE:20230713
DTEND;VALUE=DATE:20230730
DTSTAMP:20260424T021414
CREATED:20230706T073827Z
LAST-MODIFIED:20230710T074019Z
UID:10003757-1689206400-1690675199@www.salamancalia.es
SUMMARY:Noches de Cultura 2023 en Guijuelo
DESCRIPTION:jueves 13 de julio a las 22:30 – cine de verano:  ‘¡Scooby!’\,para todos los públicos\nmartes 18 de julio a las 22:30 – espectáculo de pompas de jabón gigantes\, a cargo de Pomper\nviernes 21 de julio a las 22:30 – cine de verano: ‘Cazafantasmas’\, para mayores de 12 años\njueves 27 de julio a las 22:30 – cuarteto Primital Brother ofrecerá un concierto a capela para todos los públicos\nsábado 29 de julio – certamen de pintura al aire libre ‘Villa de Guijuelo’\n\n  \nMás fiestas en pueblos de Salamanca 2023.
URL:https://www.salamancalia.es/evento/noches-de-cultura-2023-en-guijuelo/
LOCATION:Plaza Mayor (Guijuelo)\, Plaza Mayor\, Guijuelo\, Salamanca\, España
CATEGORIES:Ferias y fiestas | Festivales
END:VEVENT
BEGIN:VEVENT
DTSTART;VALUE=DATE:20230713
DTEND;VALUE=DATE:20230825
DTSTAMP:20260424T021414
CREATED:20230614T133137Z
LAST-MODIFIED:20230614T134308Z
UID:10003708-1689206400-1692921599@www.salamancalia.es
SUMMARY:Verano se escribe con Blues 2023
DESCRIPTION:VII Festival de Blues\nConciertos\n\nJueves 13 de julio a las 21:30 – Tonky Blues Band\nJueves 27 de julio a las 21:30 – Mayka Edjole and The Pigfoot Band\nJueves 10 de agosto a las 21:30 – Ophelia Trío\nJueves 24 de agosto a las 21:30 –  Richard Ray Farrell and The Leisure Men \n\nPrograma completo en pdf.
URL:https://www.salamancalia.es/evento/verano-se-escribe-con-blues-2023/
LOCATION:Biblioteca M. Torrente Ballester\, Paseo de los Olivos 10-22\, Salamanca\, Salamanca\, 37005\, España
CATEGORIES:Ferias y fiestas | Festivales
END:VEVENT
BEGIN:VEVENT
DTSTART;TZID=UTC:20230713T213000
DTEND;TZID=UTC:20230713T213000
DTSTAMP:20260424T021414
CREATED:20230704T100256Z
LAST-MODIFIED:20230704T100256Z
UID:10003748-1689283800-1689283800@www.salamancalia.es
SUMMARY:Banda Sinfónica Escuela Libre de Música Antonio Paoli de Puerto Rico
DESCRIPTION:Entrada libre hasta completar aforo. \nPlazas y Patios 2023. Programación cultural en verano en Salamanca.
URL:https://www.salamancalia.es/evento/banda-sinfonica-escuela-libre-de-musica-antonio-paoli-de-puerto-rico/
LOCATION:Plaza Mayor de Salamanca\, Pl. Mayor\, s/n\, Salamanca\, Salamanca\, 37002\, España
CATEGORIES:Conciertos
ATTACH;FMTTYPE=image/jpeg:https://www.salamancalia.es/wp-content/uploads/2022/10/Plaza-Mayor-de-Salamanca.jpg
END:VEVENT
END:VCALENDAR