BEGIN:VCALENDAR
VERSION:2.0
PRODID:-//Agenda cultural y eventos de ocio en Salamanca - ECPv6.15.20//NONSGML v1.0//EN
CALSCALE:GREGORIAN
METHOD:PUBLISH
X-ORIGINAL-URL:https://www.salamancalia.es
X-WR-CALDESC:Eventos para Agenda cultural y eventos de ocio en Salamanca
REFRESH-INTERVAL;VALUE=DURATION:PT1H
X-Robots-Tag:noindex
X-PUBLISHED-TTL:PT1H
BEGIN:VTIMEZONE
TZID:UTC
BEGIN:STANDARD
TZOFFSETFROM:+0000
TZOFFSETTO:+0000
TZNAME:UTC
DTSTART:20220101T000000
END:STANDARD
END:VTIMEZONE
BEGIN:VEVENT
DTSTART;VALUE=DATE:20230712
DTEND;VALUE=DATE:20230715
DTSTAMP:20260424T041109
CREATED:20230608T174454Z
LAST-MODIFIED:20230608T174454Z
UID:10004579-1689120000-1689379199@www.salamancalia.es
SUMMARY:IV Congreso Internacional sobre Derechos Humanos
DESCRIPTION:Justicia climática y Derechos Humanos.
URL:https://www.salamancalia.es/evento/iv-congreso-internacional-sobre-derechos-humanos/
LOCATION:Facultad de Derecho\, Avda. Francisco Tomás y Valiente\, s/n\, Salamanca\, Salamanca\, 37007\, España
CATEGORIES:Congresos y Jornadas
END:VEVENT
BEGIN:VEVENT
DTSTART;TZID=UTC:20230712T223000
DTEND;TZID=UTC:20230712T223000
DTSTAMP:20260424T041109
CREATED:20230608T172557Z
LAST-MODIFIED:20230623T115200Z
UID:10004575-1689201000-1689201000@www.salamancalia.es
SUMMARY:Roberta Gambarini
DESCRIPTION:Comprar entradas. \n  \nProgramación del VI Festival Internacional de Jazz en Salamanca. \nProgramación de Plazas y Patios 2023 en Salamanca.
URL:https://www.salamancalia.es/evento/roberta-gambarini/
LOCATION:Patio Chico\, Calle del patio Chico\, Salamanca\, Salamanca\, 37008\, España
CATEGORIES:Conciertos
END:VEVENT
BEGIN:VEVENT
DTSTART;VALUE=DATE:20230713
DTEND;VALUE=DATE:20230715
DTSTAMP:20260424T041109
CREATED:20230523T093340Z
LAST-MODIFIED:20230523T093340Z
UID:10004532-1689206400-1689379199@www.salamancalia.es
SUMMARY:X Jornadas Internacionales de Enseñanza y Aprendizaje de la Estadística y la Investigación Operativa
DESCRIPTION:Toda la información: programa\, registro\, organizadores…
URL:https://www.salamancalia.es/evento/x-jornadas-internacionales-de-ensenanza-y-aprendizaje-de-la-estadistica-y-la-investigacion-operativa/
LOCATION:Colegio Arzobispo Fonseca\, C/ Fonseca\, 4\, Salamanca\, Salamanca\, España
CATEGORIES:Congresos y Jornadas
END:VEVENT
BEGIN:VEVENT
DTSTART;VALUE=DATE:20230713
DTEND;VALUE=DATE:20230730
DTSTAMP:20260424T041109
CREATED:20230706T073827Z
LAST-MODIFIED:20230710T074019Z
UID:10003757-1689206400-1690675199@www.salamancalia.es
SUMMARY:Noches de Cultura 2023 en Guijuelo
DESCRIPTION:jueves 13 de julio a las 22:30 – cine de verano:  ‘¡Scooby!’\,para todos los públicos\nmartes 18 de julio a las 22:30 – espectáculo de pompas de jabón gigantes\, a cargo de Pomper\nviernes 21 de julio a las 22:30 – cine de verano: ‘Cazafantasmas’\, para mayores de 12 años\njueves 27 de julio a las 22:30 – cuarteto Primital Brother ofrecerá un concierto a capela para todos los públicos\nsábado 29 de julio – certamen de pintura al aire libre ‘Villa de Guijuelo’\n\n  \nMás fiestas en pueblos de Salamanca 2023.
URL:https://www.salamancalia.es/evento/noches-de-cultura-2023-en-guijuelo/
LOCATION:Plaza Mayor (Guijuelo)\, Plaza Mayor\, Guijuelo\, Salamanca\, España
CATEGORIES:Ferias y fiestas | Festivales
END:VEVENT
BEGIN:VEVENT
DTSTART;VALUE=DATE:20230713
DTEND;VALUE=DATE:20230825
DTSTAMP:20260424T041109
CREATED:20230614T133137Z
LAST-MODIFIED:20230614T134308Z
UID:10003708-1689206400-1692921599@www.salamancalia.es
SUMMARY:Verano se escribe con Blues 2023
DESCRIPTION:VII Festival de Blues\nConciertos\n\nJueves 13 de julio a las 21:30 – Tonky Blues Band\nJueves 27 de julio a las 21:30 – Mayka Edjole and The Pigfoot Band\nJueves 10 de agosto a las 21:30 – Ophelia Trío\nJueves 24 de agosto a las 21:30 –  Richard Ray Farrell and The Leisure Men \n\nPrograma completo en pdf.
URL:https://www.salamancalia.es/evento/verano-se-escribe-con-blues-2023/
LOCATION:Biblioteca M. Torrente Ballester\, Paseo de los Olivos 10-22\, Salamanca\, Salamanca\, 37005\, España
CATEGORIES:Ferias y fiestas | Festivales
END:VEVENT
BEGIN:VEVENT
DTSTART;TZID=UTC:20230713T213000
DTEND;TZID=UTC:20230713T213000
DTSTAMP:20260424T041109
CREATED:20230704T100256Z
LAST-MODIFIED:20230704T100256Z
UID:10003748-1689283800-1689283800@www.salamancalia.es
SUMMARY:Banda Sinfónica Escuela Libre de Música Antonio Paoli de Puerto Rico
DESCRIPTION:Entrada libre hasta completar aforo. \nPlazas y Patios 2023. Programación cultural en verano en Salamanca.
URL:https://www.salamancalia.es/evento/banda-sinfonica-escuela-libre-de-musica-antonio-paoli-de-puerto-rico/
LOCATION:Plaza Mayor de Salamanca\, Pl. Mayor\, s/n\, Salamanca\, Salamanca\, 37002\, España
CATEGORIES:Conciertos
ATTACH;FMTTYPE=image/jpeg:https://www.salamancalia.es/wp-content/uploads/2022/10/Plaza-Mayor-de-Salamanca.jpg
END:VEVENT
BEGIN:VEVENT
DTSTART;TZID=UTC:20230713T223000
DTEND;TZID=UTC:20230713T223000
DTSTAMP:20260424T041109
CREATED:20230608T172803Z
LAST-MODIFIED:20230623T115157Z
UID:10004576-1689287400-1689287400@www.salamancalia.es
SUMMARY:Emmet Cohen Trío
DESCRIPTION:Comprar entradas. \n  \nProgramación del VI Festival Internacional de Jazz en Salamanca. \nProgramación de Plazas y Patios 2023 en Salamanca.
URL:https://www.salamancalia.es/evento/emmet-cohen-trio/
LOCATION:Patio Chico\, Calle del patio Chico\, Salamanca\, Salamanca\, 37008\, España
CATEGORIES:Conciertos
END:VEVENT
BEGIN:VEVENT
DTSTART;VALUE=DATE:20230714
DTEND;VALUE=DATE:20230716
DTSTAMP:20260424T041109
CREATED:20230314T130357Z
LAST-MODIFIED:20230710T073819Z
UID:10004435-1689292800-1689465599@www.salamancalia.es
SUMMARY:Blues Béjar Festival 2023
DESCRIPTION:XXIV Festival Internacional de Blues de Castilla y León. \nCartel del Blues Béjar Festival 2023\n\nTommy Castro & The Painkillers\nTen Years After\nJohnny Rawls\nGisele Jackson\nTia Carroll\nVargas Blues Band feat John Byron Jagger\nVanessa Collier\nThe Cinelli Brothers\n\nCompra de entradas. \n  \nOtros festivales y fiestas en pueblos de Salamanca 2023.
URL:https://www.salamancalia.es/evento/blues-bejar-festival-2023/
LOCATION:Béjar\, Béjar\, Salamanca\, España
CATEGORIES:Ferias y fiestas | Festivales
END:VEVENT
BEGIN:VEVENT
DTSTART;VALUE=DATE:20230714
DTEND;VALUE=DATE:20230819
DTSTAMP:20260424T041109
CREATED:20230727T112639Z
LAST-MODIFIED:20230727T112639Z
UID:10003787-1689292800-1692403199@www.salamancalia.es
SUMMARY:Noches de verano 2023. Villares de la Reina
DESCRIPTION:Programación cultural de verano en Villares de la Reina. \nProgramación completa.
URL:https://www.salamancalia.es/evento/noches-de-verano-2023-villares-de-la-reina/
LOCATION:Villares de la Reina
CATEGORIES:Ferias y fiestas | Festivales
END:VEVENT
BEGIN:VEVENT
DTSTART;TZID=UTC:20230714T210000
DTEND;TZID=UTC:20230714T210000
DTSTAMP:20260424T041109
CREATED:20230704T092128Z
LAST-MODIFIED:20230704T093240Z
UID:10003729-1689368400-1689368400@www.salamancalia.es
SUMMARY:¿Quién se acordará?
DESCRIPTION:Celebramos el centenario de la muerte de Tomás Bretón. \nCompañía ForoAsteros Teatro. \nDuración: 40´. \nEspectáculo accesible para personas con discapacidad auditiva. \nEntrada libre hasta completar aforo. \nPlazas y Patios 2023. Programación cultural en verano en Salamanca.
URL:https://www.salamancalia.es/evento/quien-se-acordara/2023-07-14/
LOCATION:Las Úrsulas
CATEGORIES:Teatro / Escena
END:VEVENT
BEGIN:VEVENT
DTSTART;TZID=UTC:20230714T223000
DTEND;TZID=UTC:20230714T223000
DTSTAMP:20260424T041109
CREATED:20230608T173037Z
LAST-MODIFIED:20230623T115144Z
UID:10004577-1689373800-1689373800@www.salamancalia.es
SUMMARY:Steve Turre "Generations" Sextet
DESCRIPTION:Comprar entradas. \n  \nProgramación del VI Festival Internacional de Jazz en Salamanca. \nPlazas y Patios 2023 en Salamanca.
URL:https://www.salamancalia.es/evento/steve-turre-generations-sextet/
LOCATION:Patio Chico\, Calle del patio Chico\, Salamanca\, Salamanca\, 37008\, España
CATEGORIES:Conciertos
END:VEVENT
BEGIN:VEVENT
DTSTART;VALUE=DATE:20230715
DTEND;VALUE=DATE:20230716
DTSTAMP:20260424T041109
CREATED:20230711T115830Z
LAST-MODIFIED:20230711T115830Z
UID:10003768-1689379200-1689465599@www.salamancalia.es
SUMMARY:Programación San Cristóbal 2023 en Alba de Tormes
DESCRIPTION:Otros festivales y fiestas en pueblos de Salamanca 2023.
URL:https://www.salamancalia.es/evento/programacion-san-cristobal-2023-en-alba-de-tormes/
LOCATION:Salamanca
CATEGORIES:Ferias y fiestas | Festivales
END:VEVENT
BEGIN:VEVENT
DTSTART;VALUE=DATE:20230715
DTEND;VALUE=DATE:20230716
DTSTAMP:20260424T041109
CREATED:20230713T152400Z
LAST-MODIFIED:20230713T152400Z
UID:10003778-1689379200-1689465599@www.salamancalia.es
SUMMARY:Fiestas de Santa Marta 2023. Sábado 15 de julio
DESCRIPTION:Sábado 15 de julio\n\n12.00 – Apertura exposición “Salvador Dalí\, artista ilustrador”. Muestra con un centenar de obras del reconocido artista. Lugar: Museo del Grabado de Santa Marta. Organiza: Ayuntamiento\n22.30 – Actuación musical Grupo La Búsqueda. Lugar: Barrio del Carmen. Organiza: Ayuntamiento\n\n  \n\nProgramación de las Fiestas de Santa Marta 2023
URL:https://www.salamancalia.es/evento/fiestas-de-santa-marta-2023-sabado-15-de-julio/
LOCATION:Santa Marta de Tormes
CATEGORIES:Ferias y fiestas | Festivales
END:VEVENT
BEGIN:VEVENT
DTSTART;VALUE=DATE:20230715
DTEND;VALUE=DATE:20230731
DTSTAMP:20260424T041109
CREATED:20230705T110221Z
LAST-MODIFIED:20230713T164808Z
UID:10003753-1689379200-1690761599@www.salamancalia.es
SUMMARY:Fiestas de Santa Marta 2023
DESCRIPTION:Festival Noches del Tormes\nConciertos de las fiestas patronales: \n\nviernes 21 de julio a las 23:00 – La Fuga. Comprar entradas. A continuación Fiesta Musical.\nsábado 22 de julio a las 23:00 – Festival de Reggaeton Urban con Da Soul y Dj Duende. Comprar entradas.\ndomingo 23 julio a las 23:00 – Tributo Barrio Sésamo\nlunes 24 de julio a las 23:00 – Camela. Comprar entradas. A continuación Fiesta Musical Dj Salcedo y Papi\nmartes 25 de julio a las 23:00 – Andy y Lucas. Comprar entradas. A continuación Fiesta Musical Dj Danigon\n\nLas entradas se pueden comprar por separado o en un bono más económico para acceder a todos los espectáculos. \nPrecio\n\nLa Fuga\, Festival de Reggaeton Urban y Andy y Lucas: 5 euros\nCamela: 10 euros\nBono de 20 euros para acceder a los cuatro conciertos\n\nLas entradas individuales online: ver más arriba el acceso para comprar entradas. \nComprar entradas presencialmente: individuales y abonos a partir del viernes 7 de julio y podrán recogerse en el Ayuntamiento de lunes a viernes en horario de 17:30 a 20:30 horas\, y los sábados y los domingos en horario de 11:00 a 14:00 horas. \nLas entradas podrán adquirirse hasta un día antes de la celebración de cada concierto. \nLugar de los conciertos y horarios\nPlaza Tierno Galván a las 23:00 horas\, salvo el concierto de Andy y Lucas que será a las 23:30 horas. \n\n  \nProgramación de las Fiestas de Santa Marta 2023\n\nSábado 15 de julio\nDomingo 16 de julio\nLunes 17 de julio\nMartes 18 de julio\nMiércoles 19 de julio\nJueves 20 de julio\nViernes 21 de julio. Día de los niños\nSábado 22 de julio\nDomingo 23 de julio\nLunes 24 de julio\nMartes 25 de julio. Día de los mayores\nMiércoles 26 de julio\nJueves 27 de julio\nViernes 28 de julio\nSábado 29 de julio\nDomingo 30 de julio\n\n\n  \n  \n\nToda la programación en pdf (también la II semana de la juventud de Santa Marta del 16 al 30 de julio y el cine de verano «Traéte la silla»). \nOtras fiestas en pueblos de Salamanca 2023.
URL:https://www.salamancalia.es/evento/fiestas-de-santa-marta-2023/
LOCATION:Plaza Tierno Galván\, Plaza Tierno Galván\, Santa Marta de Tormes\, Salamanca\, 37900\, España
CATEGORIES:Conciertos,Ferias y fiestas | Festivales
END:VEVENT
BEGIN:VEVENT
DTSTART;VALUE=DATE:20230715
DTEND;VALUE=DATE:20230824
DTSTAMP:20260424T041109
CREATED:20230706T094830Z
LAST-MODIFIED:20230710T073907Z
UID:10004625-1689379200-1692835199@www.salamancalia.es
SUMMARY:Fiestas patronales de Candelario y actividades de verano 2023
DESCRIPTION:Consulta aquí el programa completo de la fiestas patronales de Candelario y actividades de verano. \n  \nOtras fiestas en pueblos de Salamanca 2023.
URL:https://www.salamancalia.es/evento/fiestas-patronales-de-candelario-y-actividades-de-verano-2023/
LOCATION:Candelario\, Candelario\, Salamanca\, España
CATEGORIES:Ferias y fiestas | Festivales
END:VEVENT
BEGIN:VEVENT
DTSTART;VALUE=DATE:20230715
DTEND;VALUE=DATE:20230829
DTSTAMP:20260424T041109
CREATED:20230728T104804Z
LAST-MODIFIED:20230728T104804Z
UID:10004654-1689379200-1693267199@www.salamancalia.es
SUMMARY:Noches de cultura 2023
DESCRIPTION:En 72 municipios. \nUn propuesta cultural al aire libre para las noches de verano\, con un total de 252 actividades culturales programadas: arte\, música\, teatro\, el cine y danza. \nPrograma completo.
URL:https://www.salamancalia.es/evento/noches-de-cultura-2023/
LOCATION:Salamanca
CATEGORIES:Ferias y fiestas | Festivales
END:VEVENT
BEGIN:VEVENT
DTSTART;TZID=UTC:20230715T210000
DTEND;TZID=UTC:20230715T210000
DTSTAMP:20260424T041109
CREATED:20230704T093341Z
LAST-MODIFIED:20230704T093435Z
UID:10003732-1689454800-1689454800@www.salamancalia.es
SUMMARY:Cucurrucucú Paloma\, y la pelirroja... ¿qué?
DESCRIPTION:Compañía EduLogic Producciones. \nDuración: 40´. \nEspectáculo accesible para personas con discapacidad auditiva. \nEntrada libre hasta completar aforo. \nPlazas y Patios 2023. Programación cultural en verano en Salamanca.
URL:https://www.salamancalia.es/evento/cucurrucucu-paloma-y-la-pelirroja-que/2023-07-15/
LOCATION:Plaza de San Boal (Iglesia)\, Plaza de San Boal\, Salamanca\, Salamanca\, España
CATEGORIES:Teatro / Escena
END:VEVENT
BEGIN:VEVENT
DTSTART;TZID=UTC:20230715T223000
DTEND;TZID=UTC:20230715T223000
DTSTAMP:20260424T041109
CREATED:20230608T173315Z
LAST-MODIFIED:20230623T115126Z
UID:10004578-1689460200-1689460200@www.salamancalia.es
SUMMARY:The Grasso Brothers
DESCRIPTION:Comprar entradas. \n  \nProgramación del VI Festival Internacional de Jazz en Salamanca. \nPlazas y Patios 2023. Programación cultural en verano en Salamanca.
URL:https://www.salamancalia.es/evento/the-grasso-brothers/
LOCATION:Patio Chico\, Calle del patio Chico\, Salamanca\, Salamanca\, 37008\, España
CATEGORIES:Conciertos
END:VEVENT
BEGIN:VEVENT
DTSTART;VALUE=DATE:20230716
DTEND;VALUE=DATE:20230717
DTSTAMP:20260424T041109
CREATED:20230713T152603Z
LAST-MODIFIED:20230713T152603Z
UID:10003779-1689465600-1689551999@www.salamancalia.es
SUMMARY:Fiestas de Santa Marta 2023. Domingo 16 de julio
DESCRIPTION:Domingo 16 de julio\n\n12.00 – Misa solemne en honor a la Virgen del Carmen. Lugar: Barrio del Carmen. Organiza: Parroquia\nA continuación Procesión de la Virgen: Recorrido: Iglesia parroquial\, C/ San José\, C/ Doña Eloya\, C/ Santa Teresa\, Ctra. Madrid\, C/ San José.\nXVI Feria de Noche de Hostelería del 21 julio al 29 de Julio. Punto Violeta. Lugar: Plaza Tierno Galván. Organiza: Hosteleros de Santa Marta.\n\n  \n  \n\nProgramación de las Fiestas de Santa Marta 2023
URL:https://www.salamancalia.es/evento/fiestas-de-santa-marta-2023-domingo-16-de-julio/
LOCATION:Santa Marta de Tormes
CATEGORIES:Ferias y fiestas | Festivales
END:VEVENT
BEGIN:VEVENT
DTSTART;VALUE=DATE:20230717
DTEND;VALUE=DATE:20230718
DTSTAMP:20260424T041109
CREATED:20230713T152743Z
LAST-MODIFIED:20230713T152743Z
UID:10004637-1689552000-1689638399@www.salamancalia.es
SUMMARY:Fiestas de Santa Marta 2023. Lunes 17 de julio
DESCRIPTION:Lunes 17 de julio\n\n12:00 – Inauguración exposición “La progresión de mis manos” y “El rincón del reciclaje”. Artista: Ángela Flores Boyero. Lugar: Edificio Sociocultural. Primera planta. Organiza: Ayuntamiento. Colabora: Residencia Colisée Santa Marta de Tormes.\n\n  \n  \n\nProgramación de las Fiestas de Santa Marta 2023
URL:https://www.salamancalia.es/evento/fiestas-de-santa-marta-2023-lunes-17-de-julio/
LOCATION:Santa Marta de Tormes
CATEGORIES:Ferias y fiestas | Festivales
END:VEVENT
BEGIN:VEVENT
DTSTART;VALUE=DATE:20230717
DTEND;VALUE=DATE:20230722
DTSTAMP:20260424T041109
CREATED:20230523T093905Z
LAST-MODIFIED:20230523T093943Z
UID:10004533-1689552000-1689983999@www.salamancalia.es
SUMMARY:XVI Congreso Sociedad Española de Estudios Clásicos
DESCRIPTION:Toda la información: programa\, registro…
URL:https://www.salamancalia.es/evento/xvi-congreso-sociedad-espanola-de-estudios-clasicos-2023/
LOCATION:Salamanca
CATEGORIES:Congresos y Jornadas
END:VEVENT
BEGIN:VEVENT
DTSTART;VALUE=DATE:20230718
DTEND;VALUE=DATE:20230719
DTSTAMP:20260424T041109
CREATED:20230713T162018Z
LAST-MODIFIED:20230713T162018Z
UID:10004638-1689638400-1689724799@www.salamancalia.es
SUMMARY:Fiestas de Santa Marta 2023. Martes 18 de julio
DESCRIPTION:Martes 18 de julio\n\n22:30 – Teatro Mutis: “Las aventuras de la intrépida Valentina”. Lugar: Plaza España. Noches de Cultura 2023. Diputación de Salamanca\n\n  \n  \n\nProgramación de las Fiestas de Santa Marta 2023
URL:https://www.salamancalia.es/evento/fiestas-de-santa-marta-2023-martes-18-de-julio/
LOCATION:Santa Marta de Tormes
CATEGORIES:Ferias y fiestas | Festivales
END:VEVENT
BEGIN:VEVENT
DTSTART;VALUE=DATE:20230719
DTEND;VALUE=DATE:20230720
DTSTAMP:20260424T041109
CREATED:20230713T162147Z
LAST-MODIFIED:20230713T162147Z
UID:10004639-1689724800-1689811199@www.salamancalia.es
SUMMARY:Fiestas de Santa Marta 2023. Miércoles 19 de julio
DESCRIPTION:Miércoles 19 de julio\n\n16:00 – Hinchables acuáticos. Lugar: Piscinas Municipales. Organiza: Trisan Sport.\n22:30 – Cine “Los tipos malos” de Pierre Perifel. Lugar: Plaza España. Noches de Cultura 2023. Diputación de Salamanca\n\n  \n\nProgramación de las Fiestas de Santa Marta 2023
URL:https://www.salamancalia.es/evento/fiestas-de-santa-marta-2023-miercoles-19-de-julio/
LOCATION:Santa Marta de Tormes
CATEGORIES:Ferias y fiestas | Festivales
END:VEVENT
BEGIN:VEVENT
DTSTART;VALUE=DATE:20230719
DTEND;VALUE=DATE:20240111
DTSTAMP:20260424T041109
CREATED:20231010T145344Z
LAST-MODIFIED:20231010T145344Z
UID:10003942-1689724800-1704931199@www.salamancalia.es
SUMMARY:Pigmentum
DESCRIPTION:Esta exposición reúne una amplia colección de pinturas\, dibujos y cerámicas realizada por el artista salmantino\, Venancio Blanco\, a lo largo de su trayectoria profesional. \nEs la 16ª exposición organizada gracias al acuerdo firmado en septiembre de 2014 entre el Ayuntamiento de Salamanca\, la Fundación MAPFRE y la Fundación Venancio Blanco. \nHorario\nLa entrada es gratuita y el horario de visitas es \n\nde martes a viernes de 17.00 a 21.00h\nsábados\, domingos y festivos de 12.00 a 14.00h y de 17.00 a 21.00h.\n\nAdemás de la exposición\, los visitantes podrán recorrer los jardines de Santo Domingo y disfrutar al aire libre de la colección permanente de la Fundación Venancio Blanco.
URL:https://www.salamancalia.es/evento/pigmentum/
LOCATION:Sala de Exposiciones de Santo Domingo\, C/ Arroyo de Santo Domingo\, Salamanca\, Salamanca\, 37008\, España
CATEGORIES:Exposiciones
END:VEVENT
BEGIN:VEVENT
DTSTART;VALUE=DATE:20230720
DTEND;VALUE=DATE:20230721
DTSTAMP:20260424T041109
CREATED:20230713T162320Z
LAST-MODIFIED:20230713T162320Z
UID:10004640-1689811200-1689897599@www.salamancalia.es
SUMMARY:Fiestas de Santa Marta 2023. Jueves 20 de julio
DESCRIPTION:Jueves 20 de julio\n\n22:30 – Recital Manantial Folk y grupo de baile Berezo. Lugar: Plaza España. Noches de Cultura 2023. Diputación de Salamanca\n\n  \n\nProgramación de las Fiestas de Santa Marta 2023
URL:https://www.salamancalia.es/evento/fiestas-de-santa-marta-2023-jueves-20-de-julio/
LOCATION:Santa Marta de Tormes
CATEGORIES:Ferias y fiestas | Festivales
END:VEVENT
BEGIN:VEVENT
DTSTART;TZID=UTC:20230720T200000
DTEND;TZID=UTC:20230810T200000
DTSTAMP:20260424T041109
CREATED:20230710T094338Z
LAST-MODIFIED:20230711T091223Z
UID:10004636-1689883200-1691697600@www.salamancalia.es
SUMMARY:7º ciclo de órgano en la Catedral Nueva de Salamanca
DESCRIPTION:Programación\n\nJueves 20 de julio de 2023: Daniel Oyarzábal\nJueves 27 de julio de 2023: Matteo Imbruno\nJueves 3 de agosto de 2023: Luis Dalda\nJueves 10 de agosto de 2023: Pier Damiano Peretti\n\nAccede al programa completo. \nEntrada libre hasta completar aforo.
URL:https://www.salamancalia.es/evento/7-ciclo-de-organo-en-la-catedral-nueva-de-salamanca/
LOCATION:Catedral Nueva de Salamanca\, C. Benedicto XVI\, Salamanca\, Salamanca\, 37008\, España
CATEGORIES:Conciertos
END:VEVENT
BEGIN:VEVENT
DTSTART;VALUE=DATE:20230721
DTEND;VALUE=DATE:20230722
DTSTAMP:20260424T041109
CREATED:20230713T162503Z
LAST-MODIFIED:20230713T162503Z
UID:10004641-1689897600-1689983999@www.salamancalia.es
SUMMARY:Fiestas de Santa Marta 2023. Viernes 21 de julio
DESCRIPTION:Viernes 21 de julio. Día de los niños\n\n10.00 – Bautismo acuático. Kayak\, piragua\, pádel surf. Lugar: Isla del Soto. Organiza: Ayuntamiento. Edad mínima 5 años (acompañados por adulto)\n17.00 – Pregón infantil y fiesta de la espuma. Lugar: Plaza España. Organiza: Ayuntamiento\n18.30 – Merienda para los niños. Lugar: Plaza España. Organiza: Ayuntamiento. Colabora: Asociación Águedas\n19.00 – Encierro infantil. Recorrido: Plaza España\, c/ Don Ricardo Marcos\, avd. de Madrid\, c/ Antonio Machado\, c/ Santiago Mirat\, c/ Villalar\, c/ Julián Sánchez el Charro\, paseo Señor Pepe y plaza de toros. Organiza: Ayuntamiento\n22.30 – Recital de Mayalde Tradicional. Lugar: Plaza España. Noches de Cultura 2023. Diputación de Salamanca\n23.00 – Concierto La Fuga. Lugar: Plaza Tierno Galván. Organiza: Ayuntamiento\nA continuación Fiesta Musical. Lugar: Plaza Tierno Galván. Organiza: Ayuntamiento\n\n  \n\nProgramación de las Fiestas de Santa Marta 2023
URL:https://www.salamancalia.es/evento/fiestas-de-santa-marta-2023-viernes-21-de-julio/
LOCATION:Santa Marta de Tormes
CATEGORIES:Ferias y fiestas | Festivales
END:VEVENT
BEGIN:VEVENT
DTSTART;TZID=UTC:20230721T210000
DTEND;TZID=UTC:20230721T210000
DTSTAMP:20260424T041109
CREATED:20230704T093903Z
LAST-MODIFIED:20260416T080736Z
UID:10003734-1689973200-1689973200@www.salamancalia.es
SUMMARY:No niegues la Paloma
DESCRIPTION:Compañía La Befana Producciones. \nDuración: 40´. \nEspectáculo accesible para personas con discapacidad auditiva. \nEntrada libre hasta completar aforo. \nPlazas y Patios 2023. Programación cultural en verano en Salamanca. \n 
URL:https://www.salamancalia.es/evento/no-niegues-la-paloma/2023-07-21/
LOCATION:Patio Chico\, Calle del patio Chico\, Salamanca\, Salamanca\, 37008\, España
CATEGORIES:Teatro / Escena
END:VEVENT
BEGIN:VEVENT
DTSTART;VALUE=DATE:20230722
DTEND;VALUE=DATE:20230723
DTSTAMP:20260424T041109
CREATED:20230705T085735Z
LAST-MODIFIED:20230705T085735Z
UID:10003749-1689984000-1690070399@www.salamancalia.es
SUMMARY:Costura a mano
DESCRIPTION:Iniciarse cogiéndole el gusto a la costura a mano y disfrutar de la paciencia y delicadeza necesarias. \nConocer los puntos básicos de costura y sus aplicaciones (hilván\, basta o Bastilla\, punto atrás\, pespunte\, hilos flojos) y los dobladillos (a punto de lado\, punto escapulario\, puntada invisible y dobladillo postizo). \n  \n  \n  \n 
URL:https://www.salamancalia.es/evento/costura-a-mano/
LOCATION:La U mutante\, Melchor Cano\, 9\, Salamanca\, Salamanca\, 37007\, España
CATEGORIES:Cursos y Talleres
ORGANIZER;CN="La U mutante":MAILTO:u@laumutante.com
END:VEVENT
BEGIN:VEVENT
DTSTART;VALUE=DATE:20230722
DTEND;VALUE=DATE:20230723
DTSTAMP:20260424T041109
CREATED:20230713T162630Z
LAST-MODIFIED:20230713T162630Z
UID:10004642-1689984000-1690070399@www.salamancalia.es
SUMMARY:Fiestas de Santa Marta 2023. Sábado 22 de julio
DESCRIPTION:Sábado 22 de julio\n\n20.00 – Master Class Zumba. Lugar: Plaza España. Organiza: Alicia González Fraile. Profesora de zumba.\n22.30 – Cine Padre no hay más que uno 3 de Santiago Segura. Lugar: Plaza España. Noches de Cultura 2023. Diputación de Salamanca\n23.00 – Reggaeton Urban Fest. Lugar: Plaza Tierno Galván. Organiza: Ayuntamiento\n\n  \n\nProgramación de las Fiestas de Santa Marta 2023
URL:https://www.salamancalia.es/evento/fiestas-de-santa-marta-2023-sabado-22-de-julio/
LOCATION:Santa Marta de Tormes
CATEGORIES:Ferias y fiestas | Festivales
END:VEVENT
END:VCALENDAR