BEGIN:VCALENDAR
VERSION:2.0
PRODID:-//Agenda cultural y eventos de ocio en Salamanca - ECPv6.15.20//NONSGML v1.0//EN
CALSCALE:GREGORIAN
METHOD:PUBLISH
X-ORIGINAL-URL:https://www.salamancalia.es
X-WR-CALDESC:Eventos para Agenda cultural y eventos de ocio en Salamanca
REFRESH-INTERVAL;VALUE=DURATION:PT1H
X-Robots-Tag:noindex
X-PUBLISHED-TTL:PT1H
BEGIN:VTIMEZONE
TZID:UTC
BEGIN:STANDARD
TZOFFSETFROM:+0000
TZOFFSETTO:+0000
TZNAME:UTC
DTSTART:20220101T000000
END:STANDARD
END:VTIMEZONE
BEGIN:VEVENT
DTSTART;TZID=UTC:20231115T140000
DTEND;TZID=UTC:20231118T233000
DTSTAMP:20260426T012140
CREATED:20231010T152701Z
LAST-MODIFIED:20240305T182409Z
UID:10003951-1700056800-1700350200@www.salamancalia.es
SUMMARY:II Semana del Español en Salamanca
DESCRIPTION:Un evento único donde se unen todos los perfiles profesionales del sector ELE. \nSesiones formativas\, reuniones empresariales y actividades culturales. \nLa Semana del Español es un evento híbrido físico-digital que tendrá lugar el 13 y 14 de noviembre en formato digital y del 15 al 18 de noviembre de 2023 en Salamanca. \nMás información.
URL:https://www.salamancalia.es/evento/ii-semana-del-espanol-salamanca/
LOCATION:Salamanca
CATEGORIES:Congresos y Jornadas
END:VEVENT
BEGIN:VEVENT
DTSTART;VALUE=DATE:20231117
DTEND;VALUE=DATE:20231211
DTSTAMP:20260426T012140
CREATED:20231201T100910Z
LAST-MODIFIED:20231201T100910Z
UID:10004964-1700179200-1702252799@www.salamancalia.es
SUMMARY:Valores en la tuna
DESCRIPTION:“Valores en la Tuna: Folclore\, fraternidad y filantropía estudiantil” \nHorario\n\nMartes a sábado de 12:00 a 14:00h y de 17:30 a 20:30h\nDomingos y festivos de 10:00 a 14:00h\nLunes cerrado\n\nEn la Sala B. Hospedería Fonseca. \n  \n\nNavidad en Salamanca 2023
URL:https://www.salamancalia.es/evento/valores-en-la-tuna/
LOCATION:Hospedería Fonseca\, Calle Fonseca\, 4\, Salamanca\, 37002\, España
CATEGORIES:Exposiciones
END:VEVENT
BEGIN:VEVENT
DTSTART;TZID=UTC:20231117T213000
DTEND;TZID=UTC:20231117T213000
DTSTAMP:20260426T012140
CREATED:20231114T122753Z
LAST-MODIFIED:20231114T122753Z
UID:10004882-1700256600-1700256600@www.salamancalia.es
SUMMARY:Mario Cea y Santi Tamariz
DESCRIPTION:Concierto acústico.
URL:https://www.salamancalia.es/evento/mario-cea-y-santi-tamariz/
LOCATION:Pakipalla\, Calle San Justo 27\, Salamanca\, Salamanca\, 37001\, España
CATEGORIES:Conciertos
END:VEVENT
BEGIN:VEVENT
DTSTART;TZID=UTC:20231117T220000
DTEND;TZID=UTC:20231117T220000
DTSTAMP:20260426T012140
CREATED:20231010T114516Z
LAST-MODIFIED:20240305T182406Z
UID:10004802-1700258400-1700258400@www.salamancalia.es
SUMMARY:Uña y Carne
DESCRIPTION:El grupo de rumba flamenca Uña y Carne llega a Salamanca con su Tour de Invierno 2023. \n“Pasa el canutito”\, “Dame de eso”\, “Mil razones” o “Habrá un lugar”; la banda tocará sus canciones más míticas en un concierto irrepetible. \nEl grupo musical Uña y Carne\, compuesto por el compositor y productor alicantino Carlos Salado y el cantante Antonio Clavería arrancan su tour de invierno 2023. El próximo 17 de noviembre\, Uña y Carne actuará en Sala B interpretando canciones míticas de su disco “Lo que el tiempo no sabe borrar”\, así como otros temas y sorpresas. \nTras lanzar al mercado su última canción “Dame de eso” en colaboración con la cantante latinoamericana Lennis Rodríguez\, Uña y Carne trae la rumba flamenca a Salamanca con canciones tan conocidas como “Pasa el canutito”\, “Yo me drogo”\, “Mil Razones” con la cantante Bebe o “Habrá un lugar”\, en colaboración con El Canijo de Jerez.
URL:https://www.salamancalia.es/evento/una-y-carne/
LOCATION:Sala B del CAEM\, Avenida de las Artes\, 45-55\, Salamanca\, Salamanca\, 37003\, España
CATEGORIES:Conciertos
END:VEVENT
BEGIN:VEVENT
DTSTART;TZID=UTC:20231117T220000
DTEND;TZID=UTC:20231117T220000
DTSTAMP:20260426T012140
CREATED:20231114T110010Z
LAST-MODIFIED:20231114T110010Z
UID:10004879-1700258400-1700258400@www.salamancalia.es
SUMMARY:Jam Session
DESCRIPTION:Jam Session en The Liverpool Pub.
URL:https://www.salamancalia.es/evento/jam-session/
LOCATION:The Liverpool Pub Music\, c/ Gran Via 51\, Salamanca\, Salamanca\, España
CATEGORIES:Conciertos
END:VEVENT
BEGIN:VEVENT
DTSTART;TZID=UTC:20231117T220000
DTEND;TZID=UTC:20231201T220000
DTSTAMP:20260426T012140
CREATED:20231114T105022Z
LAST-MODIFIED:20231114T105221Z
UID:10004878-1700258400-1701468000@www.salamancalia.es
SUMMARY:La Nouvelle Helmantique
DESCRIPTION:La Nouvelle Helmantique actuará en el Café Novelty. \n¡¡Os esperamos para bailar el mejor swing!! \n\nViernes 17 de noviembre a las 22:00\nViernes 1 de diciembre a las 22:00
URL:https://www.salamancalia.es/evento/la-nouvelle-helmantique-4/
LOCATION:Café Novelty\, Plaza Mayor 2\, Salamanca\, Salamanca\, España
CATEGORIES:Conciertos
END:VEVENT
BEGIN:VEVENT
DTSTART;VALUE=DATE:20231118
DTEND;VALUE=DATE:20231119
DTSTAMP:20260426T012140
CREATED:20231031T174727Z
LAST-MODIFIED:20231031T174727Z
UID:10004852-1700265600-1700351999@www.salamancalia.es
SUMMARY:Muñecas de tela
DESCRIPTION:En este taller aprenderás la técnica para confeccionar una muñeca de tela con los patrones y las medidas de las muñecas Waldorf. \nCrearemos la muñeca: sus elementos\, los bordados\, su peinado\, y la confección de su ropa. \nAl finalizar el taller te llevarás tu muñeca de tela terminada con una ropa sencilla. Será un juguete con alma y 100% natural (algodón y lana)\, que podrá convertirse en la compañía perfecta para tus hijos en cuentos\, juegos y fantasías. \nTodos los materiales incluidos.
URL:https://www.salamancalia.es/evento/munecas-de-tela-2/
LOCATION:La U mutante\, Melchor Cano\, 9\, Salamanca\, Salamanca\, 37007\, España
CATEGORIES:Cursos y Talleres
ORGANIZER;CN="La U mutante":MAILTO:u@laumutante.com
END:VEVENT
BEGIN:VEVENT
DTSTART;VALUE=DATE:20231118
DTEND;VALUE=DATE:20231119
DTSTAMP:20260426T012140
CREATED:20231031T174916Z
LAST-MODIFIED:20231031T174916Z
UID:10004853-1700265600-1700351999@www.salamancalia.es
SUMMARY:Ganchillo
DESCRIPTION:Aprenderás los diferentes puntos básicos del tejido con ganchillo\, abriendo la puerta a tu creatividad para proyectos textiles\, decorativos y funcionales. \nHablaremos de materiales y otras consideraciones y abordaremos distintos puntos básicos\, (punto deslizado o raso\, punto bajo o medio punto\, medio punto alto o media vareta\, vareta o punto alto\, vareta doble o punto alto doble)\, aumentos o disminuciones. \nTodos los materiales incluidos.
URL:https://www.salamancalia.es/evento/ganchillo-2/
LOCATION:La U mutante\, Melchor Cano\, 9\, Salamanca\, Salamanca\, 37007\, España
CATEGORIES:Cursos y Talleres
ORGANIZER;CN="La U mutante":MAILTO:u@laumutante.com
END:VEVENT
BEGIN:VEVENT
DTSTART;VALUE=DATE:20231118
DTEND;VALUE=DATE:20231127
DTSTAMP:20260426T012140
CREATED:20231031T121340Z
LAST-MODIFIED:20231114T122135Z
UID:10004848-1700265600-1701043199@www.salamancalia.es
SUMMARY:IV Salón del Libro Infantil y Juvenil
DESCRIPTION:“Los malos también cuentan”\nOrganizado por la Asociación LASAL (Salamanca Animación a la Lectura)  con el apoyo del Ayuntamiento de Salamanca  a través de la Fundación Salamanca Ciudad de Saberes y la Red de Bibliotecas Municipales de Salamanca. \n\nUn encuentro de las lectoras y los lectores con los libros. Un intercambio de experiencias de lectura. Una ocasión para leer y compartir emociones alrededor de los libros.\nExposiciones dinamizadas\, recomendaciones de lectura\, encuentros con autores\, talleres creativos\, concursos\, charlas…\nActividades para familias\, centros escolares\, estudiantes universitarios de las facultades de Educación y Biblioteconomía y Documentación\, docentes y profesionales de las bibliotecas\, asociaciones como ASPRODES\, ONCE\, ASPACE Y CÁRITAS…\n\nTendrá su sede en la Torre de los Anaya pero se extenderá su programación a todas las bibliotecas de la Red de Bibliotecas de Salamanca\, la biblioteca de la Casa de las Conchas\, las librerías Cartemverso y Letras Corsarias\, los Cines Van Dyck… y este año también pasacalles. \nProgramación\n\nMás información IV Salón del Libro Infantil y Juvenil “Los malos también cuentan”.\nSalón del libro infantil y juvenil: actividades en los colegios.
URL:https://www.salamancalia.es/evento/iv-salon-del-libro-infantil-y-juvenil/
LOCATION:Salamanca
CATEGORIES:Ferias y fiestas | Festivales
END:VEVENT
BEGIN:VEVENT
DTSTART;TZID=UTC:20231118T200000
DTEND;TZID=UTC:20231118T200000
DTSTAMP:20260426T012140
CREATED:20231114T103812Z
LAST-MODIFIED:20231114T104042Z
UID:10004877-1700337600-1700337600@www.salamancalia.es
SUMMARY:Misa de Santa Cecilia de Joseph Haydn
DESCRIPTION:El sábado 18 de noviembre\, a las 20:00 y en el Centro de Artes Escénicas y de la Música (CAEM)\,  la Orquesta clásica del Teatro Liceo de Salamanca inaugura su temporada 2023-24 con el estreno en Salamanca de una de las grandes obras corales de Joseph Haydn la más ambiciosa de sus misas en cuanto a arquitectura y proporciones y lo hace en su primera colaboración con otra institución musical señera de la ciudad: el Coro de cámara de la USAL. \nJoseph HAYDN (1732-1809)\nMisa de Santa Cecilia Hob. XXII:5\n(Missa Cellensis in honorem BVM) \nI \nKYRIE\n1. Kyrie eleison I: Adagio Allegro con spirito (Coro)\n2. Christe eleison: Allegretto (Tenor solo & Coro)\n3. Kyrie eleison II: Vivace (Coro) \nGLORIA\n4. Gloria in excelsis Deo: Allegro di molto (Coro)\n5. Laudamus te: Moderato (Soprano solo)\n6. Gratias agimus tibi: Allabreve (Coro)\n7. Domine Deus: Allegro (Alto\, tenor & basso soli)\n8. Qui tollis peccata mundi: Adagio (Alto solo & Coro)\n9. Quoniam tu solus: Allegro di molto (Soprano solo)\n10. Cum Sancto Spiritu: Largo Allegro con spirito (Coro) \nII \nCREDO\n11. Credo in unum Deum: Vivace (Soprano solo & Coro\n12a. Et incarnatus est: Largo (Tenor solo)\n12b. Crucifixus: Largo (Alto & Basso soli)\n13. Et resurrexit (Tenor solo & Coro) \nSANCTUS BENEDICTUS\n14. Sanctus: Adagio Allegro (Coro)\n15. Benedictus: Andante Allegro (Coro) \nAGNUS DEI\n16. Agnus Dei: Largo (Basso solo)\n17. Dona nobis pacem: Presto (Coro) \n  \nAgnieszka Grzywacz\, soprano\nMarta Infante Alexandre\, alto\nAriel Hernández Roque\, tenor\nJesús García Aréjula\, bajo \nCORO DE CÁMARA DE LA UNIVERSIDAD DE SALAMANCA\n(Bernardo García Bernalt\, dir.) \nORQUESTA CLÁSICA DEL TEATRO LICEO DE SALAMANCA\nAlfonso Sebastián Alegre\, dirección
URL:https://www.salamancalia.es/evento/misa-de-santa-cecilia-de-joseph-haydn/
LOCATION:CAEM\, Avda. de las Artes\, 45-55\, Salamanca\, Salamanca\, 37008\, España
CATEGORIES:Conciertos
END:VEVENT
BEGIN:VEVENT
DTSTART;TZID=UTC:20231118T210000
DTEND;TZID=UTC:20231118T210000
DTSTAMP:20260426T012140
CREATED:20231103T123746Z
LAST-MODIFIED:20231103T123746Z
UID:10004875-1700341200-1700341200@www.salamancalia.es
SUMMARY:Cena y risas con Dani Mateo
DESCRIPTION:Cena y risas con Dani Mateo. \nArtista invitado: Raúl Fervé.
URL:https://www.salamancalia.es/evento/cena-y-risas-con-dani-mateo/
LOCATION:Palacio de Figueroa (Casino de Salamanca)\, Calle Zamora\, 11\, 15\, Salamanca\, Salamanca\, 37002\, España
CATEGORIES:Humor / Monólogos
END:VEVENT
BEGIN:VEVENT
DTSTART;TZID=UTC:20231119T180000
DTEND;TZID=UTC:20231119T180000
DTSTAMP:20260426T012140
CREATED:20231010T114756Z
LAST-MODIFIED:20231010T114756Z
UID:10004803-1700416800-1700416800@www.salamancalia.es
SUMMARY:Hay un mago en ti
DESCRIPTION:Compañía Miguel de Lucas. \nDuración: 1 hora. \nRecomendado para niños a partir de 5 años
URL:https://www.salamancalia.es/evento/hay-un-mago-en-ti/
LOCATION:Teatro Liceo\, Plaza del Liceo s/n\, Salamanca\, Salamanca\, 37002\, España
CATEGORIES:Magia,Ocio Infantil
END:VEVENT
BEGIN:VEVENT
DTSTART;VALUE=DATE:20231120
DTEND;VALUE=DATE:20231127
DTSTAMP:20260426T012140
CREATED:20231116T162215Z
LAST-MODIFIED:20231116T162613Z
UID:10004893-1700438400-1701043199@www.salamancalia.es
SUMMARY:VII Semana de las Legumbres
DESCRIPTION:Participan 15 restaurantes adheridos a ‘Salamanca para Comérsela’ y 11 establecimientos hosteleros del Barrio del Oeste\, que ofrecerán una interesante variedad de platos y pinchos elaborados con legumbres.Se celebrarán varios talleres de cocina y ‘showcooking’ de forma gratuita en los mercados municipales de San Juan y Central \nNovedad\nSe ha editado un recetario con tres de los platos que se elaborarán en directo y que estará a disposición del público que acuda y próximamente en las instalaciones municipales. Los tres platos son: garbanzos de Pedrosillo a la crema\, galletas crujientes de garbanzos de Pedrosillo y almendras\, y mousse de chocolate sin huevo con naranja confitada. \nObjetivo\nFomentar un consumo sostenible y de proximidad.\n  \n  \nProgramación\nLunes 20 de noviembre\n\n16:00- Visita al Centro de la Legumbre (Pajares de la Laguna) y cata de elaboraciones a partir de harina de legumbres.\n\nMartes 21 de noviembre\n\n12:00– Paseo gastronómico: salida de la Plaza del Liceo y llegada al Museo del Comercio. Visita guiada a la exposición ‘Amigo Sancho\, son gigantes’ y posterior degustación de dulces elaborados con harinas de legumbres.\n17:30- Taller de cocina en directo impartido por David Monaguillo en el Museo del Comercio.\n\nMiércoles 22 de noviembre\n\n12:00– Paseo gastronómico: salida de la Plaza de Trujillo y llegada al Museo del Comercio. Visita guiada a la exposición ‘Amigo Sancho\, son gigantes’ y posterior degustación de dulces elaborados con harinas de legumbres.\n17:30 – Taller de cocina en directo impartido por David Monaguillo en ZOES.\n\nJueves 23 de noviembre\n\n12:00– Showcooking con legumbres en el Mercado Municipal de San Juan a cargo del cocinero César Niño (Restaurante El Alquimista).\n17:00- Taller de cocina en directo impartido por David Monaguillo en la Lonja de los Huertos Urbanos.\n\nViernes 24 de noviembre\n\n12:00 – Showcooking con legumbres en el Mercado Municipal Central a cargo del cocinero Jorge Lozano (Grupo Tapas).\n\n  \n  \nActividades permanentes durante la semana\n\nDel 20 de noviembre al 26 de noviembre: Ruta de las legumbres por los establecimientos del Barrio del Oeste. Platos de cocina y tapas con Legumbres en los restaurantes asociados al Club de producto Salamanca para Comérsela.\nDel 20 de noviembre al 15 de diciembre: el Museo del Comercio acogerá la exposición fotográfica ‘Amigo Sancho\, son gigantes’ del artista Andrés Ñíguez Carbonell. La entrada es gratuita.
URL:https://www.salamancalia.es/evento/vii-semana-de-las-legumbres/
LOCATION:Salamanca
CATEGORIES:Especiales
END:VEVENT
BEGIN:VEVENT
DTSTART;VALUE=DATE:20231121
DTEND;VALUE=DATE:20231218
DTSTAMP:20260426T012140
CREATED:20231201T100155Z
LAST-MODIFIED:20231201T100155Z
UID:10004961-1700524800-1702857599@www.salamancalia.es
SUMMARY:De lo sideral a lo visceral
DESCRIPTION:De lo sideral a lo visceral plantea una atmósfera narrativa que reflexiona sobre los conceptos de memoria\, identidad y violencia. \nHorario\n\nMartes a sábado de 12:00 a 14:00h y de 17:30 a 20:30h\nDomingos y festivos de 10:00 a 14:00h\nLunes cerrado\n\n  \n\nNavidad en Salamanca 2023
URL:https://www.salamancalia.es/evento/de-lo-sideral-a-lo-visceral/
LOCATION:Hospedería Fonseca\, Calle Fonseca\, 4\, Salamanca\, 37002\, España
CATEGORIES:Exposiciones
END:VEVENT
BEGIN:VEVENT
DTSTART;VALUE=DATE:20231122
DTEND;VALUE=DATE:20231221
DTSTAMP:20260426T012140
CREATED:20231123T160828Z
LAST-MODIFIED:20231123T160925Z
UID:10004913-1700611200-1703116799@www.salamancalia.es
SUMMARY:Mercadillo Solidario de Navidad 2023
DESCRIPTION:Ya puedes llevar tus cosas a la Escuela Oficial de Idiomas o al Centro Europa Direct. \nA beneficio de: \n\nCáritas Salamanca\nPyfano\n\nHorario de lunes a viernes de 9:00 a 20:30. \n  \n\nMás eventos y planes de Navidad en Salamanca 2023
URL:https://www.salamancalia.es/evento/mercadillo-solidario-de-navidad-2023/
LOCATION:Escuela Oficial de Idiomas\, C\Peña de Francia 26\, Salamanca\, Salamanca\, España
CATEGORIES:Especiales
END:VEVENT
BEGIN:VEVENT
DTSTART;TZID=UTC:20231123T120000
DTEND;TZID=UTC:20231123T120000
DTSTAMP:20260426T012140
CREATED:20231116T121008Z
LAST-MODIFIED:20231116T121008Z
UID:10004888-1700740800-1700740800@www.salamancalia.es
SUMMARY:Jornada por el Día Internacional contra la Violencia de Género
DESCRIPTION:Con la participación de Rozalén. \nCon motivo del Día Internacional contra la Violencia de Género el 23 de noviembre de 2023 a las 12:00h en el Paraninfo de la Universidad se organizará una actividad desde el Centro de Investigación en Género que se dividirá en las siguientes partes: \n\nMesa redonda con la cantante Rozalén en la que se abordará la letra de la canción «La puerta violeta» y una actuación musical.\nLectura de una manifiesto contra la violencia de género.\nEntrega de los premios del I Concurso de microrrelatos y podcast contra la violencia de género organizado por el Centro.\n\nToda la información sobre el evento.
URL:https://www.salamancalia.es/evento/jornada-por-el-dia-internacional-contra-la-violencia-de-genero/
LOCATION:Salamanca
CATEGORIES:Conciertos,Especiales
END:VEVENT
BEGIN:VEVENT
DTSTART;VALUE=DATE:20231124
DTEND;VALUE=DATE:20231127
DTSTAMP:20260426T012140
CREATED:20231116T160554Z
LAST-MODIFIED:20231117T113008Z
UID:10004892-1700784000-1701043199@www.salamancalia.es
SUMMARY:XXXIV Torneo Nacional de Petanca de Castilla y León
DESCRIPTION:Con la participación de 200 jugadores. \nEstá organizado por la Federación Española de Petanca y se celebrará en el recinto ferial de la Diputación de Salamanca.
URL:https://www.salamancalia.es/evento/xxxiv-torneo-nacional-de-petanca-de-castilla-y-leon/
LOCATION:Salamanca
CATEGORIES:Deportes
END:VEVENT
BEGIN:VEVENT
DTSTART;TZID=UTC:20231124T193000
DTEND;TZID=UTC:20231124T193000
DTSTAMP:20260426T012140
CREATED:20231122T101844Z
LAST-MODIFIED:20231122T102040Z
UID:10004902-1700854200-1700854200@www.salamancalia.es
SUMMARY:Canciones de Buen Rollo
DESCRIPTION:Salamanca acoge la presentación de ‘Canciones de Buen Rollo’: una biografía generacional sobre el poder de la música en el estado de ánimo.\n\nPresenta: Manuel Recio\, periodista y escritor musical.\nShowcase: The Wedding Rock Band.\nViernes 24 noviembre\, 19:30 horas.\nLibrería Letras Corsarias (C/ Rector Lucena\, 1).\n\nCanciones de Buen Rollo contiene 137 temas\, vinculados con vivencias y anécdotas personales de las autoras\, con un denominador común: su capacidad de sanar heridas y enderezar un mal día. \nEditado por Sílex Música\, este es el primer libro de las periodistas Isabel Jiménez Moya y Carolina Prada\, con prólogo del escritor y periodista musical Fernando Navarro e ilustraciones de la artista gráfica Gemma de Castro. \nEn las páginas de este ecléctico volumen conviven Serrat\, Siniestro Total\, David Bowie\, Joan Jett\, Metallica\, Raffaella Carrà\, The Kinks\, Los Enemigos\, Etta James\, François Hardy\, Raphael\, Gloria Gaynor\, Leonard Cohen\, Marisol\, Lou Reed\, Rosendo\, Édith Piaf\, The Beatles o Cyndi Lauper\, entre muchos otros. \nFICHA TÉCNICA\n\nTítulo: Canciones de Buen Rollo\nAutoras: Isabel Jiménez Moya y Carolina Prada Seijas\nPrólogo: Fernando Navarro\nIlustraciones: Gemma de Castro\nEdita: Sílex Ediciones\n420 páginas. PVP: 24 euros
URL:https://www.salamancalia.es/evento/canciones-de-buen-rollo/
LOCATION:Librería Letras Corsarias\, Rector Lucena\, 1 y Plaza de San Boal\, Salamanca\, Salamanca\, Spain
CATEGORIES:Presentaciones
END:VEVENT
BEGIN:VEVENT
DTSTART;TZID=UTC:20231124T200000
DTEND;TZID=UTC:20231124T200000
DTSTAMP:20260426T012140
CREATED:20231123T150655Z
LAST-MODIFIED:20231123T150655Z
UID:10004904-1700856000-1700856000@www.salamancalia.es
SUMMARY:Fiesta flamenca
DESCRIPTION:La compañía “Tamara Navarro la Gitana” celebra este viernes un espectáculo flamenco gratuito. \nLa cultura del pueblo gitano es desconocida para gran parte de la ciudadanía. Con el objetivo de servir como punto de encuentro y de descubrimiento\, este viernes 24 de noviembre a las 20h. se celebra en la Iglesia Vieja de Pizarrales una fiesta flamenca abierta y gratuita para todo el público. \nOrganizada por la Fundación Plan B Educación Social con la colaboración del Ayuntamiento de Salamanca\, en este evento se podrá disfrutar del espectáculo flamenco de la compañía “Tamara Navarro la Gitana”\, de la escuela de baile Alborea. Los emocionantes bailes y cantes jondos serán interpretados por los artistas Dalila Salazar\, Jesús Jiménez\, Rafael Vázquez\, y la propia Tamaro Navarro. \nAdemás de la exhibición\, tendrá lugar una breve dinámica que busca derribar algunos de los prejuicios que sufre la ciudadanía gitana en nuestro país. Para ello se compartirán diferentes noticias reales que inconscientemente criminalizan a las personas del colectivo. \nEste evento gratuito forma parte del proyecto “Mujer gitana” que desarrolla la Fundación Plan B con la subvención de la Junta de Castilla y León con cargo a la asignación tributaria del IRPF. Su objetivo es favorecer la inclusión y participación social de mujeres y jóvenes de etnia gitana en Salamanca.
URL:https://www.salamancalia.es/evento/fiesta-flamenca/
LOCATION:Plaza de la Iglesia Nueva de Pizarrales\, Salamanca\, Salamanca\, España
CATEGORIES:Baile y danza
END:VEVENT
BEGIN:VEVENT
DTSTART;TZID=UTC:20231124T210000
DTEND;TZID=UTC:20231124T210000
DTSTAMP:20260426T012140
CREATED:20231116T153633Z
LAST-MODIFIED:20231121T181708Z
UID:10004889-1700859600-1700859600@www.salamancalia.es
SUMMARY:El verbo amar
DESCRIPTION:Obra de teatro con motivo del Día Internacional de la Eliminación de la Violencia contra las Mujeres. \nEl Ayuntamiento de Salamanca celebra el Día Internacional de la Eliminación de la Violencia contra la Mujer con un acto en la Plaza Mayor y una representación teatral.
URL:https://www.salamancalia.es/evento/el-verbo-amar/
LOCATION:Teatro Liceo\, Plaza del Liceo s/n\, Salamanca\, Salamanca\, 37002\, España
CATEGORIES:Teatro / Escena
END:VEVENT
BEGIN:VEVENT
DTSTART;TZID=UTC:20231124T220000
DTEND;TZID=UTC:20231124T220000
DTSTAMP:20260426T012140
CREATED:20230511T113726Z
LAST-MODIFIED:20260416T080345Z
UID:10003631-1700863200-1700863200@www.salamancalia.es
SUMMARY:Despistaos
DESCRIPTION:Gira 20 aniversario. \nComprar de entradas en www.ciudaddecultura.org. \n 
URL:https://www.salamancalia.es/evento/despistaos/
LOCATION:Sala B del CAEM\, Avenida de las Artes\, 45-55\, Salamanca\, Salamanca\, 37003\, España
CATEGORIES:Conciertos
END:VEVENT
BEGIN:VEVENT
DTSTART;VALUE=DATE:20231125
DTEND;VALUE=DATE:20231126
DTSTAMP:20260426T012140
CREATED:20231031T175145Z
LAST-MODIFIED:20231031T175145Z
UID:10004854-1700870400-1700956799@www.salamancalia.es
SUMMARY:Tarjetas navideñas
DESCRIPTION:Sin necesidad de conocimientos previos\, vamos a aprender a realizar tarjetas de Navidad. Utilizaremos distintas herramientas (Big Shot\, tabla de sellar\, …) y distintas técnicas (Stencil\, creación de fondos con tintas distress\, embossing en frio\, decoración de sellos con rotuladores o lápices de colores\, troquelado de papeles\, …). \nAl finalizar el taller te llevarás a casa tres tarjetas navideñas. \nTodos los materiales incluidos.
URL:https://www.salamancalia.es/evento/tarjetas-navidenas/
LOCATION:La U mutante\, Melchor Cano\, 9\, Salamanca\, Salamanca\, 37007\, España
CATEGORIES:Cursos y Talleres
ORGANIZER;CN="La U mutante":MAILTO:u@laumutante.com
END:VEVENT
BEGIN:VEVENT
DTSTART;VALUE=DATE:20231125
DTEND;VALUE=DATE:20231126
DTSTAMP:20260426T012140
CREATED:20231031T175331Z
LAST-MODIFIED:20231031T175331Z
UID:10004855-1700870400-1700956799@www.salamancalia.es
SUMMARY:Costura a mano
DESCRIPTION:Taller para iniciarse en la costura a mano o para profundizar en los conocimientos ya adquiridos. \nCogeremos el gusto a coser a mano conociendo distintos puntos básicos de costura y sus aplicaciones: \n\nPuntos de costura (hilván\, basta o Bastilla\, punto atrás\, pespunte\, hilos flojos).\nLos dobladillos (a punto de lado\, punto escapulario\, puntada invisible y dobladillo postizo).\n\nTodos los materiales incluidos. \n  \n  \n  \n  \n 
URL:https://www.salamancalia.es/evento/costura-a-mano-2/
LOCATION:La U mutante\, Melchor Cano\, 9\, Salamanca\, Salamanca\, 37007\, España
CATEGORIES:Cursos y Talleres
ORGANIZER;CN="La U mutante":MAILTO:u@laumutante.com
END:VEVENT
BEGIN:VEVENT
DTSTART;VALUE=DATE:20231125
DTEND;VALUE=DATE:20231126
DTSTAMP:20260426T012140
CREATED:20231114T132521Z
LAST-MODIFIED:20231114T132521Z
UID:10004887-1700870400-1700956799@www.salamancalia.es
SUMMARY:VIII San Silvestre Universitaria
DESCRIPTION:Corremos juntos por la educación.
URL:https://www.salamancalia.es/evento/viii-san-silvestre-universitaria/
LOCATION:Salamanca
CATEGORIES:Deportes
END:VEVENT
BEGIN:VEVENT
DTSTART;VALUE=DATE:20231125
DTEND;VALUE=DATE:20240108
DTSTAMP:20260426T012140
CREATED:20231116T162930Z
LAST-MODIFIED:20231226T163523Z
UID:10004894-1700870400-1704671999@www.salamancalia.es
SUMMARY:Pista de hielo de Salamanca 2023
DESCRIPTION:La pista de patinaje sobre hielo de Salamanca está instalada en la Plaza de la Concordia (junto al Corte Inglés). \nPara todos los públicos. \nHorarios\n\nDe lunes a viernes de 17:00 a 22:00 (antes de las vacaciones escolares)\nFines de semana\, festivos y durante las vacaciones escolares de 11:00 a 14:00 y de 17:00 a 22:00\nLas sesiones empiezan a en punto.\n\nPrecios\n\n7€. Incluye alquiler de patines. Duración: 45 minutos.\n2×1 día del patinador: 4 de diciembre\, 14 de diciembre\, 20 de diciembre\, 27 de diciembre y 3 de enero. Más información.\nGrupos al 50% hasta el 22 de diciembre en horario escolar bajo reserva.\n\n  \nLos horarios y precios pueden haber sufrido alguna modificación\, te recomendamos que verifiques la información oficial en la instalación. Salamancalia no se hace responsable de los posibles cambios en los horarios y tarifas aquí reflejados. \n  \n\nNavidad en Salamanca 2023
URL:https://www.salamancalia.es/evento/pista-de-hielo-de-salamanca-2023/
LOCATION:Plaza de la Concordia\, Plaza de la Concordia\, Salamanca\, Salamanca\, 37005\, España
CATEGORIES:Ocio Infantil
ATTACH;FMTTYPE=image/jpeg:https://www.salamancalia.es/wp-content/uploads/2023/11/Pista-de-hielo-en-Salamanca-formato-Disney-e1732032026647.jpg
END:VEVENT
BEGIN:VEVENT
DTSTART;TZID=UTC:20231125T210000
DTEND;TZID=UTC:20231125T210000
DTSTAMP:20260426T012140
CREATED:20230228T122946Z
LAST-MODIFIED:20241016T095945Z
UID:10004402-1700946000-1700946000@www.salamancalia.es
SUMMARY:Maldita Nerea
DESCRIPTION:Maldita Nerea regresa a Salamanca con su nueva gira “La increíble historia entre tú y yo”. \nComprar de entradas en www.ciudaddecultura.org.
URL:https://www.salamancalia.es/evento/maldita-nerea-en-salamanca/
LOCATION:CAEM\, Avda. de las Artes\, 45-55\, Salamanca\, Salamanca\, 37008\, España
CATEGORIES:Conciertos
END:VEVENT
BEGIN:VEVENT
DTSTART;TZID=UTC:20231125T223000
DTEND;TZID=UTC:20231125T223000
DTSTAMP:20260426T012140
CREATED:20231122T103312Z
LAST-MODIFIED:20231122T103312Z
UID:10004903-1700951400-1700951400@www.salamancalia.es
SUMMARY:Boreas Band
DESCRIPTION:Pop-Rock español e inglés.
URL:https://www.salamancalia.es/evento/boreas-band/
LOCATION:The Liverpool Pub Music\, c/ Gran Via 51\, Salamanca\, Salamanca\, España
CATEGORIES:Conciertos
END:VEVENT
BEGIN:VEVENT
DTSTART;TZID=UTC:20231126T200000
DTEND;TZID=UTC:20231126T200000
DTSTAMP:20260426T012140
CREATED:20231103T120751Z
LAST-MODIFIED:20231103T120751Z
UID:10004870-1701028800-1701028800@www.salamancalia.es
SUMMARY:Alice Wonder
DESCRIPTION:Concierto de Alice Wonder en Salamanca.
URL:https://www.salamancalia.es/evento/alice-wonder/
LOCATION:Palacio de Congresos y Exposiciones de Castilla y León\, Cuesta de Oviedo\, S/N\, Salamanca\, Salamanca\, 37008\, España
CATEGORIES:Conciertos
END:VEVENT
BEGIN:VEVENT
DTSTART;TZID=UTC:20231128T173000
DTEND;TZID=UTC:20231128T173000
DTSTAMP:20260426T012140
CREATED:20231124T082429Z
LAST-MODIFIED:20231124T082429Z
UID:10004918-1701192600-1701192600@www.salamancalia.es
SUMMARY:Ciencia\, sustantivo femenino
DESCRIPTION:La Asociación Cultural de Mujeres Atenea ha organizado una conferencia con el título «Ciencia\, sustantivo femenino» que será impartida por Mónica del Rey González\, investigadora postdoctoral en el grupo de genética en oncohematología del Centro de Investigación del Cáncer\, el próximo martes 28 de noviembre en el Centro Integrado Julián Sánchez el Charro a las 17:30h.
URL:https://www.salamancalia.es/evento/ciencia-sustantivo-femenino/
LOCATION:Centro Municipal Integrado Julián Sánchez el Charro\, Plaza de la Concordia s/n\, Salamanca\, Salamanca\, 37005\, España
CATEGORIES:Congresos y Jornadas
END:VEVENT
BEGIN:VEVENT
DTSTART;VALUE=DATE:20231129
DTEND;VALUE=DATE:20231203
DTSTAMP:20260426T012140
CREATED:20231123T155901Z
LAST-MODIFIED:20231123T155910Z
UID:10004912-1701216000-1701561599@www.salamancalia.es
SUMMARY:III Jornadas Audiovisuales Salamanca Film Commission
DESCRIPTION:Conocidos youtuber como Sowick\, Andrea Compton\, el tiktoker Diego Meraño y el director de ‘La Casa de Papel’\, Alejandro Bazzano\, entre otros. \nLa sala menor del Palacio de Exposiciones y Congresos acogerá los días 29\, 30 de noviembre y 2 de diciembre dos interesantes mesas redondas y la proyección del largometraje “Camino de la Suerte”\, dirigido por Jorge Alonso e interpretado por Tito Valverde y María Jesús Dirvent. \nLas mesas estarán dinamizadas por el director del FesTVval de Vitoria-Gasteiz\, Joseba Fiestras. La entrada a las actividades programadas es libre y gratuita\, hasta completar aforo.
URL:https://www.salamancalia.es/evento/iii-jornadas-audiovisuales-salamanca-film-commission/
LOCATION:Palacio de Congresos y Exposiciones de Castilla y León\, Cuesta de Oviedo\, S/N\, Salamanca\, Salamanca\, 37008\, España
CATEGORIES:Congresos y Jornadas
END:VEVENT
END:VCALENDAR