BEGIN:VCALENDAR
VERSION:2.0
PRODID:-//Agenda cultural y eventos de ocio en Salamanca - ECPv6.15.20//NONSGML v1.0//EN
CALSCALE:GREGORIAN
METHOD:PUBLISH
X-WR-CALNAME:Agenda cultural y eventos de ocio en Salamanca
X-ORIGINAL-URL:https://www.salamancalia.es
X-WR-CALDESC:Eventos para Agenda cultural y eventos de ocio en Salamanca
REFRESH-INTERVAL;VALUE=DURATION:PT1H
X-Robots-Tag:noindex
X-PUBLISHED-TTL:PT1H
BEGIN:VTIMEZONE
TZID:UTC
BEGIN:STANDARD
TZOFFSETFROM:+0000
TZOFFSETTO:+0000
TZNAME:UTC
DTSTART:20220101T000000
END:STANDARD
END:VTIMEZONE
BEGIN:VEVENT
DTSTART;VALUE=DATE:20230919
DTEND;VALUE=DATE:20231019
DTSTAMP:20260425T205455
CREATED:20230919T082124Z
LAST-MODIFIED:20230919T082124Z
UID:10003912-1695081600-1697673599@www.salamancalia.es
SUMMARY:VI Festival Jóvenes Talentos
DESCRIPTION:Festival para impulsar la creatividad y las habilidades artísticas. \nSe mantendrá en 10.000 euros la cuantía total de los premios y habrá diez modalidades de participación con dos categorías de edad: \n\nartes circenses\n‘beat box’\ncanción\ncuentacuentos\ndanza\ninterpretación musical\nmagia\nmicroteatro\nmonólogos\npoesía recitada o dramatizada\n\nEl festival consta de dos fases: una de selección y otra de actuación. \nEstá dirigido a jóvenes de 14 a 35 años\, divididos en categorías de 14 a 21 años y de 22 a 35 años. \nLa gala final de este año se celebrará el 17 de noviembre a las 19:00 horas en el auditorio del Centro Municipal Julián Sánchez ‘El Charro’ y actuará el violinista Javin Lin. \nPremios\nCada una de las categorías tendrá un premio de 2.000 euros\, un segundo de 1.400 euros y un tercero de 1.000 euros\, así como un accésit de 600 euros. \nPlazo de presentación de las propuestas\nDesde el martes 19 de septiembre al 18 de octubre. \nLos interesados deberán presentarlas en un único envío (presencial\, por correo postal o correo electrónico) en: \nEspacio Joven (Ayuntamiento de Salamanca) calle José Jáuregui\, 16 37002 Salamanca.\nTeléfono: 923 281 101\nCorreo electrónico: espaciojoven@aytosalamanca.es\nHorario de entrega presencial: de lunes a viernes\, de 8:30 a 14:00 horas y de 17:00 a 20:00 horas. \nWeb del evento con las bases y toda la información.
URL:https://www.salamancalia.es/evento/vi-festival-jovenes-talentos/
LOCATION:Espacio Joven\, C/José Jáuregui\, nº 16\, Salamanca\, Salamanca\, España
CATEGORIES:Ferias y fiestas | Festivales
END:VEVENT
BEGIN:VEVENT
DTSTART;VALUE=DATE:20230919
DTEND;VALUE=DATE:20240615
DTSTAMP:20260425T205455
CREATED:20230919T103803Z
LAST-MODIFIED:20230919T103829Z
UID:10003915-1695081600-1718409599@www.salamancalia.es
SUMMARY:Novedades de P de Patinaje. Curso 2023-24
DESCRIPTION:Clases de gimnasia rítmica (a partir de 5 años)\nChiquibaile (a partir de 5 años)\nGimnasia de adult@s\n\nEn las instalaciones del #CentroDeportivoPDEP (pinche para ver la ubicación). \nInformación e inscripciones en  pdepatinaje@gmail.com  //  616559167\nHorario de lunes a viernes de 10:00 a 13:00 y de 17:00 a 20:00. \nMás información.
URL:https://www.salamancalia.es/evento/novedades-de-p-de-patinaje-curso-2023-24/
LOCATION:Salamanca
CATEGORIES:Cursos y Talleres
END:VEVENT
BEGIN:VEVENT
DTSTART;VALUE=DATE:20230921
DTEND;VALUE=DATE:20231211
DTSTAMP:20260425T205455
CREATED:20231010T155412Z
LAST-MODIFIED:20231010T155412Z
UID:10003955-1695254400-1702252799@www.salamancalia.es
SUMMARY:Señas de identidad
DESCRIPTION:Pilar Aymerich – Cristina García Rodero – Fernando Gordillo – Ramón Masats – Xavier Miserachs – Rafael Sanz Lobato – Miguel Trillo\nDel 21 de septiembre al 10 de diciembre de 2023 en la Sala de Exposiciones Hospedería Fonseca. \nHorario\n\nMartes a sábado de 12:00 a 14:00h y de 17:30 a 20:30h\nDomingos y festivos de 10:00 a 14:00h\nLunes cerrado
URL:https://www.salamancalia.es/evento/senas-de-identidad/
LOCATION:Hospedería Fonseca\, Calle Fonseca\, 4\, Salamanca\, 37002\, España
CATEGORIES:Exposiciones
END:VEVENT
BEGIN:VEVENT
DTSTART;TZID=UTC:20230924T180000
DTEND;TZID=UTC:20231217T180000
DTSTAMP:20260425T205455
CREATED:20230921T071300Z
LAST-MODIFIED:20230921T071359Z
UID:10004782-1695578400-1702836000@www.salamancalia.es
SUMMARY:Baile para mayores
DESCRIPTION:Todos los domingos desde el 24 de septiembre hasta el 17 de diciembre a las 18:00 en la Casa de la Mujer “Clara Campoamor”.
URL:https://www.salamancalia.es/evento/bailes-para-mayores/
LOCATION:Casa de la Mujer Clara Campoamor\, C. Lugo\, 9\, Salamanca\, Salamanca\, 37003\, España
CATEGORIES:Baile y danza
END:VEVENT
BEGIN:VEVENT
DTSTART;VALUE=DATE:20230927
DTEND;VALUE=DATE:20240304
DTSTAMP:20260425T205455
CREATED:20231010T093136Z
LAST-MODIFIED:20231010T093352Z
UID:10004794-1695772800-1709510399@www.salamancalia.es
SUMMARY:Regresar a un espacio conocido
DESCRIPTION:La exposición presenta más de medio centenar de obras de la Colección DA2 (Donación Fundación Coca-Cola) y es una mirada a los treinta años de vida de la Colección a través de las obras más destacadas. La exposición muestra el compromiso de la Fundación con el arte contemporáneo\, así como el continuado interés en la obra de creadores más jóvenes y emergentes de España y Portugal. \nObra de arte superior «Sin título\, de la serie Nunca verá mi rostro 2005\, Cristina Lucas.»
URL:https://www.salamancalia.es/evento/regresar-a-un-espacio-conocido/
LOCATION:DA2\, Domus Artium 2002\, Avda. de la Aldehuela\, 30\, Salamanca\, Salamanca\, 37008\, España
CATEGORIES:Exposiciones
END:VEVENT
BEGIN:VEVENT
DTSTART;VALUE=DATE:20230930
DTEND;VALUE=DATE:20231113
DTSTAMP:20260425T205455
CREATED:20231010T120229Z
LAST-MODIFIED:20231010T120229Z
UID:10004805-1696032000-1699833599@www.salamancalia.es
SUMMARY:III Ciclo de Conciertos de Órgano de la Provincia de Salamanca
DESCRIPTION:Los Sonidos Centenarios 2023. \nLos conciertos serán gratuitos y tendrán lugar cada sábado y domingo desde el día 30 de septiembre hasta el 12 de noviembre. \nLos sábados tendrán lugar a las 20:00 horas y los domingos a las 19:00 horas. \nEn todos ellos se contará con la proyección simultánea en una pantalla de 200 pulgadas para que el público pueda apreciar los detalles de la interpretación.
URL:https://www.salamancalia.es/evento/iii-ciclo-de-conciertos-de-organo-de-la-provincia-de-salamanca/
LOCATION:Salamanca
CATEGORIES:Conciertos
END:VEVENT
BEGIN:VEVENT
DTSTART;VALUE=DATE:20231002
DTEND;VALUE=DATE:20231111
DTSTAMP:20260425T205455
CREATED:20231003T155014Z
LAST-MODIFIED:20231003T155104Z
UID:10004789-1696204800-1699660799@www.salamancalia.es
SUMMARY:Jornadas formativas sobre la enfermedad de Alzheimer en la zona rural
DESCRIPTION:La Asociación de familiares de enfermos de Alzheimer\, en colaboración con la Excma. diputación de Salamanca realiza\, desde hace varios años\, estas jornadas formativas para tratar la problemática sobre la enfermedad en toda la provincia de Salamanca.  Así\, cada año realiza estas jornadas en 6 localidades diferentes. \nEl lunes 2 de octubre han dado comienzo en La Vellés y finalizarán en Juzbado el día 10 de noviembre. \nCada semana se realizarán 6 sesiones de hora y media y serán impartidas por profesionales de AFA con amplia experiencia en el sector. Las localidades que visitarán este 2023 serán: \n\nLa Vellés del 2 al 6 de octubre\nFuenteguinaldo del 9 al 13 de octubre\nDoñinos de Salamanca del 16 al 20 de octubre\nVilloruela del 23 al 27 de octubre\nFuentes de Oñoro del 30 al 3 de noviembre y\nJuzbado del 6 al 10 de noviembre\n\nLos títulos de las sesiones son: \n1: Aprendiendo sobre el Alzheimer y otras demencias. Psicóloga AFA. Lunes \n2: Ayudas a la ley de dependencia y otros recursos. Trabajadora social AFA. Martes \n3: Cuidados sociosanitarios en personas mayores. Coordinadora AFA. Miércoles \n4: Actividad física nutrición y cuidados en el hogar. Coordinadora AFA. Miércoles \n5: Aspectos legales. Protección jurídica. Abogada AFA. Jueves \n6: Estimulación y otras actividades preventivas. Terapeutas AFA. Viernes \nNota: Los miércoles se impartirán los talleres 3 y 4 juntos. \nAFA Salamanca en su compromiso con la sensibilización y divulgación sobre la enfermedad de Alzheimer\, le invita a asistir a estas jornadas\, que serán gratis y sin inscripción previa. Aptas para cualquier persona interesada en conocer o ampliar conocimientos sobre la enfermedad.
URL:https://www.salamancalia.es/evento/jornadas-formativas-sobre-la-enfermedad-de-alzheimer-en-la-zona-rural/
LOCATION:Salamanca
CATEGORIES:Cursos y Talleres
END:VEVENT
BEGIN:VEVENT
DTSTART;VALUE=DATE:20231002
DTEND;VALUE=DATE:20240615
DTSTAMP:20260425T205455
CREATED:20230920T100929Z
LAST-MODIFIED:20230920T100929Z
UID:10003926-1696204800-1718409599@www.salamancalia.es
SUMMARY:XI ciclo Salamanca Barroca 2023-2024
DESCRIPTION:En esta edición se explorará el papel de la mujer en la composición barroca. \nLa programación consta de 11 conciertos que tendrán lugar del 2 de octubre al 18 de junio de 2024. \nProgramación completa y compra de abonos en la web oficial.
URL:https://www.salamancalia.es/evento/xi-ciclo-salamanca-barroca-2023-2024/
LOCATION:Auditorio de la Hospedería Fonseca\, Calle Fonseca\, 4\, Salamanca\, Salamanca\, 37002\, España
CATEGORIES:Conciertos
END:VEVENT
BEGIN:VEVENT
DTSTART;VALUE=DATE:20231003
DTEND;VALUE=DATE:20231031
DTSTAMP:20260425T205455
CREATED:20231010T100207Z
LAST-MODIFIED:20231010T100207Z
UID:10004797-1696291200-1698710399@www.salamancalia.es
SUMMARY:ReciclArte
DESCRIPTION:Por un planeta limpio.\nLa ropa se hace arte y vuelve a circular. \nORGANIZA: PORSIETE COOPERATIVA DE INICIATIVA SOCIAL \nDISEÑOS: MARíA CRISÓSTOMO \nHorario\nDel 3 al 30 de octubre en Julián Sánchez el Charro (Salamanca). \nDe lunes a viernes de 9:00 a 14:00h y de 17:00 a 21:00h y sábados de 10:00 a 14:00h.
URL:https://www.salamancalia.es/evento/reciclarte/
LOCATION:Centro Municipal Integrado Julián Sánchez el Charro\, Plaza de la Concordia s/n\, Salamanca\, Salamanca\, 37005\, España
CATEGORIES:Exposiciones
END:VEVENT
BEGIN:VEVENT
DTSTART;VALUE=DATE:20231003
DTEND;VALUE=DATE:20240129
DTSTAMP:20260425T205455
CREATED:20231010T092516Z
LAST-MODIFIED:20231010T093915Z
UID:10004792-1696291200-1706486399@www.salamancalia.es
SUMMARY:Trabajos Fin de Grado de la Facultad de Bellas Artes de Salamanca
DESCRIPTION:La exposición\, llevada a cabo en formato online\, reúne los trabajos de fin de Grado de la promoción 2019-2023 de la Facultad de BBAA de Salamanca. \nhttps://bellasartesusal.domusartium2002.com/ \nVarios artistas. \nObra de arte superior «Javier Juan Antich Isern»
URL:https://www.salamancalia.es/evento/trabajos-fin-de-grado-de-la-facultad-de-bellas-artes-de-salamanca/
LOCATION:Online
CATEGORIES:Exposiciones
END:VEVENT
BEGIN:VEVENT
DTSTART;VALUE=DATE:20231005
DTEND;VALUE=DATE:20240528
DTSTAMP:20260425T205455
CREATED:20230915T085805Z
LAST-MODIFIED:20230915T085805Z
UID:10004776-1696464000-1716854399@www.salamancalia.es
SUMMARY:XI Ciclo de conciertos de cámara y solistas
DESCRIPTION:Incluye doce conciertos que se desarrollarán entre el 5 de octubre de 2023 y el 27 de mayo de 2023. \nEl ciclo contará entre otros con la participación de: \n\nel clarinetista Martin Frost\nlos pianistas Sir Stephen Hough\, Martín García\, David Kadouch\, Josep Colom y Javier Laso\nlos cuartetos Casals\, Elias y Seikilos\nla violinista Ana María Valderrama\nel barítono José Antonio López\nagrupaciones camerísticas como el Trio Schola\, el Trio Farrenc.\n\n 
URL:https://www.salamancalia.es/evento/xi-ciclo-de-conciertos-de-camara-y-solistas/
LOCATION:Teatro Liceo\, Plaza del Liceo s/n\, Salamanca\, Salamanca\, 37002\, España
CATEGORIES:Conciertos
END:VEVENT
BEGIN:VEVENT
DTSTART;VALUE=DATE:20231006
DTEND;VALUE=DATE:20240108
DTSTAMP:20260425T205455
CREATED:20231010T094231Z
LAST-MODIFIED:20260416T082434Z
UID:10004795-1696550400-1704671999@www.salamancalia.es
SUMMARY:Blanco de España
DESCRIPTION:Jorge Isla. \nProyecto seleccionado en la I Convocatoria de apoyo a la creación artística contemporánea. \nMás información en pdf. \n 
URL:https://www.salamancalia.es/evento/blanco-de-espana/
LOCATION:DA2\, Domus Artium 2002\, Avda. de la Aldehuela\, 30\, Salamanca\, Salamanca\, 37008\, España
CATEGORIES:Exposiciones
END:VEVENT
BEGIN:VEVENT
DTSTART;VALUE=DATE:20231007
DTEND;VALUE=DATE:20231101
DTSTAMP:20260425T205455
CREATED:20231010T105228Z
LAST-MODIFIED:20231010T105228Z
UID:10003940-1696636800-1698796799@www.salamancalia.es
SUMMARY:Agenda de octubre en Vialia
DESCRIPTION:Agenda de actividades de octubre en el Centro Comercial Vialia. \nEl día 31 Especial Halloween con concurso de disfraces\, pintacaras… \n  \nHalloween 2023 en Salamanca.
URL:https://www.salamancalia.es/evento/agenda-de-octubre-en-vialia/
LOCATION:Centro Comercial Vialia\, Paseo de la Estación\, 122\, Salamanca\, Salamanca\, 37004\, España
CATEGORIES:Ocio Infantil
END:VEVENT
BEGIN:VEVENT
DTSTART;VALUE=DATE:20231007
DTEND;VALUE=DATE:20231215
DTSTAMP:20260425T205455
CREATED:20230922T071923Z
LAST-MODIFIED:20230922T072046Z
UID:10004784-1696636800-1702598399@www.salamancalia.es
SUMMARY:Programación teatral en Ciudad Rodrigo. Segundo Semestre 2023
DESCRIPTION:Consulta el programa detallado en pdf aquí.
URL:https://www.salamancalia.es/evento/programacion-teatral-en-ciudad-rodrigo-segundo-semestre-2023/
LOCATION:Teatro Nuevo Fernando Arrabal (Ciudad Rodrigo)\, Calle Gigantes\, 22\, Ciudad Rodrigo\, Salamanca\, 37500\, España
CATEGORIES:Teatro / Escena
END:VEVENT
BEGIN:VEVENT
DTSTART;VALUE=DATE:20231007
DTEND;VALUE=DATE:20231217
DTSTAMP:20260425T205455
CREATED:20231010T104543Z
LAST-MODIFIED:20231010T104543Z
UID:10003939-1696636800-1702771199@www.salamancalia.es
SUMMARY:Titiriqueros 2023
DESCRIPTION:Festival de teatro de títeres y otras formas escénicas. \nProgramación completa en pdf.
URL:https://www.salamancalia.es/evento/titiriqueros-2023/
LOCATION:Salamanca
CATEGORIES:Teatro / Escena
END:VEVENT
BEGIN:VEVENT
DTSTART;VALUE=DATE:20231008
DTEND;VALUE=DATE:20231204
DTSTAMP:20260425T205455
CREATED:20230920T110021Z
LAST-MODIFIED:20230920T110055Z
UID:10004779-1696723200-1701647999@www.salamancalia.es
SUMMARY:Festeaco 2023
DESCRIPTION:Festival de Teatro Aficionado Cómico. \nProgramación.
URL:https://www.salamancalia.es/evento/festeaco-2023/
LOCATION:Salamanca
CATEGORIES:Ferias y fiestas | Festivales
END:VEVENT
BEGIN:VEVENT
DTSTART;VALUE=DATE:20231009
DTEND;VALUE=DATE:20231101
DTSTAMP:20260425T205455
CREATED:20231010T150322Z
LAST-MODIFIED:20231010T150322Z
UID:10003947-1696809600-1698796799@www.salamancalia.es
SUMMARY:Exposición de Ganadores Jóvenes Creadores Salamanca 2023
DESCRIPTION:De lunes a viernes. \nMañanas 9:00-14:00 h. \nTardes: 17:00-20:00 h. \nEn la sala de exposiciones del Espacio Joven.
URL:https://www.salamancalia.es/evento/exposicion-de-ganadores-jovenes-creadores-salamanca-2023/
LOCATION:Sala de Exposiciones Espacio Joven\, c/ José Jáuregui\, 16\, Salamanca\, Salamanca\, 37002\, España
CATEGORIES:Exposiciones
END:VEVENT
BEGIN:VEVENT
DTSTART;VALUE=DATE:20231010
DTEND;VALUE=DATE:20240708
DTSTAMP:20260425T205455
CREATED:20231010T090815Z
LAST-MODIFIED:20231010T090815Z
UID:10004791-1696896000-1720396799@www.salamancalia.es
SUMMARY:Red Salmántica Global
DESCRIPTION:Voluntariado internacional en entidades sociales de Salamanca\n\nLa Fundación Plan B recibe a jóvenes de diferentes países europeos dentro de su proyecto “Red Salmántica Global”\, de diez meses de duración.\nAdemás del voluntariado\, impartirán talleres gratuitos de idiomas en Pizarrales y desarrollarán un programa de radio de música del mundo.\n\nCon el inicio del nuevo curso\, la Fundación Plan B Educación Social ha recibido a jóvenes provenientes de Alemania\, Dinamarca\, Francia\, Italia y Portugal que forman parte de la tercera edición del proyecto “Red Salmántica Global”. Llegan con el objetivo de colaborar durante diez meses en diferentes organizaciones sociales de Salamanca. \nCofinanciado por la Unión Europea bajo el marco del programa “Cuerpo Europeo de Solidaridad”\, el proyecto plantea un intercambio intercultural entre los jóvenes y las personas beneficiarias de entidades como Fundación Secretariado Gitano\, Asprodes Plena Inclusión\, la Fundación Aviva\, la Casa Hogar Santa Teresa de Jesús o el Espacio _almargen; así como la propia Fundación Plan B. \nEstos chicos y chicas de entre 18 y 30 años se sumergirán en una experiencia de inmersión cultural en la sociedad salmantina. Además del voluntariado\, ofrecerán talleres gratuitos de idiomas en el barrio de Pizarrales y realizarán el podcast de temática social “Estación Meraki” en colaboración con Radio Oasis. \nEste proyecto de voluntariado internacional va en la línea del acuerdo que la Fundación Plan B firmó recientemente con el Espacio Joven del Ayuntamiento de Salamanca. Gracias a él\, se ha puesto en marcha un servicio de orientación gratuita para aquellas personas que busquen hacer cursos de formación\, intercambios juveniles o voluntariado en el extranjero.
URL:https://www.salamancalia.es/evento/red-salmantica-global/
LOCATION:Salamanca
CATEGORIES:Especiales
END:VEVENT
BEGIN:VEVENT
DTSTART;VALUE=DATE:20231012
DTEND;VALUE=DATE:20231015
DTSTAMP:20260425T205455
CREATED:20231010T103219Z
LAST-MODIFIED:20231010T103219Z
UID:10003937-1697068800-1697327999@www.salamancalia.es
SUMMARY:X Fiesta de la vendimia tradicional de San Martín del Castañar
DESCRIPTION:Consulta el programa en la imagen superior.
URL:https://www.salamancalia.es/evento/x-fiesta-de-la-vendimia-tradicional-de-san-martin-del-castanar/
LOCATION:San Martín del Castañar\, San Martín del Castañar\, Salamanca\, España
CATEGORIES:Ferias y fiestas | Festivales
END:VEVENT
BEGIN:VEVENT
DTSTART;VALUE=DATE:20231012
DTEND;VALUE=DATE:20231016
DTSTAMP:20260425T205455
CREATED:20230516T154824Z
LAST-MODIFIED:20231012T111704Z
UID:10003640-1697068800-1697414399@www.salamancalia.es
SUMMARY:Puente del Pilar 2023 en Salamanca
DESCRIPTION:El puente de octubre se celebra en honor a la virgen del Pilar por eso se le llama puente del Pilar. Es el 12 de octubre\, el día de la Hispanidad (fiesta nacional de España)\, festivo en todo el país. En algunas comunidades se hace puente pero en otras no. \n¿Qué eventos hay en Salamanca del 12 al 15 de octubre?\n¿Qué puedo hacer en Salamanca durante el puente del Pilar/puente de la Hispanidad? \nDisfrutar de Salamanca haciendo turismo: \n\nUn paseo por Salamanca\nQué ver y visitar en Salamanca en 1 día\nQué ver en un fin de semana en Salamanca\n\nPuedes aprovechar para hacer alguna ruta por la provincia de Salamanca pero también puedes ver una selección de eventos que tendrán lugar en Salamanca (ver más abajo). \nAdemás\, puedes consultar la sección de exposiciones en Salamanca. \nAgenda cultural y eventos de ocio durante el puente del Pilar en Salamanca\nEventos próximos en Salamanca. \n¿Dónde comer o cenar?\nSi te acercas a la zona de Van Dyck puedes tomar unos montaditos\, tostas\, brochetas\, raciones… y platos combinados\, hamburguesas y parrilladas en Bar El Montadito. \nMás información sobre el Puente del Pilar\nEl Puente del Pilar tiene como fecha central el 12 de Octubre en el que se celebran diferentes fiestas como la Fiesta del Pilar en Zaragoza o el día de la Hispanidad en toda España. El 12 de Octubre es conocido como el Día del Pilar precisamente porque es la onomástica del día\, teniendo en cuenta que la Virgen del Pilar es la patrona de Zaragoza\, y Aragón en general\, la capital aragonesa celebra esos días sus fiestas patronales. \nEste mismo día celebra la Fiesta Nacional en España y la celebración incluye un gran desfile militar por las calles de la capital española. El 12 de Octubre tiene diferentes denominaciones en cuanto a Fiesta Nacional Española\, se le llama: Día de la Hispanidad\, Día de la Fiesta Nacional\, Día del Descubrimiento\, Día de Colón\, Día de las Fuerzas Armadas…
URL:https://www.salamancalia.es/evento/puente-del-pilar-2023-en-salamanca/
LOCATION:Salamanca
CATEGORIES:Especiales
ATTACH;FMTTYPE=image/jpeg:https://www.salamancalia.es/wp-content/uploads/2021/10/Puente-Romano-y-Catedral-de-Salamanca.jpg
END:VEVENT
BEGIN:VEVENT
DTSTART;VALUE=DATE:20231014
DTEND;VALUE=DATE:20231015
DTSTAMP:20260425T205455
CREATED:20231010T120558Z
LAST-MODIFIED:20231010T120558Z
UID:10004806-1697241600-1697327999@www.salamancalia.es
SUMMARY:XIV Ruta de Senderismo de Hinojosa de Duero
DESCRIPTION:Un novedoso recorrido circular de 16 km para pasar por el Mirador de los Pajeros. \nConsulta toda la información: ruta\, inscripciones…
URL:https://www.salamancalia.es/evento/xiv-ruta-de-senderismo-de-hinojosa-de-duero/
LOCATION:Hinojosa de Duero
CATEGORIES:Deportes
END:VEVENT
BEGIN:VEVENT
DTSTART;TZID=UTC:20231014T113000
DTEND;TZID=UTC:20231014T113000
DTSTAMP:20260425T205455
CREATED:20231010T114132Z
LAST-MODIFIED:20231010T161630Z
UID:10004801-1697283000-1697283000@www.salamancalia.es
SUMMARY:Enamorado de la Moda Juvenil. La movida salmantina de los ‘80
DESCRIPTION:La movida salmantina de los ’80 y los divulgadores\, en sendas mesas redondas sobre la música creada en Salamanca. \nEl programa A Nuestro Ritmo de Radio Oeste\, con la colaboración de la Biblioteca Torrente Ballester\, convoca dos mesas redondas en las que se tratarán diversos aspectos relacionados con la historia del pop y el rock que\, a lo largo del tiempo\, se ha ido produciendo en la ciudad de Salamanca. \nEncuadradas en las Jornadas “Inspirados por la MusSa 2023”\, y tras reunirnos en anteriores ocasiones con los músicos más jóvenes y con los padres del estilo en nuestra ciudad (los pioneros de las décadas de 60 y los 70)\, el 14 y el 28 de Octubre hablaremos con los protagonistas de la época dorada de los 80 y con algunos de los divulgadores que han intentado dar a conocer a nuestros creadores musicales a un público no siempre tan motivado como a muchos hubiera gustado. \nBien conocida por el público de toda España es la famosa “movida madrileña”\, explosión de libertad y creatividad musical aparecida en el Madrid de la década de los 80. Sin embargo\, solo algunas personas recuerdan que en Salamanca\, como en otras ciudades españolas\, se produjo toda una réplica\, traducida en un gran número de grupos de música propia\, muchos de los cuales poco o nada tenían que envidiar a los de la capital de España. \nDe la efervescencia de la escena musical local de esa época hablarán destacados músicos de diferentes estilos musicales. \nLa segunda mesa redonda se dedicará a la divulgación de la música propia salmantina a través de diferentes medios\, y debatirá cómo aumentar la difusión de las obras de nuestros creadores. \nSábado 14 de octubre a las 11:30 am\nEnamorado de la Moda Juvenil. \n“La movida salmantina de los ‘80”\nParalelamente a la famosa movida madrileña\, hubo en Salamanca una explosión de música propia de incuestionable originalidad. \n\nRaimundo M. Luengo (Plexiglás\, Bit 32\, UA)\nAntonio García (Rolls Royce)\nJorge Orejudo (Galería de Sombras)\nJimmy López Encinas (Baden Bah)\n\nModerada por Fernando Sánchez (Radio Oeste). \nLUGAR: BIBLIOTECA TORRENTE BALLESTER. Paseo de Los Olivos\, 10-22- 37005 Salamanca \nEntrada libre.
URL:https://www.salamancalia.es/evento/enamorado-de-la-moda-juvenil-la-movida-salmantina-de-los-80/
LOCATION:Biblioteca M. Torrente Ballester\, Paseo de los Olivos 10-22\, Salamanca\, Salamanca\, 37005\, España
CATEGORIES:Especiales
END:VEVENT
BEGIN:VEVENT
DTSTART;TZID=UTC:20231015T110000
DTEND;TZID=UTC:20231015T130000
DTSTAMP:20260425T205455
CREATED:20231010T095750Z
LAST-MODIFIED:20231010T095750Z
UID:10004796-1697367600-1697374800@www.salamancalia.es
SUMMARY:I Marcha y Carrera de Prevención del Suicidio "Rompe el Silencio"
DESCRIPTION:Inscripciones.
URL:https://www.salamancalia.es/evento/i-marcha-y-carrera-de-prevencion-del-suicidio-rompe-el-silencio/
LOCATION:Iglesia Nueva del Arrabal\, Iglesia Nueva del Arrabal\, Salamanca\, España
CATEGORIES:Deportes
END:VEVENT
BEGIN:VEVENT
DTSTART;VALUE=DATE:20231016
DTEND;VALUE=DATE:20231022
DTSTAMP:20260425T205455
CREATED:20231010T150052Z
LAST-MODIFIED:20231010T150052Z
UID:10003945-1697414400-1697932799@www.salamancalia.es
SUMMARY:Semana del Comercio de Proximidad
DESCRIPTION:Con eventos en los barrios\, sorteos\, reparto de material promocional y una gala el día 20 en el CAEM donde se reconocerá la labor de seis comercios emblemáticos. \nConsulta aquí toda la información.
URL:https://www.salamancalia.es/evento/semana-del-comercio-de-proximidad/
LOCATION:Salamanca
CATEGORIES:Especiales
END:VEVENT
BEGIN:VEVENT
DTSTART;VALUE=DATE:20231016
DTEND;VALUE=DATE:20231031
DTSTAMP:20260425T205455
CREATED:20231017T145722Z
LAST-MODIFIED:20231017T145825Z
UID:10004815-1697414400-1698710399@www.salamancalia.es
SUMMARY:XXXIX Concurso de Fotografía 'Semana Santa Salmantina'
DESCRIPTION:De esta exposición saldrá la imagen que se convierta en el cartel anunciador de la Pasión 2024. \nLas 40 fotografías seleccionadas pertenecen a 20 fotógrafos distintos y se exponen por primera vez en una muestra al aire libre sobre 6 cubos de 1\,20 por 2 metros. Son las fotografías que optan este año al premio. \nAl concurso\, organizado por la Junta de Semana Santa de Salamanca\, se presentaron un total de 169 fotografías de 33 fotógrafos. \nPremios\nDos premios y un accésit: \n\nel primero será el cartel anunciador de la Semana Santa 2024 y 1.000 euros\nel segundo será la fotografía portada de la revista ‘Christus’ 2024 y 600 euros\nel accésit especial Piedra Dorada con 300 euros
URL:https://www.salamancalia.es/evento/xxxix-concurso-de-fotografia-semana-santa-salmantina/
LOCATION:Plaza del Liceo\, Plaza del Liceo\, Salamanca\, Salamanca\, España
CATEGORIES:Exposiciones
END:VEVENT
BEGIN:VEVENT
DTSTART;VALUE=DATE:20231016
DTEND;VALUE=DATE:20231106
DTSTAMP:20260425T205455
CREATED:20231024T172100Z
LAST-MODIFIED:20231024T172100Z
UID:10004835-1697414400-1699228799@www.salamancalia.es
SUMMARY:Exposición de Barricas pintadas del Concurso Barricarte
DESCRIPTION:Exposición de Barricas pintadas del Concurso Barricarte\, de la Fiesta de la Vendimia Tradicional en San Martín del Castañar.
URL:https://www.salamancalia.es/evento/exposicion-de-barricas-pintadas-del-concurso-barricarte/
LOCATION:San Martín del Castañar\, San Martín del Castañar\, Salamanca\, España
CATEGORIES:Exposiciones
END:VEVENT
BEGIN:VEVENT
DTSTART;VALUE=DATE:20231016
DTEND;VALUE=DATE:20231219
DTSTAMP:20260425T205455
CREATED:20231010T150737Z
LAST-MODIFIED:20231010T150737Z
UID:10003949-1697414400-1702943999@www.salamancalia.es
SUMMARY:Taller de ritmos latinos y expresión corporal
DESCRIPTION:En la Casa de Juventud de Garrido\, un taller de ritmos latinos y expresión corporal dirigido a jóvenes de 16 a 30 años. \nLunes y jueves de 20:45 a 22:15 horas. \nGRATUITO.
URL:https://www.salamancalia.es/evento/taller-de-ritmos-latinos-y-expresion-corporal/
LOCATION:Casa de la juventud de Garrido\, Casa de la Juventud Garrido\, Salamanca\, Salamanca\, 37004\, España
CATEGORIES:Cursos y Talleres
END:VEVENT
BEGIN:VEVENT
DTSTART;VALUE=DATE:20231019
DTEND;VALUE=DATE:20231030
DTSTAMP:20260425T205455
CREATED:20231010T104037Z
LAST-MODIFIED:20231010T104113Z
UID:10003938-1697673600-1698623999@www.salamancalia.es
SUMMARY:Oktoberfest en Salamanca
DESCRIPTION:El Centro Comercial El Tormes organiza Oktoberfest para disfrutar de la cultura y gastronomía alemanas del 19 al 29 de octubre en el parking exterior del Centro Comercial. \nContará con una carpa con capacidad para más de 400 personas que incluirá música en directo\, DJ\, teatro\, concursos y premios variados. \nSe realizarán numerosas actividades dentro del Centro Comercial para toda la familia gracias a la colaboración de instituciones como la Universidad de Salamanca\, la Escuela Municipal de Hostelería de Santa Marta de Tormes y el Departamento de Alemán de la Escuela Oficial de Idiomas de Salamanca. \nToda la información así como los horarios en la web del evento (ver más abajo).
URL:https://www.salamancalia.es/evento/oktoberfest-en-salamanca/
LOCATION:Centro Comercial El Tormes\, Avenida de Salamanca s/n\, Santa Marta de Tormes\, Salamanca\, 37900\, España
CATEGORIES:Ferias y fiestas | Festivales
END:VEVENT
BEGIN:VEVENT
DTSTART;VALUE=DATE:20231020
DTEND;VALUE=DATE:20231022
DTSTAMP:20260425T205455
CREATED:20231010T101225Z
LAST-MODIFIED:20231010T101225Z
UID:10003930-1697760000-1697932799@www.salamancalia.es
SUMMARY:XIV Jornadas Internacionales de la Sociedad Española de Cuidados Paliativos (SECPAL)
DESCRIPTION:Dirigidas a un público multidisciplinar: médicos\, enfermeros\, trabajadores sociales\, profesionales sanitarios\, etc… que compartirán su experiencia única bajo un eje central: «Los Cuidados Paliativos son responsabilidad de todos»
URL:https://www.salamancalia.es/evento/xiv-jornadas-internacionales-de-la-sociedad-espanola-de-cuidados-paliativos-secpal/
LOCATION:Palacio de Congresos y Exposiciones de Castilla y León\, Cuesta de Oviedo\, S/N\, Salamanca\, Salamanca\, 37008\, España
CATEGORIES:Congresos y Jornadas
END:VEVENT
BEGIN:VEVENT
DTSTART;VALUE=DATE:20231020
DTEND;VALUE=DATE:20231022
DTSTAMP:20260425T205455
CREATED:20231010T141804Z
LAST-MODIFIED:20231010T141804Z
UID:10004809-1697760000-1697932799@www.salamancalia.es
SUMMARY:Adictos
DESCRIPTION:Intérpretes\n\nLola Herrera\nLola Baldrich\nAna Labordeta\n\nSesiones\n\nViernes\, 20 de octubre\, 21:00\nSábado\, 21 de octubre\, 21:00
URL:https://www.salamancalia.es/evento/adictos/
LOCATION:Teatro Liceo\, Plaza del Liceo s/n\, Salamanca\, Salamanca\, 37002\, España
CATEGORIES:Teatro / Escena
END:VEVENT
END:VCALENDAR