BEGIN:VCALENDAR
VERSION:2.0
PRODID:-//Agenda cultural y eventos de ocio en Salamanca - ECPv6.15.20//NONSGML v1.0//EN
CALSCALE:GREGORIAN
METHOD:PUBLISH
X-ORIGINAL-URL:https://www.salamancalia.es
X-WR-CALDESC:Eventos para Agenda cultural y eventos de ocio en Salamanca
REFRESH-INTERVAL;VALUE=DURATION:PT1H
X-Robots-Tag:noindex
X-PUBLISHED-TTL:PT1H
BEGIN:VTIMEZONE
TZID:UTC
BEGIN:STANDARD
TZOFFSETFROM:+0000
TZOFFSETTO:+0000
TZNAME:UTC
DTSTART:20220101T000000
END:STANDARD
END:VTIMEZONE
BEGIN:VEVENT
DTSTART;TZID=UTC:20231021T223000
DTEND;TZID=UTC:20231021T223000
DTSTAMP:20260426T041544
CREATED:20231017T152503Z
LAST-MODIFIED:20231017T152503Z
UID:10004818-1697927400-1697927400@www.salamancalia.es
SUMMARY:Jim Brothers & Co
DESCRIPTION:Rock 80’s y 90’s. \nCena con espectáculo.
URL:https://www.salamancalia.es/evento/jim-brothers-co-2/
LOCATION:Musicarte\, C\Virgen de Valbuena\, Miranda de Azán\, Salamanca\, 37187\, España
CATEGORIES:Conciertos
END:VEVENT
BEGIN:VEVENT
DTSTART;TZID=UTC:20231021T210000
DTEND;TZID=UTC:20231021T210000
DTSTAMP:20260426T041544
CREATED:20230705T082656Z
LAST-MODIFIED:20230911T153050Z
UID:10004614-1697922000-1697922000@www.salamancalia.es
SUMMARY:José Mercé
DESCRIPTION:Tour «El Oripandó». \nComprar de entradas en www.ciudaddecultura.org. \nEl enlace anterior te redirigirá a la web oficial del evento o de compra. Recomendamos verificar bien la fecha y la hora antes de comprar. Salamancalia es ajena a dicha web y no se responsabiliza de ninguna acción realizada en ella.
URL:https://www.salamancalia.es/evento/jose-merce/
LOCATION:CAEM\, Avda. de las Artes\, 45-55\, Salamanca\, Salamanca\, 37008\, España
CATEGORIES:Conciertos
END:VEVENT
BEGIN:VEVENT
DTSTART;TZID=UTC:20231020T223000
DTEND;TZID=UTC:20231020T223000
DTSTAMP:20260426T041544
CREATED:20231019T093809Z
LAST-MODIFIED:20231019T093809Z
UID:10004823-1697841000-1697841000@www.salamancalia.es
SUMMARY:Diego y Marina: Versiones de los 80
DESCRIPTION:Diego y Marina: Versiones de los 80 y después continúa la fiesta con DJ.
URL:https://www.salamancalia.es/evento/diego-y-marina-versiones-de-los-80/
LOCATION:The Liverpool Pub Music\, c/ Gran Via 51\, Salamanca\, Salamanca\, España
CATEGORIES:Conciertos
END:VEVENT
BEGIN:VEVENT
DTSTART;VALUE=DATE:20231020
DTEND;VALUE=DATE:20231022
DTSTAMP:20260426T041544
CREATED:20231010T141804Z
LAST-MODIFIED:20231010T141804Z
UID:10004809-1697760000-1697932799@www.salamancalia.es
SUMMARY:Adictos
DESCRIPTION:Intérpretes\n\nLola Herrera\nLola Baldrich\nAna Labordeta\n\nSesiones\n\nViernes\, 20 de octubre\, 21:00\nSábado\, 21 de octubre\, 21:00
URL:https://www.salamancalia.es/evento/adictos/
LOCATION:Teatro Liceo\, Plaza del Liceo s/n\, Salamanca\, Salamanca\, 37002\, España
CATEGORIES:Teatro / Escena
END:VEVENT
BEGIN:VEVENT
DTSTART;VALUE=DATE:20231020
DTEND;VALUE=DATE:20231022
DTSTAMP:20260426T041544
CREATED:20231010T101225Z
LAST-MODIFIED:20231010T101225Z
UID:10003930-1697760000-1697932799@www.salamancalia.es
SUMMARY:XIV Jornadas Internacionales de la Sociedad Española de Cuidados Paliativos (SECPAL)
DESCRIPTION:Dirigidas a un público multidisciplinar: médicos\, enfermeros\, trabajadores sociales\, profesionales sanitarios\, etc… que compartirán su experiencia única bajo un eje central: «Los Cuidados Paliativos son responsabilidad de todos»
URL:https://www.salamancalia.es/evento/xiv-jornadas-internacionales-de-la-sociedad-espanola-de-cuidados-paliativos-secpal/
LOCATION:Palacio de Congresos y Exposiciones de Castilla y León\, Cuesta de Oviedo\, S/N\, Salamanca\, Salamanca\, 37008\, España
CATEGORIES:Congresos y Jornadas
END:VEVENT
BEGIN:VEVENT
DTSTART;VALUE=DATE:20231016
DTEND;VALUE=DATE:20231022
DTSTAMP:20260426T041544
CREATED:20231010T150052Z
LAST-MODIFIED:20231010T150052Z
UID:10003945-1697414400-1697932799@www.salamancalia.es
SUMMARY:Semana del Comercio de Proximidad
DESCRIPTION:Con eventos en los barrios\, sorteos\, reparto de material promocional y una gala el día 20 en el CAEM donde se reconocerá la labor de seis comercios emblemáticos. \nConsulta aquí toda la información.
URL:https://www.salamancalia.es/evento/semana-del-comercio-de-proximidad/
LOCATION:Salamanca
CATEGORIES:Especiales
END:VEVENT
BEGIN:VEVENT
DTSTART;TZID=UTC:20231015T110000
DTEND;TZID=UTC:20231015T130000
DTSTAMP:20260426T041544
CREATED:20231010T095750Z
LAST-MODIFIED:20231010T095750Z
UID:10004796-1697367600-1697374800@www.salamancalia.es
SUMMARY:I Marcha y Carrera de Prevención del Suicidio "Rompe el Silencio"
DESCRIPTION:Inscripciones.
URL:https://www.salamancalia.es/evento/i-marcha-y-carrera-de-prevencion-del-suicidio-rompe-el-silencio/
LOCATION:Iglesia Nueva del Arrabal\, Iglesia Nueva del Arrabal\, Salamanca\, España
CATEGORIES:Deportes
END:VEVENT
BEGIN:VEVENT
DTSTART;TZID=UTC:20231014T113000
DTEND;TZID=UTC:20231014T113000
DTSTAMP:20260426T041544
CREATED:20231010T114132Z
LAST-MODIFIED:20231010T161630Z
UID:10004801-1697283000-1697283000@www.salamancalia.es
SUMMARY:Enamorado de la Moda Juvenil. La movida salmantina de los ‘80
DESCRIPTION:La movida salmantina de los ’80 y los divulgadores\, en sendas mesas redondas sobre la música creada en Salamanca. \nEl programa A Nuestro Ritmo de Radio Oeste\, con la colaboración de la Biblioteca Torrente Ballester\, convoca dos mesas redondas en las que se tratarán diversos aspectos relacionados con la historia del pop y el rock que\, a lo largo del tiempo\, se ha ido produciendo en la ciudad de Salamanca. \nEncuadradas en las Jornadas “Inspirados por la MusSa 2023”\, y tras reunirnos en anteriores ocasiones con los músicos más jóvenes y con los padres del estilo en nuestra ciudad (los pioneros de las décadas de 60 y los 70)\, el 14 y el 28 de Octubre hablaremos con los protagonistas de la época dorada de los 80 y con algunos de los divulgadores que han intentado dar a conocer a nuestros creadores musicales a un público no siempre tan motivado como a muchos hubiera gustado. \nBien conocida por el público de toda España es la famosa “movida madrileña”\, explosión de libertad y creatividad musical aparecida en el Madrid de la década de los 80. Sin embargo\, solo algunas personas recuerdan que en Salamanca\, como en otras ciudades españolas\, se produjo toda una réplica\, traducida en un gran número de grupos de música propia\, muchos de los cuales poco o nada tenían que envidiar a los de la capital de España. \nDe la efervescencia de la escena musical local de esa época hablarán destacados músicos de diferentes estilos musicales. \nLa segunda mesa redonda se dedicará a la divulgación de la música propia salmantina a través de diferentes medios\, y debatirá cómo aumentar la difusión de las obras de nuestros creadores. \nSábado 14 de octubre a las 11:30 am\nEnamorado de la Moda Juvenil. \n“La movida salmantina de los ‘80”\nParalelamente a la famosa movida madrileña\, hubo en Salamanca una explosión de música propia de incuestionable originalidad. \n\nRaimundo M. Luengo (Plexiglás\, Bit 32\, UA)\nAntonio García (Rolls Royce)\nJorge Orejudo (Galería de Sombras)\nJimmy López Encinas (Baden Bah)\n\nModerada por Fernando Sánchez (Radio Oeste). \nLUGAR: BIBLIOTECA TORRENTE BALLESTER. Paseo de Los Olivos\, 10-22- 37005 Salamanca \nEntrada libre.
URL:https://www.salamancalia.es/evento/enamorado-de-la-moda-juvenil-la-movida-salmantina-de-los-80/
LOCATION:Biblioteca M. Torrente Ballester\, Paseo de los Olivos 10-22\, Salamanca\, Salamanca\, 37005\, España
CATEGORIES:Especiales
END:VEVENT
BEGIN:VEVENT
DTSTART;VALUE=DATE:20231014
DTEND;VALUE=DATE:20231015
DTSTAMP:20260426T041544
CREATED:20231010T120558Z
LAST-MODIFIED:20231010T120558Z
UID:10004806-1697241600-1697327999@www.salamancalia.es
SUMMARY:XIV Ruta de Senderismo de Hinojosa de Duero
DESCRIPTION:Un novedoso recorrido circular de 16 km para pasar por el Mirador de los Pajeros. \nConsulta toda la información: ruta\, inscripciones…
URL:https://www.salamancalia.es/evento/xiv-ruta-de-senderismo-de-hinojosa-de-duero/
LOCATION:Hinojosa de Duero
CATEGORIES:Deportes
END:VEVENT
BEGIN:VEVENT
DTSTART;VALUE=DATE:20231012
DTEND;VALUE=DATE:20231016
DTSTAMP:20260426T041544
CREATED:20230516T154824Z
LAST-MODIFIED:20231012T111704Z
UID:10003640-1697068800-1697414399@www.salamancalia.es
SUMMARY:Puente del Pilar 2023 en Salamanca
DESCRIPTION:El puente de octubre se celebra en honor a la virgen del Pilar por eso se le llama puente del Pilar. Es el 12 de octubre\, el día de la Hispanidad (fiesta nacional de España)\, festivo en todo el país. En algunas comunidades se hace puente pero en otras no. \n¿Qué eventos hay en Salamanca del 12 al 15 de octubre?\n¿Qué puedo hacer en Salamanca durante el puente del Pilar/puente de la Hispanidad? \nDisfrutar de Salamanca haciendo turismo: \n\nUn paseo por Salamanca\nQué ver y visitar en Salamanca en 1 día\nQué ver en un fin de semana en Salamanca\n\nPuedes aprovechar para hacer alguna ruta por la provincia de Salamanca pero también puedes ver una selección de eventos que tendrán lugar en Salamanca (ver más abajo). \nAdemás\, puedes consultar la sección de exposiciones en Salamanca. \nAgenda cultural y eventos de ocio durante el puente del Pilar en Salamanca\nEventos próximos en Salamanca. \n¿Dónde comer o cenar?\nSi te acercas a la zona de Van Dyck puedes tomar unos montaditos\, tostas\, brochetas\, raciones… y platos combinados\, hamburguesas y parrilladas en Bar El Montadito. \nMás información sobre el Puente del Pilar\nEl Puente del Pilar tiene como fecha central el 12 de Octubre en el que se celebran diferentes fiestas como la Fiesta del Pilar en Zaragoza o el día de la Hispanidad en toda España. El 12 de Octubre es conocido como el Día del Pilar precisamente porque es la onomástica del día\, teniendo en cuenta que la Virgen del Pilar es la patrona de Zaragoza\, y Aragón en general\, la capital aragonesa celebra esos días sus fiestas patronales. \nEste mismo día celebra la Fiesta Nacional en España y la celebración incluye un gran desfile militar por las calles de la capital española. El 12 de Octubre tiene diferentes denominaciones en cuanto a Fiesta Nacional Española\, se le llama: Día de la Hispanidad\, Día de la Fiesta Nacional\, Día del Descubrimiento\, Día de Colón\, Día de las Fuerzas Armadas…
URL:https://www.salamancalia.es/evento/puente-del-pilar-2023-en-salamanca/
LOCATION:Salamanca
CATEGORIES:Especiales
ATTACH;FMTTYPE=image/jpeg:https://www.salamancalia.es/wp-content/uploads/2021/10/Puente-Romano-y-Catedral-de-Salamanca.jpg
END:VEVENT
BEGIN:VEVENT
DTSTART;VALUE=DATE:20231012
DTEND;VALUE=DATE:20231015
DTSTAMP:20260426T041544
CREATED:20231010T103219Z
LAST-MODIFIED:20231010T103219Z
UID:10003937-1697068800-1697327999@www.salamancalia.es
SUMMARY:X Fiesta de la vendimia tradicional de San Martín del Castañar
DESCRIPTION:Consulta el programa en la imagen superior.
URL:https://www.salamancalia.es/evento/x-fiesta-de-la-vendimia-tradicional-de-san-martin-del-castanar/
LOCATION:San Martín del Castañar\, San Martín del Castañar\, Salamanca\, España
CATEGORIES:Ferias y fiestas | Festivales
END:VEVENT
BEGIN:VEVENT
DTSTART;TZID=UTC:20231007T210000
DTEND;TZID=UTC:20231007T210000
DTSTAMP:20260426T041544
CREATED:20230111T120608Z
LAST-MODIFIED:20230911T110929Z
UID:10003453-1696712400-1696712400@www.salamancalia.es
SUMMARY:Ángel Martín: punto para los locos
DESCRIPTION:Duración: 75 minutos. \nEdad recomendada para mayores de 16 años. \n 
URL:https://www.salamancalia.es/evento/angel-martin-punto-para-los-locos/
LOCATION:Palacio de Congresos y Exposiciones de Castilla y León\, Cuesta de Oviedo\, S/N\, Salamanca\, Salamanca\, 37008\, España
CATEGORIES:Humor / Monólogos
END:VEVENT
BEGIN:VEVENT
DTSTART;VALUE=DATE:20231006
DTEND;VALUE=DATE:20231008
DTSTAMP:20260426T041544
CREATED:20230920T110718Z
LAST-MODIFIED:20230920T110718Z
UID:10004780-1696550400-1696723199@www.salamancalia.es
SUMMARY:Vía Crucis el musical
DESCRIPTION:Más información y venta de entradas.
URL:https://www.salamancalia.es/evento/via-crucis-el-musical/
LOCATION:Alba de Tormes\, Alba de Tormes\, Salamanca\, España
END:VEVENT
BEGIN:VEVENT
DTSTART;VALUE=DATE:20231006
DTEND;VALUE=DATE:20231008
DTSTAMP:20260426T041544
CREATED:20230711T094254Z
LAST-MODIFIED:20230711T094254Z
UID:10003765-1696550400-1696723199@www.salamancalia.es
SUMMARY:II Simposio Ibérico de audiología en niños con discapacidad auditiva
DESCRIPTION:Más información en la web del evento (ver más abajo).
URL:https://www.salamancalia.es/evento/ii-simposio-iberico-de-audiologia-en-ninos-con-discapacidad-auditiva/
LOCATION:Palacio de Congresos y Exposiciones de Castilla y León\, Cuesta de Oviedo\, S/N\, Salamanca\, Salamanca\, 37008\, España
CATEGORIES:Congresos y Jornadas
END:VEVENT
BEGIN:VEVENT
DTSTART;VALUE=DATE:20231001
DTEND;VALUE=DATE:20231002
DTSTAMP:20260426T041544
CREATED:20230711T121433Z
LAST-MODIFIED:20230711T121433Z
UID:10003775-1696118400-1696204799@www.salamancalia.es
SUMMARY:10Km Ciudad de Santa Marta 2023
DESCRIPTION:La carrera se disputará el domingo 1 de octubre de 2023 con salida y llegada en Santa Marta. \nMás información e inscripción.
URL:https://www.salamancalia.es/evento/10km-ciudad-de-santa-marta-2023/
LOCATION:Santa Marta de Tormes
CATEGORIES:Deportes
END:VEVENT
BEGIN:VEVENT
DTSTART;TZID=UTC:20230930T210000
DTEND;TZID=UTC:20230930T210000
DTSTAMP:20260426T041544
CREATED:20230920T095600Z
LAST-MODIFIED:20260416T082432Z
UID:10003922-1696107600-1696107600@www.salamancalia.es
SUMMARY:Noche de blues
DESCRIPTION:How Are Blues + Sadia + Javier Turnes & The Hakemen. \nEntradas en https://ciudaddecultura.org. \n 
URL:https://www.salamancalia.es/evento/noche-de-blues/
LOCATION:Sala B del CAEM\, Avenida de las Artes\, 45-55\, Salamanca\, Salamanca\, 37003\, España
CATEGORIES:Conciertos
END:VEVENT
BEGIN:VEVENT
DTSTART;TZID=UTC:20230930T210000
DTEND;TZID=UTC:20230930T210000
DTSTAMP:20260426T041544
CREATED:20230728T090919Z
LAST-MODIFIED:20241016T075704Z
UID:10003795-1696107600-1696107600@www.salamancalia.es
SUMMARY:Las Bingueras de Eurípides
DESCRIPTION:Nuevo espectáculo de la compañía Las Niñas de Cádiz. \nEntradas\n\nwww.ciudaddecultura.org
URL:https://www.salamancalia.es/evento/las-bingueras-de-euripides/
LOCATION:Teatro Liceo\, Plaza del Liceo s/n\, Salamanca\, Salamanca\, 37002\, España
CATEGORIES:Teatro / Escena
END:VEVENT
BEGIN:VEVENT
DTSTART;TZID=UTC:20230930T180000
DTEND;TZID=UTC:20230930T210000
DTSTAMP:20260426T041544
CREATED:20230915T090209Z
LAST-MODIFIED:20230915T090209Z
UID:10004777-1696096800-1696107600@www.salamancalia.es
SUMMARY:VIII Edición 'Salamanca Nos Movemos'
DESCRIPTION:Feria de Entidades de Voluntariado de Salamanca. \nParque de La Alamedilla (junto Pabellón de Deportes) el 30 de septiembre (sábado) de 18:00 a 21:00 horas. \n 
URL:https://www.salamancalia.es/evento/viii-edicion-salamanca-nos-movemos/
LOCATION:Parque de la Alamedilla\, Parque de la Alamedilla\, Salamanca\, Salamanca\, España
CATEGORIES:Ferias y fiestas | Festivales
END:VEVENT
BEGIN:VEVENT
DTSTART;TZID=UTC:20230930T180000
DTEND;TZID=UTC:20230930T180000
DTSTAMP:20260426T041544
CREATED:20230920T100143Z
LAST-MODIFIED:20230920T100143Z
UID:10003924-1696096800-1696096800@www.salamancalia.es
SUMMARY:VIII edición del Festival de Cortometrajes sobre Personas Mayores (FICMA)
DESCRIPTION:Descubre el pasado\, comparte el presente. \nLa gala final será el 30 de septiembre en el Teatro Juan del Enzina a las 18:00 horas. \nEn esta ocasión\, tendrá como invitado de excepción al actor salmantino Mariano Venancio\, quien recibirá el Premio Honorífico por su profesionalidad y pasión por este oficio y por tener muy presente el nombre de Salamanca a lo largo de su carrera.
URL:https://www.salamancalia.es/evento/viii-edicion-del-festival-de-cortometrajes-sobre-personas-mayores-ficma/
LOCATION:Teatro Juan del Enzina\, Calle Tostado\, 8\, Salamanca\, Salamanca\, 37008\, España
CATEGORIES:Cine
END:VEVENT
BEGIN:VEVENT
DTSTART;VALUE=DATE:20230930
DTEND;VALUE=DATE:20231001
DTSTAMP:20260426T041544
CREATED:20230821T120853Z
LAST-MODIFIED:20230921T071657Z
UID:10003846-1696032000-1696118399@www.salamancalia.es
SUMMARY:Festival de Cortos Pelabravo Express 2023
DESCRIPTION:Festival de cortos express que tiene lugar en Pelabravo (Salamanca) el día 30 de septiembre. \nProgramación\n\nViernes 29 de septiembre por la tarde\nSábado 30 de septiembre por la mañana\nSábado 30 de septiembre por la tarde
URL:https://www.salamancalia.es/evento/festival-de-cortos-pelabravo-express-2023/
LOCATION:Salamanca
CATEGORIES:Cine,Ferias y fiestas | Festivales
END:VEVENT
BEGIN:VEVENT
DTSTART;TZID=UTC:20230929T210000
DTEND;TZID=UTC:20230929T210000
DTSTAMP:20260426T041544
CREATED:20230825T085757Z
LAST-MODIFIED:20260416T081926Z
UID:10004740-1696021200-1696021200@www.salamancalia.es
SUMMARY:La Verbena de la Paloma
DESCRIPTION:Orquesta Sinfónica y Coro Radio Televisión Española. \nComprar de entradas en www.ciudaddecultura.org. \nEl enlace anterior te redirigirá a la web oficial del evento o de compra. Recomendamos verificar bien la fecha y la hora antes de comprar. Salamancalia es ajena a dicha web y no se responsabiliza de ninguna acción realizada en ella. \n  \n 
URL:https://www.salamancalia.es/evento/la-verbena-de-la-paloma-2/
LOCATION:CAEM\, Avda. de las Artes\, 45-55\, Salamanca\, Salamanca\, 37008\, España
CATEGORIES:Conciertos
END:VEVENT
BEGIN:VEVENT
DTSTART;TZID=UTC:20230928T203000
DTEND;TZID=UTC:20230928T203000
DTSTAMP:20260426T041544
CREATED:20230915T083053Z
LAST-MODIFIED:20230915T083053Z
UID:10004773-1695933000-1695933000@www.salamancalia.es
SUMMARY:Concierto por la donación de médula ósea
DESCRIPTION:Se presentará el spot «Dona médula\, regala Vida» creado con mucho cariño. \n¿Tu también quieres hacerte donante de médula ósea? \nInfórmate en: https://castillayleon.medulaosea.org/
URL:https://www.salamancalia.es/evento/concierto-por-la-donacion-de-medula-osea/
LOCATION:Centro Comercial Vialia\, Paseo de la Estación\, 122\, Salamanca\, Salamanca\, 37004\, España
CATEGORIES:Presentaciones
END:VEVENT
BEGIN:VEVENT
DTSTART;VALUE=DATE:20230928
DTEND;VALUE=DATE:20231002
DTSTAMP:20260426T041544
CREATED:20230922T073234Z
LAST-MODIFIED:20230922T073515Z
UID:10004785-1695859200-1696204799@www.salamancalia.es
SUMMARY:Fiestas en Juzbado 2023
DESCRIPTION:Programación de las Fiestas Patronales de Juzbado 2023 San Miguel Arcángel\nJueves 28 de septiembre\n\n18:00 – CONCURSO DE TORTILLAS\, POSTRES\, PINCHOS Y LIMONADAS/VINOS en el salón del Ayuntamiento. Posterior degustación.\n20:30 – PREGÓN a cargo de nuestros entrañables vecinos Mariano y Pilar. Nombramiento de la Reina y Rey de las Fiestas de San Miguel 2023. Reparto de pulseras y todo el mundo con su pañoleta. Chupinazo desde el balcón del Ayuntamiento.\n22:00 – Concierto a cargo del grupo DISTRITO POP.\nA continuación\, de madrugada\, puesta de banderines y ramos.\n\nViernes 29 de septiembre\n\n12:00 – Misa en honor a nuestro patrón\, San Miguel Arcángel. A continuación\, procesión y bailes a cargo del Grupo de bailes charros de Juzbado.\n14:00 – Vino de honor en el salón del Ayuntamiento.\n17:00 – Partido de pelota en el frontón (zona deportiva) con nuestros amigos del Club Paladín: Plaza (Salamanca) y Beobide (Bizkaia) contra Pocholo (Madrid) y Raúl (Salamanca) con limonada.\n19:00 – Pasacalle con BATUKA MATRAKA\, desde el recinto deportivo de Juzbado hacia el centro del pueblo.\n20:00 – DEGUSTACIÓN de vinos en el Bar Restaurante El Toral.\n00:00 – Verbena con la orquesta AVATARS en el recinto deportivo.\n\nSábado 30 de septiembre\n\n11:00 – JUEGO DE PISTAS con galimatías\, jeroglíficos y enredos varios\, para toda la familia organizado por el Colectivo Wayra. Plaza de Ia Iglesia.\n12:00 a 17:00 – CRAZY VERMUTEO Y COLOR PARTY\, con Diego Duende organizado por el Bar de las Piscinas.\n16:30 – PARTIDO DE FÚTBOL en el campo municipal EL VADO: Juzbado F.C. contra Galindo y Perahuy. Limonada para todas las aficiones.\n18:30 – TEATRO «Hombre ¡Qué Orquesta!» para toda la familia\, con el Grupo Kamarú en el salón de actos del Ayuntamiento.\n20:30 – VI FESTIVAL FOLCLÓRICO HISPANOLUSO.\n00:00 – VERBENA con la orquesta K-MALEON. Y de madrugada DJ AVIAN\, hasta que el cuerpo aguante.\n\nDomingo 1 de octubre\n\n11:00 a 14:00 – III FERIA DE MINERALES DE JUZBADO + STAND DE LOS NIÑOS Y NIÑAS DE JUZBADO. Jornada matinal de puertas abiertas en el Centro Botánico y el Museo de la Falla.\n11:00 a 14:00 – Hinchables y trenecito para los más pequeños\, con DIVERTILANDIA.\n14:30 – PAELLA POPULAR en la carpa. Precio del ticket por persona (2 €). Venta de tickets en los bares y la Biblioteca hasta el jueves 28 de septiembre. La recaudación se destinará a las asociaciones del pueblo.\n16:30 a 19:30 – Vuelven los hinchables y el trenecito.\n18:00 a 21:00 – Charanga QUELOQUE’S.\n19:30 – CHOCOLATADA en la Plaza de la Iglesia ofrecida por Chocolatería Valor.
URL:https://www.salamancalia.es/evento/fiestas-en-juzbado-2023/
LOCATION:Juzbado\, Juzbado\, Salamanca\, España
CATEGORIES:Ferias y fiestas | Festivales
END:VEVENT
BEGIN:VEVENT
DTSTART;TZID=UTC:20230927T193000
DTEND;TZID=UTC:20230927T193000
DTSTAMP:20260426T041544
CREATED:20230926T080323Z
LAST-MODIFIED:20230926T081300Z
UID:10004786-1695843000-1695843000@www.salamancalia.es
SUMMARY:Presentación de la Novela “Morir dos veces“
DESCRIPTION:La Asociación de Alzheimer\, AFA Salamanca concluye las actividades de la celebración del día mundial con la presentación de la novela:\nMORIR DOS VECES de Alejandro Seral. \nEl miércoles 27 de septiembre en el Palacio de Figueroa\, Casino de Salamanca\, C/ Zamora 15\, tendrá lugar la presentación de la Novela “Morir dos veces” cuyo autor es Alejandro Seral. \n\nEl acto de presentación de la novela será a las 19:30h y constará de dos partes\, por un lado\, la proyección de un documental y por otro\, la presentación. Posteriormente pasaremos a la firma de ejemplares y al turno de ruegos y preguntas. Dicha novela se publicó en el año 2021 y va ya por su cuarta edición.\nDesde el 2022\, Alejandro Seral presenta “Morir dos veces” de la mano de las Asociaciones de Familiares de Alzheimer de toda España.\n\nAFA Salamanca en su compromiso con la sensibilización y divulgación sobre la enfermedad de Alzheimer\, apadrina este acto y quiere recordar\, además\, que continúa con las jornadas psicoeducativas para todos los públicos “HABLEMOS DE ALZHEIMER” se imparten semanalmente en la Residencia Boni Mediero hasta el 24 de octubre.
URL:https://www.salamancalia.es/evento/presentacion-de-la-novela-morir-dos-veces/
LOCATION:Palacio de Figueroa (Casino de Salamanca)\, Calle Zamora\, 11\, 15\, Salamanca\, Salamanca\, 37002\, España
CATEGORIES:Presentaciones
END:VEVENT
BEGIN:VEVENT
DTSTART;VALUE=DATE:20230927
DTEND;VALUE=DATE:20230930
DTSTAMP:20260426T041544
CREATED:20230112T121821Z
LAST-MODIFIED:20230112T121821Z
UID:10003468-1695772800-1696031999@www.salamancalia.es
SUMMARY:60 Congreso SECOT
DESCRIPTION:Sociedad Española de Cirugía Ortopédica y Traumatología. Fundación SECOT. \nToda la información en la web del evento (ver más abajo).
URL:https://www.salamancalia.es/evento/60-congreso-secot/
LOCATION:Palacio de Congresos y Exposiciones de Castilla y León\, Cuesta de Oviedo\, S/N\, Salamanca\, Salamanca\, 37008\, España
CATEGORIES:Congresos y Jornadas
END:VEVENT
BEGIN:VEVENT
DTSTART;VALUE=DATE:20230927
DTEND;VALUE=DATE:20230928
DTSTAMP:20260426T041544
CREATED:20230926T082321Z
LAST-MODIFIED:20230926T083037Z
UID:10004788-1695772800-1695859199@www.salamancalia.es
SUMMARY:Día Mundial del Turismo 2023
DESCRIPTION:Turismo e inversiones verdes\nSalamanca celebra el próximo miércoles\, 27 de septiembre\, el Día Mundial del Turismo. La concejalía de Turismo ha organizado jornada de puertas abiertas en nueve espacios\, visitas guiadas a espacios arqueológicos\, paseos interpretativos de la naturaleza y actividades en los Barrios del bretón\, Oeste y San Vicente. \nPrograma de actividades Turismo de Salamanca\nJornada de puertas abiertas\n\nIeronimus. Horario de 10:00 a 19:00\nScala Coeli. Horario de 10:00 a 19:15\nMuseo del Comercio. Horario de 10:00 a 14:00 y de 17:00 a 20:00\nMuseo taurino. Horario: de 10:30 a 13:30 y de 17:30 a 20:00\nMonumenta Salmanticae. Horario de 10:00 a 14:00 y de 17:00 a 19:30\nMuseo de Historia de la Automoción. Horario de 10:00 a 14:00 y de 17:00 a 20:00\nFilmoteca de Castilla y León. Horario de 10:00 a 14:00 y de 17:00 a 19:30\nIglesia de la Vera Cruz. Horario de 11:00 a 14:00 y de 17:00 a 20:00\nMuseo de Salamanca. Horario de 10:00 a 14:00 y de 16:00 a 19:00\n\n  \nVisitas guiadas a espacios arqueológicos\n\nCerro de San Vicente\nCueva de Salamanca y Centro de Interpretación de las Murallas Salmantinas\nParque Arqueológico del Botánico\nPozo de Nieve\n\nPases:  11:00\, 12:30 y 18:00. \nInvitaciones en www.salamancaymas.es \n  \nPaseos interpretativos de la naturaleza\n\nHuerto de Calixto y Melibea\nJardín de la Merced y ribera del Río Tormes\n\nPases: 12:00 y 18:00. \nInvitaciones en www.salamancaymas.es \n  \nAvistamiento de aves\n\nRibera del Tormes.\n\nPases: 12:00 y 18:30. \nInvitaciones en www.salamancaymas.es \n  \nActuaciones en los barrios\n\nCluedo “La ajusticiada. Un crimen sin resolver en Salamanca”\n\nVisita teatralizada por el Barrio del Bretón \nPases: 18:00. \nPunto de encuentro: Iglesia de Sancti Spiritus \nInvitaciones en www.salamancaymas.es \n  \n\nGalería Urbana\n\nVisita guiada por el Barrio del Oeste \nPase: 12:30 y 18:00. \nPunto de encuentro: Plaza del Oeste \nInvitaciones en www.salamancaymas.es \n  \n\nGuerra de Independencia\n\nVisita guiada por el Barrio de San Vicente \nPases: 12:00 y 18:00. \nPunto de encuentro: Plaza Mayor \nInvitaciones en www.salamancaymas.es \n  \nVisitas teatralizadas\n\nMuseo de Historia de la Automoción\n\nVisita teatralizada. Compañía “Colleja Teatro” \nPases: 12:00\, 17:30 y 18:30. \nReserva: tel. 923 26 02 93
URL:https://www.salamancalia.es/evento/dia-mundial-del-turismo-2023/
LOCATION:Salamanca
ATTACH;FMTTYPE=image/jpeg:https://www.salamancalia.es/wp-content/uploads/2023/01/Ieronimus-de-noche.jpg
END:VEVENT
BEGIN:VEVENT
DTSTART;TZID=UTC:20230926T103000
DTEND;TZID=UTC:20230926T170000
DTSTAMP:20260426T041544
CREATED:20230915T083603Z
LAST-MODIFIED:20230915T083603Z
UID:10004774-1695724200-1695747600@www.salamancalia.es
SUMMARY:Jornada de puertas abiertas de marcha nórdica
DESCRIPTION:Martes 26 de septiembre a las 10:30 y a las 17:00 en el parque de Los Jesuitas. \nOrganizado por B.612.
URL:https://www.salamancalia.es/evento/jornada-de-puertas-abiertas-de-marcha-nordica/
LOCATION:Parque de los Jesuitas
CATEGORIES:Deportes
END:VEVENT
BEGIN:VEVENT
DTSTART;VALUE=DATE:20230925
DTEND;VALUE=DATE:20230929
DTSTAMP:20260426T041544
CREATED:20230915T082404Z
LAST-MODIFIED:20230915T082438Z
UID:10004772-1695600000-1695945599@www.salamancalia.es
SUMMARY:Primer torneo del Oeste. Baloncesto 3 × 3 con sillas BSR
DESCRIPTION:1er Campeonato Oeste. Baloncesto masculino y femenino inclusivo: 3 × 3 con sillas BSR. \nMás información.
URL:https://www.salamancalia.es/evento/primer-torneo-del-oeste-baloncesto-3-x-3-con-sillas-bsr/
LOCATION:Pabellón del CRMF\, Avenida Villamayor 75\, Salamanca\, Salamanca\, España
CATEGORIES:Deportes
END:VEVENT
BEGIN:VEVENT
DTSTART;TZID=UTC:20230924T200000
DTEND;TZID=UTC:20230924T200000
DTSTAMP:20260426T041544
CREATED:20230905T114844Z
LAST-MODIFIED:20230911T104619Z
UID:10004769-1695585600-1695585600@www.salamancalia.es
SUMMARY:Piensa en Wilbur
DESCRIPTION:Gimnasia Artística en Salamanca. \nDuración aproximada: 90 min. \nWeb del evento.
URL:https://www.salamancalia.es/evento/piensa-en-wilbur/
LOCATION:Palacio de Congresos y Exposiciones de Castilla y León\, Cuesta de Oviedo\, S/N\, Salamanca\, Salamanca\, 37008\, España
CATEGORIES:Humor / Monólogos
END:VEVENT
BEGIN:VEVENT
DTSTART;TZID=UTC:20230923T210000
DTEND;TZID=UTC:20230923T210000
DTSTAMP:20260426T041544
CREATED:20230728T090438Z
LAST-MODIFIED:20230911T091640Z
UID:10003793-1695502800-1695502800@www.salamancalia.es
SUMMARY:Do Re Mi
DESCRIPTION:Estreno absoluto de la compañía salmantina Edulogic. \nEntradas\n\nwww.ciudaddecultura.org
URL:https://www.salamancalia.es/evento/do-re-mi/
LOCATION:Teatro Liceo\, Plaza del Liceo s/n\, Salamanca\, Salamanca\, 37002\, España
CATEGORIES:Teatro / Escena
END:VEVENT
END:VCALENDAR