BEGIN:VCALENDAR
VERSION:2.0
PRODID:-//Agenda cultural y eventos de ocio en Salamanca - ECPv6.15.20//NONSGML v1.0//EN
CALSCALE:GREGORIAN
METHOD:PUBLISH
X-ORIGINAL-URL:https://www.salamancalia.es
X-WR-CALDESC:Eventos para Agenda cultural y eventos de ocio en Salamanca
REFRESH-INTERVAL;VALUE=DURATION:PT1H
X-Robots-Tag:noindex
X-PUBLISHED-TTL:PT1H
BEGIN:VTIMEZONE
TZID:UTC
BEGIN:STANDARD
TZOFFSETFROM:+0000
TZOFFSETTO:+0000
TZNAME:UTC
DTSTART:20250101T000000
END:STANDARD
END:VTIMEZONE
BEGIN:VEVENT
DTSTART;VALUE=DATE:20260405
DTEND;VALUE=DATE:20260406
DTSTAMP:20260421T044746
CREATED:20260205T171707Z
LAST-MODIFIED:20260227T114342Z
UID:10006878-1775347200-1775433599@www.salamancalia.es
SUMMARY:Semana Santa Salamanca 2026: Domingo de Resurrección
DESCRIPTION:Horarios y recorridos de las procesiones del Domingo de Resurrección\nIlustre Cofradía de la Santa Cruz del Redentor y de la Purísima Concepción de la Virgen\, su madre (Vera Cruz) \nProcesión del encuentro \nProcesión de Nuestra Señora de la Alegría \n\n10:15 horas\nRecorrido: Iglesia de la Vera Cruz\, paseo de las Úrsulas\, calle Bordadores\, plaza de Monterrey\, calle Prior\, calle Prado\, plaza del Corrillo\, calle Quintana\, plaza Poeta Iglesias\, calle San Pablo\, calle Tostado\, plaza de Anaya y Atrio de la Catedral.\n\n  \nProcesión de Jesús Resucitado \n\n10:45 horas\nRecorrido: Iglesia de la Vera Cruz\, calle Domínguez Berrueta\, calle Ramón y Cajal\, plaza de las Agustinas\, calle de la Compañía\, Rúa Antigua\, plaza de San Isidro\, calle Libreros\, calle Calderón de la Barca\, calle Benedicto XVI y Atrio de la Catedral.\n\n  \nProcesión Conjunta de Resurrección \n\n12:45 horas\nRecorrido: Atrio de la Catedral\, plaza de Anaya\, Rúa Mayor\, calle Quintana\, plaza del Poeta Iglesias\, Plaza Mayor\, calle Prior\, plaza de Monterrey\, calle Bordadores\, paseo de las Úrsulas e iglesia de la Vera Cruz.\nDuración: 3h.\n\nPasos: \n\nLignum Crucis (Reliquia autenticada de la Cruz de Cristo traída de Roma en el s. XVII. Cruz-relicario\, Pedro Benítez\, 1675)\nLas tres Marías ante el Sepulcro vacío (imágenes\, Pedro Hernández 1617\, Santo Sepulcro\, anónimo 1678)\nNuestra Señora de la Alegría (anónimo s. XVIII)\nJesús Resucitado (Alejandro Carnicero\, 1725)\n\n  \n\nSemana Santa en Salamanca 2026 (horarios y recorridos de las procesiones)\n\n  \nTambién puede interesarte: \n\nUn paseo por Salamanca\nQué ver en un fin de semana en Salamanca\nQué ver y visitar en Salamanca en 1 día
URL:https://www.salamancalia.es/evento/semana-santa-salamanca-2026-domingo-de-resurreccion/
LOCATION:Salamanca
CATEGORIES:Especiales
ATTACH;FMTTYPE=image/jpeg:https://www.salamancalia.es/wp-content/uploads/2026/01/Cartel-de-Semana-Santa-2026-Salamanca.jpg
END:VEVENT
BEGIN:VEVENT
DTSTART;VALUE=DATE:20260409
DTEND;VALUE=DATE:20260620
DTSTAMP:20260421T044746
CREATED:20260409T102150Z
LAST-MODIFIED:20260409T102227Z
UID:10006983-1775692800-1781913599@www.salamancalia.es
SUMMARY:Muestra Universitaria de Artes Escénicas 2026
DESCRIPTION:Tendrá lugar en el Teatro Juan del Enzina durante los meses de abril\, mayo y junio a las 20:30h. \nParticiparán 20 grupos que pondrán en escena obras con una amplia variedad de lenguajes escénicos. \nOrganizada por el Servicio de Actividades Culturales de la Universidad de Salamanca\, en cuya página web se puede encontrar información\, tanto sobre la muestra\, como sobre los diferentes grupos que participan en ella.
URL:https://www.salamancalia.es/evento/muestra-universitaria-de-artes-escenicas-2026/
LOCATION:Teatro Juan del Enzina\, Calle Tostado\, 8\, Salamanca\, Salamanca\, 37008\, España
CATEGORIES:Teatro / Escena
ATTACH;FMTTYPE=image/jpeg:https://www.salamancalia.es/wp-content/uploads/2026/04/Muestra-universitaria-de-artes-escenicas-2026-USAL.jpg
END:VEVENT
BEGIN:VEVENT
DTSTART;VALUE=DATE:20260410
DTEND;VALUE=DATE:20260412
DTSTAMP:20260421T044746
CREATED:20260409T095723Z
LAST-MODIFIED:20260409T095723Z
UID:10006981-1775779200-1775951999@www.salamancalia.es
SUMMARY:Esencia
DESCRIPTION:Intérpretes: Juan Echanove y Joaquín Climent \nViernes 10 de abril y sábado 11 de abril. \nDuración: 1h 20′. \nMás información.
URL:https://www.salamancalia.es/evento/esencia/
LOCATION:Teatro Liceo\, Plaza del Liceo s/n\, Salamanca\, Salamanca\, 37002\, España
CATEGORIES:Teatro / Escena
ATTACH;FMTTYPE=image/jpeg:https://www.salamancalia.es/wp-content/uploads/2026/04/Esencia.jpg
END:VEVENT
BEGIN:VEVENT
DTSTART;VALUE=DATE:20260411
DTEND;VALUE=DATE:20260413
DTSTAMP:20260421T044746
CREATED:20260409T100011Z
LAST-MODIFIED:20260409T100051Z
UID:10006982-1775865600-1776038399@www.salamancalia.es
SUMMARY:MALINCHE SYMPHONIC
DESCRIPTION:By Nacho Cano \nSábado 11 de abril y domingo 12 de abril. \nDuración: 1h 30′. \nMás información.
URL:https://www.salamancalia.es/evento/malinche-symphonic/
LOCATION:CAEM\, Avda. de las Artes\, 45-55\, Salamanca\, Salamanca\, 37008\, España
CATEGORIES:Conciertos
ATTACH;FMTTYPE=image/jpeg:https://www.salamancalia.es/wp-content/uploads/2026/04/Malinche-Symphonic.jpg
END:VEVENT
BEGIN:VEVENT
DTSTART;TZID=UTC:20260411T210000
DTEND;TZID=UTC:20260411T210000
DTSTAMP:20260421T044746
CREATED:20260313T105117Z
LAST-MODIFIED:20260313T105117Z
UID:10006961-1775941200-1775941200@www.salamancalia.es
SUMMARY:Sergio Dalma
DESCRIPTION:Sergio Dalma en concierto en Salamanca. \nTour Ritorno a Via Dalma.
URL:https://www.salamancalia.es/evento/sergio-dalma/
LOCATION:Enjoy Multiusos de Salamanca\, Av. de los Cipreses\, Salamanca\, Salamanca\, Spain
CATEGORIES:Conciertos
ATTACH;FMTTYPE=image/jpeg:https://www.salamancalia.es/wp-content/uploads/2026/03/Sergio-Dalma-en-Salamanca.jpg
END:VEVENT
BEGIN:VEVENT
DTSTART;TZID=UTC:20260412T123000
DTEND;TZID=UTC:20260412T180000
DTSTAMP:20260421T044746
CREATED:20260312T173001Z
LAST-MODIFIED:20260312T173010Z
UID:10006949-1775997000-1776016800@www.salamancalia.es
SUMMARY:IDOLS – La Revolución K-Pop
DESCRIPTION:Las guardianas del ritmo\, el musical. \n  \n 
URL:https://www.salamancalia.es/evento/idols-la-revolucion-k-pop/
LOCATION:Palacio de Congresos y Exposiciones de Castilla y León\, Cuesta de Oviedo\, S/N\, Salamanca\, Salamanca\, 37008\, España
CATEGORIES:Conciertos
ATTACH;FMTTYPE=image/jpeg:https://www.salamancalia.es/wp-content/uploads/2026/03/Las-guardianas-del-ritmo-K-Pop.jpg
END:VEVENT
BEGIN:VEVENT
DTSTART;VALUE=DATE:20260413
DTEND;VALUE=DATE:20260414
DTSTAMP:20260421T044746
CREATED:20260120T161457Z
LAST-MODIFIED:20260409T151929Z
UID:10006818-1776038400-1776124799@www.salamancalia.es
SUMMARY:Lunes de Aguas 2026: lugares\, hornazo\, actividades...
DESCRIPTION:Programa de actividades del Lunes de Aguas en Salamanca\n10\, 11 y 12 de abril\nVisita teatralizada GRATIS: “Ni todo es progreso\, ni todo es hornazo”. Punto de encuentro: C/ Ribera del Puente\, 1 (Cruz de los Ajusticiados) \n\nViernes 10 de abril a las 18:00 y 19:30.\nSábado 11 y domingo 12 a las 12:00\, 17:00\, 18:30 y 20:00.\n\nRecorrido por el Puente Romano. \n\n11 y 12 de abril\nParque Elio Antonio de Nebrija (sábado y domingo): \n\nJuegos de madera para toda la familia «Leña al Juego» de 11:30 a 13:30\nCuentacuentos 12:30. Gradas del Parque Elio Antonio de Nebrija.\n\nLunes 13 de abril (tarde)\nAmbientación musical y callejera: \n\nGigantes y cabezudos + charanga ‘Queloque´s Band’: Parque de la Aldehuela de 17:00 a 19:00\nBatucada. ‘Blocco Charro’. De 17:30 a 21:30. Recorrido: Plaza de Santiago\, Puente Romano y Parque Elio Antonio de Nebrija.\nBatucada. ‘Batukamatraka’. De 18:00 a 19:00 en el  Würzburg.\nBatucada. ‘Batukamatraka’. De 19:30 a 20:30 en Huerta Otea\nElectrocharanga: Parque del Zurguén de 18:00 a 19:30\n\n  \nServicio especial de autobuses urbanos\, dispositivo especial de tráfico\, seguridad y limpieza. \n  \n¿Qué es el Lunes de Aguas?\nEl lunes de aguas es una tradición puramente Salmantina y aunque el origen (data del siglo XVI) reside en la capital charra\, hoy en día se celebra en buena parte de los municipios de la provincia.El origen es totalmente pagano teniendo en cuenta que se celebra la finalización de la semana santa\, bueno\, más que eso\, el fin de las restricciones que se ponían en esas fechas tan religiosas\, en particular la vuelta de las meretrices que hacían de la ciudad universitaria una pequeña Sodoma y Gomorra. \nHoy todo es diferente. Lo que se hace es celebrarlo rodeado de los amigos y familia que se reúnen para ir a merendar al campo o pasar una jornada campestre\, con un clima de ociosidad\, esparcimiento y diversión y comer el tradicional hornazo. \n¿Dónde comer el hornazo el Lunes de Aguas?\nTradicionalmente se come en el campo o a la orilla del río Tormes. Tanto en la ciudad como en los pueblos hay lugares habituales. En Salamanca puedes comerlo: \n\nEn las inmediaciones del Puente Romano\nEn la Aldehuela\nA lo largo del paseo fluvial\nEn Salas Bajas\nEn Huerta Otea\nEn el Parque de Würzburg\nEn el Parque Elio Antonio de Nebrija\nEn la Isla del Soto\n\nOtro lugar muy típico es el Parque de Valcuevo\, muy cerca de Salamanca por la carretera de Ledesma. \n  \n  \n\nTambién puede interesarte: \n\nDónde aparcar en Salamanca\nCómo llegar a Salamanca\nCómo moverse en Salamanca: caminando\, en bici\, en taxi o en autobús\nSemana Santa en Salamanca 2026
URL:https://www.salamancalia.es/evento/lunes-de-aguas-2026-lugares-hornazo-actividades/
LOCATION:Salamanca
CATEGORIES:Especiales
ATTACH;FMTTYPE=image/jpeg:https://www.salamancalia.es/wp-content/uploads/2026/01/Lunes-de-aguas-2026-en-Salamanca.jpg
END:VEVENT
BEGIN:VEVENT
DTSTART;VALUE=DATE:20260415
DTEND;VALUE=DATE:20260418
DTSTAMP:20260421T044746
CREATED:20260409T094203Z
LAST-MODIFIED:20260409T094203Z
UID:10006976-1776211200-1776470399@www.salamancalia.es
SUMMARY:Salamanca Tech Summit 2026
DESCRIPTION:Salamanca será el  epicentro de los últimos avances tecnológicos. \nToda la información y el programa.
URL:https://www.salamancalia.es/evento/salamanca-tech-summit-2026/
LOCATION:Palacio de Congresos y Exposiciones de Castilla y León\, Cuesta de Oviedo\, S/N\, Salamanca\, Salamanca\, 37008\, España
CATEGORIES:Congresos y Jornadas
ATTACH;FMTTYPE=image/jpeg:https://www.salamancalia.es/wp-content/uploads/2026/04/Salamanca-Tech-Summit-2026.jpg
END:VEVENT
BEGIN:VEVENT
DTSTART;TZID=UTC:20260418T200000
DTEND;TZID=UTC:20260418T200000
DTSTAMP:20260421T044746
CREATED:20260409T094548Z
LAST-MODIFIED:20260409T094548Z
UID:10006977-1776542400-1776542400@www.salamancalia.es
SUMMARY:Miguel Ríos
DESCRIPTION:Gira El Último Vals.
URL:https://www.salamancalia.es/evento/miguel-rios/
LOCATION:Palacio de Congresos y Exposiciones de Castilla y León\, Cuesta de Oviedo\, S/N\, Salamanca\, Salamanca\, 37008\, España
CATEGORIES:Conciertos
ATTACH;FMTTYPE=image/jpeg:https://www.salamancalia.es/wp-content/uploads/2026/04/Miguel-Rios-en-Salamanca.jpg
END:VEVENT
BEGIN:VEVENT
DTSTART;TZID=UTC:20260419T190000
DTEND;TZID=UTC:20260419T190000
DTSTAMP:20260421T044746
CREATED:20260409T094712Z
LAST-MODIFIED:20260409T094712Z
UID:10006979-1776625200-1776625200@www.salamancalia.es
SUMMARY:Martirio
DESCRIPTION:Al sur del tango.
URL:https://www.salamancalia.es/evento/martirio/
LOCATION:Palacio de Congresos y Exposiciones de Castilla y León\, Cuesta de Oviedo\, S/N\, Salamanca\, Salamanca\, 37008\, España
CATEGORIES:Conciertos
ATTACH;FMTTYPE=image/jpeg:https://www.salamancalia.es/wp-content/uploads/2026/04/Martirio-en-Salamanca.jpg
END:VEVENT
BEGIN:VEVENT
DTSTART;VALUE=DATE:20260423
DTEND;VALUE=DATE:20260424
DTSTAMP:20260421T044746
CREATED:20260409T093217Z
LAST-MODIFIED:20260420T102225Z
UID:10006974-1776902400-1776988799@www.salamancalia.es
SUMMARY:Día del Libro en Salamanca 2026
DESCRIPTION:Fecha:  jueves 23 de abril de 10:00 a 22:00 horas. \nNueva edición del Día del Libro en el que participarán un total de 25 librerías. Organizado por el Ayuntamiento de Salamanca y la Asociación de Empresarios Salmantinos de Comercio (Aesco). \nDedicado a Francisco de Vitoria coincidiendo con la celebración del V Centenario de la Escuela de Salamanca. \nLas librerías se ubicarán bajo los soportales de la Plaza Mayor ofreciendo un 10% de descuento. \nCada libro irá acompañado de los 10.000 marcapáginas numerados editados por el Ayuntamiento de Salamanca. También los lectores podrán plasmar en su libro un sello conmemorativo en el zaguán del Ayuntamiento de Salamanca. \nLa Banda Municipal de Música ofrecerá en la Plaza Mayor un concierto a las 12:00. Interpretará un programa variado y accesible para todos los públicos compuesto por pasodobles\, intermedios de zarzuela y música de cine. \nBando del alcalde. \nLibrerías participantes en la Plaza Mayor\n1. Librería La Latina. \n2. Librería Leyenda. \n3. Librería Los Robles. \n4. Librería Musarañas. \n5. La Nave\, Librería Anticuaria \n6. Librería El Buscón. \n7. Librería Víctor Jara. \n8. Librería Benéitez. \n9. Librería Melibea. \n10. Librería Gandhi. \n11. Librería Nueva Plaza Universitaria. \n12. Librería Mundus Libri. \n13. Librería Cartemverso. \n14. Librería La Caraba. \n15. Librería Ikigai Cómics. \n16. Librería Rivas. \n17. Librería Goncurt. \n18. Librería Letras Corsarias. \n19. Librería Crespo. \n20. Librería Santos Ochoa. \n21. Librería Castilla. \n22. Librería Yuste. \n23. Librería Danete. \n24. Librería Páginas. \n25. Editorial El Quinto Sello \n\n  \nMarcapáginas día del libro 2026 Salamanca\n \n\n 
URL:https://www.salamancalia.es/evento/dia-del-libro-en-salamanca-2026/
LOCATION:Plaza Mayor de Salamanca\, Pl. Mayor\, s/n\, Salamanca\, Salamanca\, 37002\, España
CATEGORIES:Especiales,Ferias y fiestas | Festivales
ATTACH;FMTTYPE=image/jpeg:https://www.salamancalia.es/wp-content/uploads/2026/04/Dia-del-libro-2026-en-Salamanca.jpg
END:VEVENT
BEGIN:VEVENT
DTSTART;VALUE=DATE:20260423
DTEND;VALUE=DATE:20260424
DTSTAMP:20260421T044746
CREATED:20260409T093659Z
LAST-MODIFIED:20260409T093831Z
UID:10006975-1776902400-1776988799@www.salamancalia.es
SUMMARY:Día de Castilla y León 2026
DESCRIPTION:Actividades previstas para Salamanca y también en el resto de Castilla y León. \nDía del Libro en Salamanca 2026 \n 
URL:https://www.salamancalia.es/evento/dia-de-castilla-y-leon-2026/
LOCATION:Salamanca
CATEGORIES:Especiales
ATTACH;FMTTYPE=image/jpeg:https://www.salamancalia.es/wp-content/uploads/2026/04/Dia-de-Castilla-y-Leon-2026.jpg
END:VEVENT
BEGIN:VEVENT
DTSTART;VALUE=DATE:20260424
DTEND;VALUE=DATE:20260425
DTSTAMP:20260421T044746
CREATED:20260409T092455Z
LAST-MODIFIED:20260409T092455Z
UID:10006972-1776988800-1777075199@www.salamancalia.es
SUMMARY:DIA SIN COLE\, para el viernes 24 de abril (no lectivo)
DESCRIPTION:En P de Patinaje ofrecen el DIA SIN COLE: patinaje\, juegos\, talleres… \nEn el Centro Deportivo PDEP. \nEl precio son 20€ por alumn@ \nPara niñ@s de 5 a 12 años. \nEl horario es de 9:00 a 14:00. MISMO HORARIO QUE EL COLEGIO\, para una buena conciliación familiar. \nInscripciones antes del 16 de abril.
URL:https://www.salamancalia.es/evento/dia-sin-cole-para-el-viernes-24-de-abril-no-lectivo/
LOCATION:Salamanca
CATEGORIES:Cursos y Talleres
ATTACH;FMTTYPE=image/jpeg:https://www.salamancalia.es/wp-content/uploads/2026/04/P-de-Patinaje-dia-sin-cole-24-de-abril-2026.jpg
END:VEVENT
BEGIN:VEVENT
DTSTART;TZID=UTC:20260501T200000
DTEND;TZID=UTC:20260501T200000
DTSTAMP:20260421T044746
CREATED:20260409T094827Z
LAST-MODIFIED:20260409T095020Z
UID:10006980-1777665600-1777665600@www.salamancalia.es
SUMMARY:El Monaguillo
DESCRIPTION:Efectiviwonder.
URL:https://www.salamancalia.es/evento/el-monaguillo-2026/
LOCATION:Palacio de Congresos y Exposiciones de Castilla y León\, Cuesta de Oviedo\, S/N\, Salamanca\, Salamanca\, 37008\, España
CATEGORIES:Humor / Monólogos
ATTACH;FMTTYPE=image/jpeg:https://www.salamancalia.es/wp-content/uploads/2026/04/El-Monaguillo-en-Salamanca.jpg
END:VEVENT
BEGIN:VEVENT
DTSTART;VALUE=DATE:20260530
DTEND;VALUE=DATE:20260531
DTSTAMP:20260421T044746
CREATED:20260320T080856Z
LAST-MODIFIED:20260320T080944Z
UID:10006969-1780099200-1780185599@www.salamancalia.es
SUMMARY:III Festival La Lenteja Metálica
DESCRIPTION:El rock vuelve a latir en el corazón de La Armuña. \nLa comarca de La Armuña volverá a vibrar el próximo 30 de mayo de 2026 con la tercera edición del Festival La Lenteja Metálica\, que se celebrará en Pedrosillo el Ralo (Salamanca). \nLa Asociación Cultural La Lenteja Metálica consolida así un evento que\, tras el éxito de sus dos primeras ediciones\, se ha convertido en una cita imprescindible para los amantes del rock y el metal. El festival mantiene intacta su esencia: combinar música en directo de alto nivel con la defensa del medio rural\, la lucha contra la despoblación y la dinamización económica y cultural de la zona. \nSe trata de un proyecto nacido desde la propia comunidad\, impulsado por una asociación sin ánimo de lucro formada por vecinos comprometidos con su territorio. \n\nUn cartel con identidad propia\nLa edición de 2026 contará con un potente elenco de bandas: \n\nRat-Zinger\, pura energía y contundencia desde Bilbao.\nKillus\, referentes del metal industrial de Castellón.\nGautxori\, rock sin filtros salmantino.\nLa Morgue\, estilo inconfundible Swingcore desde Asturias.\nPunky Brewster\, actitud y fuerza valenciana sobre el escenario.\n7Kilos\, Rap-metal salmantino\n\n  \nMúsica de verdad en un entorno único\nEl 30 de mayo\, Pedrosillo el Ralo volverá a rugir. Ya están las entradas a la venta: \n\nEntrada general: 15 €\nEntrada + Bus: 20 €\nSolo Bus: 10 €\nhttps://ticketandroll.com/evento/iii-festival-lenteja-metalica-pedrosillo-el-ralo-salamanca\n\nSi quieres hierro\, aquí tienes lentejas… ¡y del metal más pesado!
URL:https://www.salamancalia.es/evento/iii-festival-la-lenteja-metalica/
LOCATION:Pedrosillo el Ralo\, Pedrosillo el Ralo\, Salamanca\, Spain
CATEGORIES:Ferias y fiestas | Festivales
ATTACH;FMTTYPE=image/jpeg:https://www.salamancalia.es/wp-content/uploads/2026/03/III-Festival-La-Lenteja-Metalica.jpg
END:VEVENT
BEGIN:VEVENT
DTSTART;VALUE=DATE:20260908
DTEND;VALUE=DATE:20260916
DTSTAMP:20260421T044746
CREATED:20260313T084241Z
LAST-MODIFIED:20260414T161942Z
UID:10006955-1788825600-1789516799@www.salamancalia.es
SUMMARY:Ferias y fiestas de Salamanca 2026. Programación
DESCRIPTION:Programación de Ferias y Fiestas 2026 por días\n\nMartes 8 de septiembre\nMiércoles 9 de septiembre\nJueves 10 de septiembre\nViernes 11 de septiembre\nSábado 12 de septiembre\nDomingo 13 de septiembre\nLunes 14 de septiembre\nMartes 15 de septiembre\n\nPrograma cultural de las ferias de Salamanca 2026. Virgen de la Vega\nIremos informando de los eventos que se programen para las Ferias y Fiestas de Salamanca: \n\nConciertos de las ferias y fiestas de Salamanca\nLos conciertos de la Banda Municipal de Música\nMercado Medieval.\nFerias: atracciones en el recinto ferial de La Aldehuela.\nCirco\nFeria de día: casetas\nActividades deportivas durante las ferias y fiestas: torneos\, partidos\, exhibiciones…\nConcurso Hípico Nacional de Saltos de Obstáculos\nSalamaq26: Feria del sector Agropecuario. \nToros: Feria taurina de Salamanca 2026.\n\n¿Cuándo son los fuegos artificiales de las Ferias y Fiestas de Salamanca 2026?\nSin información. \n¿Cuándo son las ferias y fiestas patronales de Salamanca 2026?\nLa fechas oficiales son del 7 al 15 de septiembre de 2026 aunque algunos eventos y actividades (las atracciones de feria\, el circo\, la feria taurina…)  pueden alargarse hasta el 21 de septiembre aproximadamente. El día 8 es la fiesta grande de Salamanca\, la Virgen de la Vega. \n¿Qué día empiezan la ferias de Salamanca?\nEl 7 de septiembre empiezan las ferias y fiestas de Salamanca. El día 8 es la fiesta grande de Salamanca\, la Virgen de la Vega. \n¿Qué día acaban las ferias de Salamanca?\nLas ferias terminan el 15 de septiembre aunque algunos eventos y actividades (las atracciones de feria\, el circo\, la feria taurina…) pueden alargarse hasta el 21 de septiembre o incluso más. \n¿Dónde aparcar en Salamanca?\nSi vienes a disfrutar del programa de ferias y fiestas de Salamanca\, ya sean conciertos\, toros\, atracciones de feria… puedes consultar aquí estacionamientos donde aparcar en Salamanca gratis o en parkings cerca del centro. \n  \nNoticias\n\nAbierto el plazo para solicitar las casetas de la Feria de Día 2026\nApuesta por la música en vivo en Feria de Día tras el tirón del año pasado\nLa Plaza Mayor de Salamanca volverá a acoger doce conciertos en las Ferias y Fiestas de la ciudad\n\n  \nAquí puedes consultar la programación de años anteriores: \n\nFerias y fiestas de Salamanca 2025\n\n  \nCarteles de los últimos años:\n    \n 
URL:https://www.salamancalia.es/evento/ferias-y-fiestas-de-salamanca-2026-programacion/
LOCATION:Salamanca
CATEGORIES:Ferias y fiestas | Festivales
ATTACH;FMTTYPE=image/jpeg:https://www.salamancalia.es/wp-content/uploads/2026/03/Fuegos-artificiales-sobre-la-catedral-de-Salamanca.-Creada-con-IA.jpg
END:VEVENT
END:VCALENDAR