BEGIN:VCALENDAR
VERSION:2.0
PRODID:-//Agenda cultural y eventos de ocio en Salamanca - ECPv6.15.20//NONSGML v1.0//EN
CALSCALE:GREGORIAN
METHOD:PUBLISH
X-ORIGINAL-URL:https://www.salamancalia.es
X-WR-CALDESC:Eventos para Agenda cultural y eventos de ocio en Salamanca
REFRESH-INTERVAL;VALUE=DURATION:PT1H
X-Robots-Tag:noindex
X-PUBLISHED-TTL:PT1H
BEGIN:VTIMEZONE
TZID:UTC
BEGIN:STANDARD
TZOFFSETFROM:+0000
TZOFFSETTO:+0000
TZNAME:UTC
DTSTART:20250101T000000
END:STANDARD
END:VTIMEZONE
BEGIN:VEVENT
DTSTART;VALUE=DATE:20260108
DTEND;VALUE=DATE:20260612
DTSTAMP:20260422T093157
CREATED:20251216T124549Z
LAST-MODIFIED:20251216T124549Z
UID:10006808-1767830400-1781222399@www.salamancalia.es
SUMMARY:Iniciación al Patinaje Artístico
DESCRIPTION:A partir de enero . \nEn el  Centro Deportivo PDEP (pinche para ver la ubicación)  \nLos jueves de 16:15 a 17:15 – grupo de INICIACIÓN AL PATINAJE ARTÍSTICO. \nPara niñ@s de 6 a 10 años con un nivel básico de patinaje (patinar\, girar y frenar). \nSi no dispones del equipo\, lo puedes alquilar\, consulta la disponibilidad. \nInscripciones en P de Patinaje.
URL:https://www.salamancalia.es/evento/iniciacion-al-patinaje-artistico/
LOCATION:Centro Deportivo PDEP\, Camino del Rio\, Salamanca\, 37193
CATEGORIES:Cursos y Talleres
ATTACH;FMTTYPE=image/jpeg:https://www.salamancalia.es/wp-content/uploads/2025/12/NOVEDAD_CARTEL_ARTISTICO_P_DE_PATINAJE_CURSO_2025-2026.jpg
END:VEVENT
BEGIN:VEVENT
DTSTART;VALUE=DATE:20260307
DTEND;VALUE=DATE:20261123
DTSTAMP:20260422T093157
CREATED:20260305T162546Z
LAST-MODIFIED:20260305T163022Z
UID:10006920-1772841600-1795391999@www.salamancalia.es
SUMMARY:Naturaleza escondida en Salamanca 2026
DESCRIPTION:8 actividades para descubrir paisajes espectaculares y rincones poco conocidos de la provincia: \n\nSenderismo (familiar y de alta montaña)\nTurismo ornitológico\nPiragüismo\nObservación de estrellas\nRuta BTT de gran recorrido (novedad)\n\n  \nConsulta la programación e información sobre inscripción gratuita en www.naturalezaescondida.com
URL:https://www.salamancalia.es/evento/naturaleza-escondida-en-salamanca-2026/
LOCATION:Salamanca
CATEGORIES:Deportes
ATTACH;FMTTYPE=image/jpeg:https://www.salamancalia.es/wp-content/uploads/2026/03/Naturaleza-escondida-en-Salamanca-2026.jpg
END:VEVENT
BEGIN:VEVENT
DTSTART;VALUE=DATE:20260319
DTEND;VALUE=DATE:20260425
DTSTAMP:20260422T093157
CREATED:20260317T105352Z
LAST-MODIFIED:20260317T105352Z
UID:10006964-1773878400-1777075199@www.salamancalia.es
SUMMARY:V Jornadas “Inspirados por la MusSa"
DESCRIPTION:Las V Jornadas “Inspirados por la MusSa« se celebran del 19 de marzo al 24 de abril\, e incluyen dos conferencias\, dos presentaciones de discos\, dos homenajes y la presentación de un fanzine. El objetivo de estas actividades es dar a conocer la calidad y variedad de la música que crean nuestros convecinos\, y reivindicar su talento. \n 
URL:https://www.salamancalia.es/evento/v-jornadas-inspirados-por-la-mussa-2026/
LOCATION:Salamanca
CATEGORIES:Especiales
ATTACH;FMTTYPE=image/jpeg:https://www.salamancalia.es/wp-content/uploads/2026/03/Cartel-1a-Jornadas-MusSa-2026.jpg
END:VEVENT
BEGIN:VEVENT
DTSTART;VALUE=DATE:20260409
DTEND;VALUE=DATE:20260620
DTSTAMP:20260422T093157
CREATED:20260409T102150Z
LAST-MODIFIED:20260409T102227Z
UID:10006983-1775692800-1781913599@www.salamancalia.es
SUMMARY:Muestra Universitaria de Artes Escénicas 2026
DESCRIPTION:Tendrá lugar en el Teatro Juan del Enzina durante los meses de abril\, mayo y junio a las 20:30h. \nParticiparán 20 grupos que pondrán en escena obras con una amplia variedad de lenguajes escénicos. \nOrganizada por el Servicio de Actividades Culturales de la Universidad de Salamanca\, en cuya página web se puede encontrar información\, tanto sobre la muestra\, como sobre los diferentes grupos que participan en ella.
URL:https://www.salamancalia.es/evento/muestra-universitaria-de-artes-escenicas-2026/
LOCATION:Teatro Juan del Enzina\, Calle Tostado\, 8\, Salamanca\, Salamanca\, 37008\, España
CATEGORIES:Teatro / Escena
ATTACH;FMTTYPE=image/jpeg:https://www.salamancalia.es/wp-content/uploads/2026/04/Muestra-universitaria-de-artes-escenicas-2026-USAL.jpg
END:VEVENT
BEGIN:VEVENT
DTSTART;VALUE=DATE:20260422
DTEND;VALUE=DATE:20260629
DTSTAMP:20260422T093157
CREATED:20260421T160042Z
LAST-MODIFIED:20260421T160121Z
UID:10006989-1776816000-1782691199@www.salamancalia.es
SUMMARY:Letras por la libertad
DESCRIPTION:Más información en: \nLetras por la Libertad: https://www.cultura.gob.es/cultura/areas/archivos/mc/archivos/cdmh/exposiciones-y-actividades/actividades-culturales/2024/congreso-escritores.html
URL:https://www.salamancalia.es/evento/letras-por-la-libertad/
LOCATION:Centro Documental de la Memoria Histórica\, Plaza de los Bandos\, 3\, Salamanca\, Salamanca\, España
CATEGORIES:Exposiciones
ATTACH;FMTTYPE=image/jpeg:https://www.salamancalia.es/wp-content/uploads/2026/04/Exposicion.jpg
END:VEVENT
BEGIN:VEVENT
DTSTART;VALUE=DATE:20260423
DTEND;VALUE=DATE:20260424
DTSTAMP:20260422T093157
CREATED:20260409T093217Z
LAST-MODIFIED:20260420T102225Z
UID:10006974-1776902400-1776988799@www.salamancalia.es
SUMMARY:Día del Libro en Salamanca 2026
DESCRIPTION:Fecha:  jueves 23 de abril de 10:00 a 22:00 horas. \nNueva edición del Día del Libro en el que participarán un total de 25 librerías. Organizado por el Ayuntamiento de Salamanca y la Asociación de Empresarios Salmantinos de Comercio (Aesco). \nDedicado a Francisco de Vitoria coincidiendo con la celebración del V Centenario de la Escuela de Salamanca. \nLas librerías se ubicarán bajo los soportales de la Plaza Mayor ofreciendo un 10% de descuento. \nCada libro irá acompañado de los 10.000 marcapáginas numerados editados por el Ayuntamiento de Salamanca. También los lectores podrán plasmar en su libro un sello conmemorativo en el zaguán del Ayuntamiento de Salamanca. \nLa Banda Municipal de Música ofrecerá en la Plaza Mayor un concierto a las 12:00. Interpretará un programa variado y accesible para todos los públicos compuesto por pasodobles\, intermedios de zarzuela y música de cine. \nBando del alcalde. \nLibrerías participantes en la Plaza Mayor\n1. Librería La Latina. \n2. Librería Leyenda. \n3. Librería Los Robles. \n4. Librería Musarañas. \n5. La Nave\, Librería Anticuaria \n6. Librería El Buscón. \n7. Librería Víctor Jara. \n8. Librería Benéitez. \n9. Librería Melibea. \n10. Librería Gandhi. \n11. Librería Nueva Plaza Universitaria. \n12. Librería Mundus Libri. \n13. Librería Cartemverso. \n14. Librería La Caraba. \n15. Librería Ikigai Cómics. \n16. Librería Rivas. \n17. Librería Goncurt. \n18. Librería Letras Corsarias. \n19. Librería Crespo. \n20. Librería Santos Ochoa. \n21. Librería Castilla. \n22. Librería Yuste. \n23. Librería Danete. \n24. Librería Páginas. \n25. Editorial El Quinto Sello \n\n  \nMarcapáginas día del libro 2026 Salamanca\n \n\n 
URL:https://www.salamancalia.es/evento/dia-del-libro-en-salamanca-2026/
LOCATION:Plaza Mayor de Salamanca\, Pl. Mayor\, s/n\, Salamanca\, Salamanca\, 37002\, España
CATEGORIES:Especiales,Ferias y fiestas | Festivales
ATTACH;FMTTYPE=image/jpeg:https://www.salamancalia.es/wp-content/uploads/2026/04/Dia-del-libro-2026-en-Salamanca.jpg
END:VEVENT
BEGIN:VEVENT
DTSTART;VALUE=DATE:20260423
DTEND;VALUE=DATE:20260424
DTSTAMP:20260422T093157
CREATED:20260409T093659Z
LAST-MODIFIED:20260409T093831Z
UID:10006975-1776902400-1776988799@www.salamancalia.es
SUMMARY:Día de Castilla y León 2026
DESCRIPTION:Actividades previstas para Salamanca y también en el resto de Castilla y León. \nDía del Libro en Salamanca 2026 \n 
URL:https://www.salamancalia.es/evento/dia-de-castilla-y-leon-2026/
LOCATION:Salamanca
CATEGORIES:Especiales
ATTACH;FMTTYPE=image/jpeg:https://www.salamancalia.es/wp-content/uploads/2026/04/Dia-de-Castilla-y-Leon-2026.jpg
END:VEVENT
BEGIN:VEVENT
DTSTART;VALUE=DATE:20260424
DTEND;VALUE=DATE:20260425
DTSTAMP:20260422T093157
CREATED:20260409T092455Z
LAST-MODIFIED:20260409T092455Z
UID:10006972-1776988800-1777075199@www.salamancalia.es
SUMMARY:DIA SIN COLE\, para el viernes 24 de abril (no lectivo)
DESCRIPTION:En P de Patinaje ofrecen el DIA SIN COLE: patinaje\, juegos\, talleres… \nEn el Centro Deportivo PDEP. \nEl precio son 20€ por alumn@ \nPara niñ@s de 5 a 12 años. \nEl horario es de 9:00 a 14:00. MISMO HORARIO QUE EL COLEGIO\, para una buena conciliación familiar. \nInscripciones antes del 16 de abril.
URL:https://www.salamancalia.es/evento/dia-sin-cole-para-el-viernes-24-de-abril-no-lectivo/
LOCATION:Salamanca
CATEGORIES:Cursos y Talleres
ATTACH;FMTTYPE=image/jpeg:https://www.salamancalia.es/wp-content/uploads/2026/04/P-de-Patinaje-dia-sin-cole-24-de-abril-2026.jpg
END:VEVENT
BEGIN:VEVENT
DTSTART;VALUE=DATE:20260424
DTEND;VALUE=DATE:20260425
DTSTAMP:20260422T093157
CREATED:20260421T154847Z
LAST-MODIFIED:20260421T154847Z
UID:10006987-1776988800-1777075199@www.salamancalia.es
SUMMARY:Georgina en Salamanca
DESCRIPTION:La artista actuará el 24 de abril en la sala La Chica De Ayer\, en un directo íntimo y muy cuidado donde presentará su nuevo disco “Un día de esos” junto a algunas de sus canciones más reconocidas. \nEscuchar a Georgina en spotify.
URL:https://www.salamancalia.es/evento/georgina-en-salamanca/
LOCATION:La chica de ayer\, Gran Vía 93\, Salamanca\, Salamanca\, 37001\, España
CATEGORIES:Conciertos
ATTACH;FMTTYPE=image/jpeg:https://www.salamancalia.es/wp-content/uploads/2026/04/GEORGINA-SALAMANCA.jpg
END:VEVENT
BEGIN:VEVENT
DTSTART;VALUE=DATE:20260425
DTEND;VALUE=DATE:20260426
DTSTAMP:20260422T093157
CREATED:20260421T161056Z
LAST-MODIFIED:20260421T161056Z
UID:10006990-1777075200-1777161599@www.salamancalia.es
SUMMARY:M.A.O. Museo de Amor y de Oro
DESCRIPTION:Cía. Edulogic Producciones.
URL:https://www.salamancalia.es/evento/m-a-o-museo-de-amor-y-de-oro/
LOCATION:Teatro Liceo\, Plaza del Liceo s/n\, Salamanca\, Salamanca\, 37002\, España
CATEGORIES:Teatro / Escena
ATTACH;FMTTYPE=image/jpeg:https://www.salamancalia.es/wp-content/uploads/2026/04/Museo-de-Amor-y-de-Oro.jpg
END:VEVENT
BEGIN:VEVENT
DTSTART;VALUE=DATE:20260425
DTEND;VALUE=DATE:20260426
DTSTAMP:20260422T093157
CREATED:20260421T161331Z
LAST-MODIFIED:20260421T161331Z
UID:10006991-1777075200-1777161599@www.salamancalia.es
SUMMARY:Estrogenuinas + Rata Negra
DESCRIPTION:
URL:https://www.salamancalia.es/evento/estrogenuinas-rata-negra/
LOCATION:Sala B del CAEM\, Avenida de las Artes\, 45-55\, Salamanca\, Salamanca\, 37003\, España
CATEGORIES:Conciertos
ATTACH;FMTTYPE=image/jpeg:https://www.salamancalia.es/wp-content/uploads/2026/04/Estrogenuinas-y-Rata-Negra.jpg
END:VEVENT
BEGIN:VEVENT
DTSTART;VALUE=DATE:20260425
DTEND;VALUE=DATE:20260426
DTSTAMP:20260422T093157
CREATED:20260421T161851Z
LAST-MODIFIED:20260421T161851Z
UID:10006993-1777075200-1777161599@www.salamancalia.es
SUMMARY:Día del idioma Chino en Salamanca
DESCRIPTION:Espectáculo cultural “El chino conecta el mundo”. \nEntrada libre hasta completar el aforo.
URL:https://www.salamancalia.es/evento/dia-del-idioma-chino-en-salamanca/
LOCATION:Palacio de Congresos y Exposiciones de Castilla y León\, Cuesta de Oviedo\, S/N\, Salamanca\, Salamanca\, 37008\, España
CATEGORIES:Teatro / Escena
ATTACH;FMTTYPE=image/jpeg:https://www.salamancalia.es/wp-content/uploads/2026/04/El-chino-conecta-el-mundo.jpg
END:VEVENT
BEGIN:VEVENT
DTSTART;VALUE=DATE:20260425
DTEND;VALUE=DATE:20260426
DTSTAMP:20260422T093157
CREATED:20260421T163950Z
LAST-MODIFIED:20260421T164034Z
UID:10006994-1777075200-1777161599@www.salamancalia.es
SUMMARY:Monólogos: Ana Polo y Pablez
DESCRIPTION:El próximo sábado 25 de abril a las 19.30 tendrá lugar en Salamanca la séptima cita del ciclo de monólogos\, comedia y stand up comedy en  Pakipalla. \nEstará gestionado y programado por los cómicos locales José Mangosta y Joey Martínez. \nEsta ocasión tendrá como invitados a los cómicos Ana Polo y Pablez. \nCon un precio desde 7€ la entrada en Entradium\, y hasta 10€ en taquilla este espectáculo de stand up comedy se celebrará en la Sala Pakipalla.
URL:https://www.salamancalia.es/evento/monologos-ana-polo-y-pablez/
LOCATION:Pakipalla\, Calle San Justo 27\, Salamanca\, Salamanca\, 37001\, España
CATEGORIES:Humor / Monólogos
ATTACH;FMTTYPE=image/jpeg:https://www.salamancalia.es/wp-content/uploads/2026/04/Monologos-en-Salamanca.jpg
END:VEVENT
END:VCALENDAR