BEGIN:VCALENDAR
VERSION:2.0
PRODID:-//Agenda cultural y eventos de ocio en Salamanca - ECPv6.15.20//NONSGML v1.0//EN
CALSCALE:GREGORIAN
METHOD:PUBLISH
X-WR-CALNAME:Agenda cultural y eventos de ocio en Salamanca
X-ORIGINAL-URL:https://www.salamancalia.es
X-WR-CALDESC:Eventos para Agenda cultural y eventos de ocio en Salamanca
REFRESH-INTERVAL;VALUE=DURATION:PT1H
X-Robots-Tag:noindex
X-PUBLISHED-TTL:PT1H
BEGIN:VTIMEZONE
TZID:UTC
BEGIN:STANDARD
TZOFFSETFROM:+0000
TZOFFSETTO:+0000
TZNAME:UTC
DTSTART:20210101T000000
END:STANDARD
END:VTIMEZONE
BEGIN:VEVENT
DTSTART;TZID=UTC:20221105T113000
DTEND;TZID=UTC:20221105T140000
DTSTAMP:20260421T020306
CREATED:20221027T073041Z
LAST-MODIFIED:20221027T073041Z
UID:10004235-1667647800-1667656800@www.salamancalia.es
SUMMARY:Fiesta de Halloween ASPECYL
DESCRIPTION:Noviembre: mes de la conciencia de la epilepsia. \nLa asociacion de personas con epilepsiacelebra Halloween en la plaza de la Concordia. De 11:30 a 14:00 \n\nMúsica con DJs\nZumba con Yaircel\nYoga con María Jesús\nMindfulness con Mónica\nDisfraces\n\nEntrada\n5€  integrOS para la colaboración con la asociación. \n  \nMás eventos y planes de Halloween en Salamanca 2022 \n 
URL:https://www.salamancalia.es/evento/fiesta-de-halloween-aspecyl/
LOCATION:Plaza de la Concordia\, Plaza de la Concordia\, Salamanca\, Salamanca\, 37005\, España
CATEGORIES:Especiales
END:VEVENT
END:VCALENDAR