BEGIN:VCALENDAR
VERSION:2.0
PRODID:-//Agenda cultural y eventos de ocio en Salamanca - ECPv6.15.20//NONSGML v1.0//EN
CALSCALE:GREGORIAN
METHOD:PUBLISH
X-WR-CALNAME:Agenda cultural y eventos de ocio en Salamanca
X-ORIGINAL-URL:https://www.salamancalia.es
X-WR-CALDESC:Eventos para Agenda cultural y eventos de ocio en Salamanca
REFRESH-INTERVAL;VALUE=DURATION:PT1H
X-Robots-Tag:noindex
X-PUBLISHED-TTL:PT1H
BEGIN:VTIMEZONE
TZID:UTC
BEGIN:STANDARD
TZOFFSETFROM:+0000
TZOFFSETTO:+0000
TZNAME:UTC
DTSTART:20200101T000000
END:STANDARD
END:VTIMEZONE
BEGIN:VEVENT
DTSTART;VALUE=DATE:20221201
DTEND;VALUE=DATE:20221230
DTSTAMP:20260420T202825
CREATED:20221201T170452Z
LAST-MODIFIED:20221201T170452Z
UID:10003398-1669852800-1672358399@www.salamancalia.es
SUMMARY:Dinamiza joven. Diciembre 2022
DESCRIPTION:Actividades de diciembre: \n\nMITOS Y DISCAPACIDAD\, colabora AVIVA. 1 de diciembre de 2022. 17:30 a 18:30. Lugar: Espacio Joven\nCONOCE Y COMPARTE EL TIEMPO LIBRE CON  AVIVA.  3 de diciembre de 2022. A lo largo del día\nCLUB DE MÚSICA\, SERIES Y CINE. 7 de diciembre de 2022. 17:30 a 18:30. Lugar: Espacio Joven\nTALLER DE DEFENSA PERSONAL. 13 de diciembre de 2022. 17:30 a 18:30. Lugar: Espacio Joven\nTALLER DE LETTERING CREATIVO. 14 de diciembre de 2022. 17:30 a 18:30. Lugar: Espacio Joven\nESCALADA LA OLA. 15 de diciembre de 2022. 18:00. Lugar: La Ola: Av. Carbajosa de la Sagrada\, 29-31\, 37188. Salamanca\nSALIDA AL BIG JUMP PARK. 16 de diciembre de 2022. 18.00. Lugar: Parking del Centro Comercial el Tormes\nPREPÁRATE PARA NOCHEVIEJA. 20 de diciembre de 2022. 17:30 a 18:30. Lugar: Espacio Joven\nPATINAMOS EN LA PISTA DE HIELO. 21 de diciembre de 2022. 17:45 a 18:45. Lugar: Pista de hielo Plaza de la Concordia (Trasera del Corte Inglés)\nCHOCOLATADA CON NUBES Y DECORACIÓN NAVIDEÑA CON MATERIAL RECICLADO. 22 de diciembre de 2022. 17:30 a 18:30. Lugar: Espacio Joven\nTORNEO DE PING PONG. 27 de diciembre de 2022. 17:30 a 18:30. Lugar: Espacio Joven\nGALLETAS DE JENGIBRE Y DÍA DE LOS INOCENTES. 28 de diciembre de 2022. 17:30 a 18:30. Lugar: Espacio Joven\nTORNEO DE JUEGOS DE MESA. 29 de diciembre de 2022. 17:30 a 18:30. Lugar: Espacio Joven\n\nToda la programación de ‘Dinamiza Joven’\, los horarios y la reserva de plazas se pueden consultar en la web  http://www.juventud.aytosalamanca.es/es/actividadesanuales/dinamizajoven/
URL:https://www.salamancalia.es/evento/dinamiza-joven-diciembre-2022/
CATEGORIES:Especiales
END:VEVENT
BEGIN:VEVENT
DTSTART;VALUE=DATE:20221022
DTEND;VALUE=DATE:20221023
DTSTAMP:20260420T202825
CREATED:20221017T110706Z
LAST-MODIFIED:20221017T111021Z
UID:10004214-1666396800-1666483199@www.salamancalia.es
SUMMARY:Actividad especial de Halloween: Parque de atracciones
DESCRIPTION:Dentro del programa «Dinamiza Joven» organizan una excursión al Parque de atracciones de Madrid para disfrutar de Halloween. \nToda la info y formulario de inscripción de actividades: http://www.juventud.aytosalamanca.es/es/actividadesanuales/dinamizajoven/ \nOtras actividades de Halloween del programa Dinamiza Joven\n\nTaller de máscaras de Halloween (25 de octubre)\nEscape Room: la casa de papel (26 de octubre)\nTaller de maquillaje de Halloween (27 de octubre)\n\n  \nMás eventos y planes de Halloween en Salamanca 2022
URL:https://www.salamancalia.es/evento/actividad-especial-de-halloween-parque-de-atracciones/
END:VEVENT
BEGIN:VEVENT
DTSTART;VALUE=DATE:20221017
DTEND;VALUE=DATE:20221027
DTSTAMP:20260420T202825
CREATED:20221017T110108Z
LAST-MODIFIED:20221017T110108Z
UID:10004213-1665964800-1666828799@www.salamancalia.es
SUMMARY:Festival de jóvenes talentos 2022
DESCRIPTION:Magia\nCanción\nMicroteatro\nArtes Circenses\nPoesía recitada o dramatizada\nInterpretacion musical\nCuentaguentos\nMonólogos\nBeat Box\nDanza\n\nDirigido a\nJóvenes de 14 a 35 años \nPlazos\nPlazo máximo de presentación de propuestas: 26 de octubre \nPremios\n10.000€ en premios \n  \nMás información en la web del evento (ver más abajo).
URL:https://www.salamancalia.es/evento/festival-de-jovenes-talentos-2022/
CATEGORIES:Ferias y fiestas | Festivales
END:VEVENT
BEGIN:VEVENT
DTSTART;VALUE=DATE:20220926
DTEND;VALUE=DATE:20221027
DTSTAMP:20260420T202825
CREATED:20220927T153911Z
LAST-MODIFIED:20220927T153911Z
UID:10003297-1664150400-1666828799@www.salamancalia.es
SUMMARY:Festival Jóvenes Talentos 2022. V Edición
DESCRIPTION:Premios\n10.000 euros en premios \nCategorías de edad\n\nde 14 a 21 años\nde 22 a 35 años\n\nModalidades\n\nartes circenses\ncanción\ncuentacuentos\ndanza\ninterpretación musical\nmagia\nmicroteatro\nmonólogos\npoesía recitada o dramatizada\nbeat box\n\nLos finalistas actuarán en una gala final que se celebrará el 18 de noviembre en el Centro Municipal Integrado Julián Sánchez ‘El Charro’.
URL:https://www.salamancalia.es/evento/festival-jovenes-talentos-2022-v-edicion/
CATEGORIES:Concursos
END:VEVENT
BEGIN:VEVENT
DTSTART;VALUE=DATE:20220601
DTEND;VALUE=DATE:20220831
DTSTAMP:20260420T202825
CREATED:20220603T093056Z
LAST-MODIFIED:20220603T093056Z
UID:10003995-1654041600-1661903999@www.salamancalia.es
SUMMARY:Verano Joven 2022
DESCRIPTION:Campamento Infantil\nCampus Ambiental y de Aventura (sin pernocta)\nCampamento Náutico de Inglés\nCircuito Cultural Europeo\nTres Semicolonias Juveniles Urbanas para Personas Jovenes con Discapacidad\nFin de Semana de Aventura\n \n\nActividades de Verano Joven 2022. \nPreinscripciones: el día 1 de junio desde las 12:00 h.
URL:https://www.salamancalia.es/evento/verano-joven-2022/
CATEGORIES:Campamentos y Campus
END:VEVENT
BEGIN:VEVENT
DTSTART;TZID=UTC:20220514T110000
DTEND;TZID=UTC:20220514T130000
DTSTAMP:20260420T202825
CREATED:20220509T081338Z
LAST-MODIFIED:20220509T081338Z
UID:10003959-1652526000-1652533200@www.salamancalia.es
SUMMARY:Yincana en el parque de los Jesuitas
DESCRIPTION:¿Te apetece pasar una mañana entretenida realizando una variedad de pruebas con tus amigos y amigas o conociendo gente nueva? \nHemos organizado una yincana por equipos en el parque de los Jesuitas. \nVen a divertirte y a demostrar tu ingenio y destreza superando diversas pruebas durante el recorrido propuesto por el parque. \nDirigido a jóvenes de 14 a 30 años. \nInscripción previa obligatoria. \nPlazas limitadas y adjudicadas por orden de inscripción.
URL:https://www.salamancalia.es/evento/yincana-en-el-parque-de-los-jesuitas/
LOCATION:Parque de los Jesuitas
CATEGORIES:Juegos
END:VEVENT
BEGIN:VEVENT
DTSTART;TZID=UTC:20220511T173000
DTEND;TZID=UTC:20220511T193000
DTSTAMP:20260420T202825
CREATED:20220509T081019Z
LAST-MODIFIED:20220509T081100Z
UID:10003958-1652290200-1652297400@www.salamancalia.es
SUMMARY:Taller de lienzo con hilos
DESCRIPTION:Taller de decoración de lienzos con lino y pintura. \n¿Quieres aprender una nueva técnica decorativa? ¿Una idea original y bonita para tus próximos regalos? Aprende a bordar lienzos. \nLa actividad consistirá en pintar previamente los lienzos con los colores que más nos gusten y con las formas que elijamos y a través de la plantilla que selecciones\, ya sea un dibujo de tipo lineal o un mensaje que podamos tejer\, coserla en nuestro lienzo. \nInscripción previa obligatoria. \nPlazas limitadas y adjudicadas por orden de inscripción.
URL:https://www.salamancalia.es/evento/taller-de-lienzo-con-hilos/
LOCATION:Espacio Joven\, C/José Jáuregui\, nº 16\, Salamanca\, Salamanca\, España
CATEGORIES:Cursos y Talleres
END:VEVENT
BEGIN:VEVENT
DTSTART;VALUE=DATE:20211028
DTEND;VALUE=DATE:20211103
DTSTAMP:20260420T202825
CREATED:20211028T162719Z
LAST-MODIFIED:20211028T165712Z
UID:10002791-1635379200-1635897599@www.salamancalia.es
SUMMARY:Festival de jóvenes talentos. Salamanca 2021
DESCRIPTION:Últimos días para participar. \nEnvía tu propuesta hasta el 2 de noviembre. \nMás información en la web del evento (ver más abajo).
URL:https://www.salamancalia.es/evento/festival-de-jovenes-talentos-salamanca-2021/
CATEGORIES:Ferias y fiestas | Festivales
END:VEVENT
BEGIN:VEVENT
DTSTART;TZID=UTC:20210301T090000
DTEND;TZID=UTC:20210331T200000
DTSTAMP:20260420T202825
CREATED:20210309T122649Z
LAST-MODIFIED:20210309T165825Z
UID:10002567-1614589200-1617220800@www.salamancalia.es
SUMMARY:Cuerpos Versus Cuerpos (Yaircel Robledo)
DESCRIPTION:Exposición «Cuerpos Versus Cuerpos» de Yaircel Robledo. \nMañanas de lunes a viernes de 9\,00 a 14\,00 horas. Tardes de lunes a viernes de 17\,00 a 20\,00 horas
URL:https://www.salamancalia.es/evento/cuerpos-versus-cuerpos-yaircel-robledo/
LOCATION:Sala de Exposiciones Espacio Joven\, c/ José Jáuregui\, 16\, Salamanca\, Salamanca\, 37002\, España
CATEGORIES:Exposiciones
END:VEVENT
END:VCALENDAR