BEGIN:VCALENDAR
VERSION:2.0
PRODID:-//Agenda cultural y eventos de ocio en Salamanca - ECPv6.15.20//NONSGML v1.0//EN
CALSCALE:GREGORIAN
METHOD:PUBLISH
X-WR-CALNAME:Agenda cultural y eventos de ocio en Salamanca
X-ORIGINAL-URL:https://www.salamancalia.es
X-WR-CALDESC:Eventos para Agenda cultural y eventos de ocio en Salamanca
REFRESH-INTERVAL;VALUE=DURATION:PT1H
X-Robots-Tag:noindex
X-PUBLISHED-TTL:PT1H
BEGIN:VTIMEZONE
TZID:UTC
BEGIN:STANDARD
TZOFFSETFROM:+0000
TZOFFSETTO:+0000
TZNAME:UTC
DTSTART:20210101T000000
END:STANDARD
END:VTIMEZONE
BEGIN:VEVENT
DTSTART;VALUE=DATE:20240804
DTEND;VALUE=DATE:20240805
DTSTAMP:20260420T190357
CREATED:20240730T103043Z
LAST-MODIFIED:20240730T103056Z
UID:10005537-1722729600-1722815999@www.salamancalia.es
SUMMARY:Fiestas patronales en San Cristóbal de la Cuesta 2024. Domingo 4 de agosto
DESCRIPTION:Domingo 4 de agosto\n\n13:00 – MISA solemne\, procesión y ofrenda en honor a nuestro patrón San Cristóbal Mártir. \n14:45 – PAELLADA. El DONATIVO (1€) de este año irá a favor de DOWN SALAMANCA. Puedes pasar a por tu ticket por el Ayuntamiento o por las taquillas de las Piscinas Municipales. Por motivos de organización agradecemos que todos los asistentes lleven el ticket. El plato lo facilitará el Ayuntamiento. Los vecinos que se encuentren enfermos podrán recoger la paella en el lugar de reparto a través de una persona de su confianza (Calle Armuña). \n17:00 – HINCHABLES\, CHUTÓMETRO\, 4 EN RAYA Y FIESTA DE LA ESPUMA. (Zona Deportiva). \n22:30 – Cierre de fiestas a cargo de DJ TOTO (Plaza España). \n  \n\nFiestas patronales en San Cristóbal de la Cuesta 2024
URL:https://www.salamancalia.es/evento/fiestas-patronales-en-san-cristobal-de-la-cuesta-2024-domingo-4-de-agosto/
LOCATION:San Cristóbal de la Cuesta\, San Cristóbal de la Cuesta\, Salamanca\, España
CATEGORIES:Ferias y fiestas | Festivales
END:VEVENT
BEGIN:VEVENT
DTSTART;VALUE=DATE:20240803
DTEND;VALUE=DATE:20240804
DTSTAMP:20260420T190357
CREATED:20240730T102759Z
LAST-MODIFIED:20240730T102759Z
UID:10005535-1722643200-1722729599@www.salamancalia.es
SUMMARY:Fiestas patronales en San Cristóbal de la Cuesta 2024. Sábado 3 de agosto
DESCRIPTION:Sábado 3 de agosto\n\n07:00 – CHOCOLATADA (se servirá también a las 10:00 h. en la Plaza Manuel Escudero). \n11:00 – PETANCA para aficionados (Frontón Viejo\, junto a la Iglesia). \n12:00 – JUEGOS PARA TODOS (Zona Deportiva). \n17:00 – Recorrido por las Peñas con la CHARANGA “LA CLAVE” (Calle Roberto Ruano). \n20:00 – GYMKANA ADULTOS (Zona Deportiva). \n00:15 – La Orquesta THE ROLLERS BAND nos hará disfrutar de la noche (Calle Armuña). \n05:15 – Sopas de ajo (Calle Armuña). \n  \n\nFiestas patronales en San Cristóbal de la Cuesta 2024
URL:https://www.salamancalia.es/evento/fiestas-patronales-en-san-cristobal-de-la-cuesta-2024-sabado-3-de-agosto/
LOCATION:San Cristóbal de la Cuesta\, San Cristóbal de la Cuesta\, Salamanca\, España
CATEGORIES:Ferias y fiestas | Festivales
END:VEVENT
BEGIN:VEVENT
DTSTART;VALUE=DATE:20240802
DTEND;VALUE=DATE:20240803
DTSTAMP:20260420T190357
CREATED:20240730T102538Z
LAST-MODIFIED:20240730T102538Z
UID:10005534-1722556800-1722643199@www.salamancalia.es
SUMMARY:Fiestas patronales en San Cristóbal de la Cuesta 2024. Viernes 2 de agosto
DESCRIPTION:Viernes 2 de agosto\n\n10:30 – XVIII RUTA CICLOTURÍSTICA. Participación abierta (Zona Piscinas). Refrescante ágape para los participantes al finalizar (Bar Piscinas). \n13:00 – Jornada de puertas abiertas en las Piscinas Municipales (hasta completar aforo). \n18:00 – Concurso Cultural (Centro Sociocultural “Casa de la Maestra”). \n20:00 – Tradicional merienda en homenaje a NUESTROS MAYORES (Salón de Plenos). \n21:15 – Viva la COPLA. Con ANTONIO BONAL y ANAEL FERNÁNDEZ (Plaza España). \n00:00 – Macro Disco Show EMBRUJO (Calle Armuña). \n  \n\nFiestas patronales en San Cristóbal de la Cuesta 2024
URL:https://www.salamancalia.es/evento/fiestas-patronales-en-san-cristobal-de-la-cuesta-2024-viernes-2-de-agosto/
LOCATION:San Cristóbal de la Cuesta\, San Cristóbal de la Cuesta\, Salamanca\, España
CATEGORIES:Ferias y fiestas | Festivales
END:VEVENT
BEGIN:VEVENT
DTSTART;VALUE=DATE:20240801
DTEND;VALUE=DATE:20240805
DTSTAMP:20260420T190357
CREATED:20240730T101644Z
LAST-MODIFIED:20240730T110859Z
UID:10005532-1722470400-1722815999@www.salamancalia.es
SUMMARY:Fiestas patronales en San Cristóbal de la Cuesta 2024
DESCRIPTION:Programa de fiestas 2024 de San Cristóbal de la Cuesta\n\nJueves 1 de agosto\nViernes 2 de agosto\nSábado 3 de agosto\nDomingo 4 de agosto\n\n  \n  \nTambién puede interesarte la programación completa de las Ferias y Fiestas de Salamanca 2024.
URL:https://www.salamancalia.es/evento/fiestas-patronales-en-san-cristobal-de-la-cuesta-2024/
LOCATION:San Cristóbal de la Cuesta\, San Cristóbal de la Cuesta\, Salamanca\, España
CATEGORIES:Ferias y fiestas | Festivales
END:VEVENT
BEGIN:VEVENT
DTSTART;VALUE=DATE:20240801
DTEND;VALUE=DATE:20240802
DTSTAMP:20260420T190357
CREATED:20240730T102233Z
LAST-MODIFIED:20240730T102251Z
UID:10005533-1722470400-1722556799@www.salamancalia.es
SUMMARY:Fiestas patronales en San Cristóbal de la Cuesta 2024. Jueves 1 de agosto
DESCRIPTION:Jueves 1 de agosto\n\n20:15 – Comienzan las Fiestas al ritmo de la CHARANGA “LA CLAVE”. \nTradicional entrega de PAÑOLETAS. \nPREGÓN a cargo del escultor VALERIANO HERNÁNDEZ FRAILE. \nEMPANADA Y HELADO para todos. \n00:00 – La Orquesta LA BÚSQUEDA nos amenizará la noche (Calle Armuña). \n  \n\nFiestas patronales en San Cristóbal de la Cuesta 2024
URL:https://www.salamancalia.es/evento/fiestas-patronales-en-san-cristobal-de-la-cuesta-2024-jueves-1-de-agosto/
LOCATION:San Cristóbal de la Cuesta\, San Cristóbal de la Cuesta\, Salamanca\, España
CATEGORIES:Ferias y fiestas | Festivales
END:VEVENT
BEGIN:VEVENT
DTSTART;TZID=UTC:20240211T180000
DTEND;TZID=UTC:20240211T180000
DTSTAMP:20260420T190357
CREATED:20240209T110719Z
LAST-MODIFIED:20240209T110822Z
UID:10005115-1707674400-1707674400@www.salamancalia.es
SUMMARY:Carnaval 2024 en San Cristóbal de la Cuesta
DESCRIPTION:Carnaval solidario a beneficio de Salud Mental Salamanca. \nConcursos de disfraces\, juegos\, baile sin parar y una deliciosa chocolatada para endulzar la tarde. \nCarnaval en Salamanca 2024.
URL:https://www.salamancalia.es/evento/carnaval-2024-en-san-cristobal-de-la-cuesta/
LOCATION:San Cristóbal de la Cuesta\, San Cristóbal de la Cuesta\, Salamanca\, España
CATEGORIES:Especiales
END:VEVENT
BEGIN:VEVENT
DTSTART;TZID=UTC:20220903T230000
DTEND;TZID=UTC:20220903T230000
DTSTAMP:20260420T190357
CREATED:20220615T090536Z
LAST-MODIFIED:20220616T150546Z
UID:10004025-1662246000-1662246000@www.salamancalia.es
SUMMARY:Lenteja Sancris Fest
DESCRIPTION:Grupos: \n\nFolk On Crest\nNo Cantes Victoria\nCoyote\nBicho Pal Monte
URL:https://www.salamancalia.es/evento/lenteja-sancris-fest/
CATEGORIES:Conciertos,Ferias y fiestas | Festivales
END:VEVENT
END:VCALENDAR