BEGIN:VCALENDAR
VERSION:2.0
PRODID:-//Agenda cultural y eventos de ocio en Salamanca - ECPv6.15.20//NONSGML v1.0//EN
CALSCALE:GREGORIAN
METHOD:PUBLISH
X-ORIGINAL-URL:https://www.salamancalia.es
X-WR-CALDESC:Eventos para Agenda cultural y eventos de ocio en Salamanca
REFRESH-INTERVAL;VALUE=DURATION:PT1H
X-Robots-Tag:noindex
X-PUBLISHED-TTL:PT1H
BEGIN:VTIMEZONE
TZID:UTC
BEGIN:STANDARD
TZOFFSETFROM:+0000
TZOFFSETTO:+0000
TZNAME:UTC
DTSTART:20200101T000000
END:STANDARD
END:VTIMEZONE
BEGIN:VEVENT
DTSTART;VALUE=DATE:20250623
DTEND;VALUE=DATE:20250624
DTSTAMP:20260421T060808
CREATED:20250605T164042Z
LAST-MODIFIED:20250605T164042Z
UID:10006402-1750636800-1750723199@www.salamancalia.es
SUMMARY:Noche de San Juan 2025 en Terradillos
DESCRIPTION:Hinchables\, merienda\, cine de verano y la hoguera de San Juan. Más información.
URL:https://www.salamancalia.es/evento/noche-de-san-juan-2025-en-terradillos/
LOCATION:Terradillos\, Terradillos\, Salamanca\, Spain
CATEGORIES:Especiales
ATTACH;FMTTYPE=image/jpeg:https://www.salamancalia.es/wp-content/uploads/2025/06/Hoguera-de-San-Juan-2025-en-Terradillos.-Salamanca.jpg
END:VEVENT
BEGIN:VEVENT
DTSTART;TZID=UTC:20220807T100000
DTEND;TZID=UTC:20220807T100000
DTSTAMP:20260421T060808
CREATED:20220517T170851Z
LAST-MODIFIED:20220517T172329Z
UID:10003977-1659866400-1659866400@www.salamancalia.es
SUMMARY:Terradillos Bike Race
DESCRIPTION:Toda la información en la web del evento (ver más abajo).
URL:https://www.salamancalia.es/evento/terradillos-bike-race/
CATEGORIES:Deportes
END:VEVENT
BEGIN:VEVENT
DTSTART;VALUE=DATE:20211210
DTEND;VALUE=DATE:20220106
DTSTAMP:20260421T060808
CREATED:20211211T205101Z
LAST-MODIFIED:20211214T185940Z
UID:10002868-1639094400-1641427199@www.salamancalia.es
SUMMARY:Programación de Navidades en El Encinar
DESCRIPTION:Ver la programación de Navidad en Salamanca.
URL:https://www.salamancalia.es/evento/programacion-de-navidades-en-el-encinar/
END:VEVENT
BEGIN:VEVENT
DTSTART;TZID=UTC:20210625T223000
DTEND;TZID=UTC:20210625T223000
DTSTAMP:20260421T060808
CREATED:20210624T090530Z
LAST-MODIFIED:20210624T090530Z
UID:10002662-1624660200-1624660200@www.salamancalia.es
SUMMARY:Vulkano Kids
DESCRIPTION:Musical que reúne las escenas más inolvidables de las mejores películas de Disney. Dentro del elenco se encuentran varios de los mejores artistas del panorama nacional.
URL:https://www.salamancalia.es/evento/vulkano-kids/
LOCATION:Plaza de los Derechos humanos El Encinar
CATEGORIES:Conciertos,Ocio Infantil
END:VEVENT
BEGIN:VEVENT
DTSTART;TZID=UTC:20210624T170000
DTEND;TZID=UTC:20210624T190000
DTSTAMP:20260421T060808
CREATED:20210617T181408Z
LAST-MODIFIED:20210617T181516Z
UID:10003003-1624554000-1624561200@www.salamancalia.es
SUMMARY:Taller de ilustración: Miradas de Igualdad (Terradillos)
DESCRIPTION:Isabel Ruiz realizará el taller como actividad complementaria a su exposición “Mujeres” que se encuentra en el centro cultural Nelson Mandela del 21 al 25 de junio. \n 
URL:https://www.salamancalia.es/evento/taller-de-ilustracion-miradas-de-igualdad/
LOCATION:Centro Cultural Nelson Mandela
CATEGORIES:Cursos y Talleres
END:VEVENT
BEGIN:VEVENT
DTSTART;TZID=UTC:20210618T180000
DTEND;TZID=UTC:20210625T180000
DTSTAMP:20260421T060808
CREATED:20210617T091207Z
LAST-MODIFIED:20210617T091226Z
UID:10002653-1624039200-1624644000@www.salamancalia.es
SUMMARY:Juegos por la igualdad
DESCRIPTION:Para pasar un rato divertido jugando a juegos de mesa distintos a los de siempre. \nA partir de 10 años. \nLos días 18 y 25 de junio
URL:https://www.salamancalia.es/evento/juegos-por-la-igualdad/
LOCATION:Centro Cultural Nelson Mandela
CATEGORIES:Juegos,Ocio Infantil
END:VEVENT
BEGIN:VEVENT
DTSTART;TZID=UTC:20210606T200000
DTEND;TZID=UTC:20210606T200000
DTSTAMP:20260421T060808
CREATED:20210601T160547Z
LAST-MODIFIED:20210601T160608Z
UID:10002942-1623009600-1623009600@www.salamancalia.es
SUMMARY:Papa\, quiero ser caballera
DESCRIPTION:Teatro familiar en Terradillos. \nUna lección de igualdad en el Medievo.
URL:https://www.salamancalia.es/evento/papa-quiero-ser-caballera/
LOCATION:Plaza de los Derechos humanos El Encinar
CATEGORIES:Ocio Infantil,Teatro / Escena
END:VEVENT
BEGIN:VEVENT
DTSTART;TZID=UTC:20210604T173000
DTEND;TZID=UTC:20210604T173000
DTSTAMP:20260421T060808
CREATED:20210601T155201Z
LAST-MODIFIED:20210601T155703Z
UID:10002938-1622827800-1622827800@www.salamancalia.es
SUMMARY:Street Escape: "Las mujeres de mi historia"
DESCRIPTION:Juego de pistas y resolución de un caso en Terradillos. \nActividad en familia al aire libre.
URL:https://www.salamancalia.es/evento/street-escape-las-mujeres-de-mi-historia/
CATEGORIES:Juegos,Ocio Infantil
END:VEVENT
BEGIN:VEVENT
DTSTART;TZID=UTC:20210530T193000
DTEND;TZID=UTC:20210530T193000
DTSTAMP:20260421T060808
CREATED:20210527T143217Z
LAST-MODIFIED:20210527T143217Z
UID:10002926-1622403000-1622403000@www.salamancalia.es
SUMMARY:Púrpura
DESCRIPTION:Concierto en Terradillos. \n«Un viaje al respeto a las mujeres y a la igualdad de género a través de la música.»
URL:https://www.salamancalia.es/evento/purpura/
LOCATION:Plaza de los derechos humanos (Terradillos)
CATEGORIES:Conciertos
END:VEVENT
BEGIN:VEVENT
DTSTART;TZID=UTC:20210528T180000
DTEND;TZID=UTC:20210528T180000
DTSTAMP:20260421T060808
CREATED:20210527T142914Z
LAST-MODIFIED:20210527T142914Z
UID:10002924-1622224800-1622224800@www.salamancalia.es
SUMMARY:Taller de animación a la lectura
DESCRIPTION:Realizado por: Inmaculada Tejedor Morán. \nPara niños/as a partir de 5 años.
URL:https://www.salamancalia.es/evento/taller-de-animacion-a-la-lectura/
LOCATION:Centro Cultural Nelson Mandela
CATEGORIES:Cursos y Talleres,Ocio Infantil
END:VEVENT
BEGIN:VEVENT
DTSTART;TZID=UTC:20210521T180000
DTEND;TZID=UTC:20210521T180000
DTSTAMP:20260421T060808
CREATED:20210520T093721Z
LAST-MODIFIED:20210520T102000Z
UID:10002886-1621620000-1621620000@www.salamancalia.es
SUMMARY:Taller de primeros auxilios (Terradillos)
DESCRIPTION:Impartido por\nJuan Carlos Martín Corral\, profesor de la Universidad de Salamanca. \n  \n 
URL:https://www.salamancalia.es/evento/taller-de-primeros-auxilios-terradillos/
LOCATION:Centro Cultural Nelson Mandela
CATEGORIES:Cursos y Talleres
END:VEVENT
END:VCALENDAR