BEGIN:VCALENDAR
VERSION:2.0
PRODID:-//Agenda cultural y eventos de ocio en Salamanca - ECPv6.15.20//NONSGML v1.0//EN
CALSCALE:GREGORIAN
METHOD:PUBLISH
X-ORIGINAL-URL:https://www.salamancalia.es
X-WR-CALDESC:Eventos para Agenda cultural y eventos de ocio en Salamanca
REFRESH-INTERVAL;VALUE=DURATION:PT1H
X-Robots-Tag:noindex
X-PUBLISHED-TTL:PT1H
BEGIN:VTIMEZONE
TZID:UTC
BEGIN:STANDARD
TZOFFSETFROM:+0000
TZOFFSETTO:+0000
TZNAME:UTC
DTSTART:20200101T000000
END:STANDARD
END:VTIMEZONE
BEGIN:VEVENT
DTSTART;VALUE=DATE:20221221
DTEND;VALUE=DATE:20230107
DTSTAMP:20260421T013706
CREATED:20221221T093607Z
LAST-MODIFIED:20221221T093607Z
UID:10003433-1671580800-1673049599@www.salamancalia.es
SUMMARY:Concurso de belenes
DESCRIPTION:Para participar hay que subir una foto de tu belén\, puede ser de casa\, de la oficina o de tu comercio. Cualquier persona puede entrar a votar la foto del belén que más le guste. Los 3 belenes más votados ganarán un patinete eléctrico que se entregarán en el mismo centro comercial. \nCómo participar\nDescarga la app salmantina DareMapp de manera totalmente gratuita. www.daremapp.com \nPremios\n\n3 patinetes eléctricos\n\n  \n\nMás eventos y planes de Navidad en Salamanca 2022
URL:https://www.salamancalia.es/evento/concurso-de-belenes/
LOCATION:Online
CATEGORIES:Juegos
END:VEVENT
BEGIN:VEVENT
DTSTART;VALUE=DATE:20221221
DTEND;VALUE=DATE:20230107
DTSTAMP:20260421T013706
CREATED:20221221T093104Z
LAST-MODIFIED:20221221T093228Z
UID:10003431-1671580800-1673049599@www.salamancalia.es
SUMMARY:Escape Room familiar “Los duendes de la navidad”
DESCRIPTION:Se trata de una gymkhana en el que los participantes tendrán que ir resolviendo las diferentes pistas para conseguir encontrar a los duendes que se han perdido por el centro comercial. Será necesario resolver acertijos y una gran dosis de observación y orientación mediante la “brújula virtual” para llegar al final de la aventura. Todos los que consigan resolver los enigmas entrarán en el sorteo de 10 bicicletas y 3 patinetes eléctricos que se entregarán en el mismo centro comercial. \nCómo participar\nDescarga la app salmantina DareMapp de manera totalmente gratuita. www.daremapp.com \nPremios\n\n10 bicicletas mountain bike\n3 patinetes eléctricos\n\n  \n\nMás eventos y planes de Navidad en Salamanca 2022
URL:https://www.salamancalia.es/evento/escape-room-familiar-los-duendes-de-la-navidad/
LOCATION:Centro Comercial El Tormes\, Avenida de Salamanca s/n\, Santa Marta de Tormes\, Salamanca\, 37900\, España
CATEGORIES:Juegos
END:VEVENT
BEGIN:VEVENT
DTSTART;VALUE=DATE:20221221
DTEND;VALUE=DATE:20230101
DTSTAMP:20260421T013706
CREATED:20221221T094527Z
LAST-MODIFIED:20221221T094527Z
UID:10003437-1671580800-1672531199@www.salamancalia.es
SUMMARY:Concurso “Presume de tu Pueblo”
DESCRIPTION:Participa con una foto de tu rincón favorito de las comarcas donde actúa el Grupo de Acción Local ADRECAG (Campo Charro\, Alba de Tormes y Guijuelo). \nCualquier persona podrá entrar a votar su fotografía favorita. \nCómo participar\nDescarga la app salmantina DareMapp de manera totalmente gratuita. www.daremapp.com \nPremio\n\nCena para 2 en Restaurante CASA EL VIVE de Alba de Tormes\, valorada en 100€\n\n  \n\nMás eventos y planes de Navidad en Salamanca 2022
URL:https://www.salamancalia.es/evento/concurso-presume-de-tu-pueblo/
CATEGORIES:Juegos
END:VEVENT
BEGIN:VEVENT
DTSTART;VALUE=DATE:20221221
DTEND;VALUE=DATE:20230101
DTSTAMP:20260421T013706
CREATED:20221221T094235Z
LAST-MODIFIED:20221221T094235Z
UID:10003436-1671580800-1672531199@www.salamancalia.es
SUMMARY:ADRECAG “Conoce a este Grupo de Acción Local Salmantino”
DESCRIPTION:Responde a las preguntas mientras aprendes a qué se dedica ADRECAG. Conocerás los proyectos que llevan a cabo para fomentar el desarrollo económico y sociocultural de las tres comarcas donde opera. \nCómo participar\nDescarga la app salmantina DareMapp de manera totalmente gratuita. www.daremapp.com \nPremio\n\nCena para 2 en restaurante VIRÓ GASTROBAR de Guijuelo\, valorada en 100€.\n\n  \n\nMás eventos y planes de Navidad en Salamanca 2022
URL:https://www.salamancalia.es/evento/adrecag-conoce-a-este-grupo-de-accion-local-salmantino/
CATEGORIES:Juegos
END:VEVENT
BEGIN:VEVENT
DTSTART;VALUE=DATE:20221215
DTEND;VALUE=DATE:20221231
DTSTAMP:20260421T013706
CREATED:20221221T093905Z
LAST-MODIFIED:20221221T094019Z
UID:10003434-1671062400-1672444799@www.salamancalia.es
SUMMARY:Navidad en el Mercado Central de Salamanca
DESCRIPTION:Visita el mercado de abastos y sube foto de tu ticket de compra. \nCómo participar\nDescarga la app salmantina DareMapp de manera totalmente gratuita. www.daremapp.com \nPremios\n\n6 cestas de navidad\n\n  \n\nMás eventos y planes de Navidad en Salamanca 2022
URL:https://www.salamancalia.es/evento/navidad-en-el-mercado-central-de-salamanca/
CATEGORIES:Juegos
END:VEVENT
BEGIN:VEVENT
DTSTART;VALUE=DATE:20220319
DTEND;VALUE=DATE:20220320
DTSTAMP:20260421T013706
CREATED:20220318T121318Z
LAST-MODIFIED:20220318T121514Z
UID:10003733-1647648000-1647734399@www.salamancalia.es
SUMMARY:Reto "Aniversario Vialia Salamanca"
DESCRIPTION:Presentamos un nuevo reto de #DareMapp junto con Vialia Salamanca para celebrar su aniversario: \n🔥 RETO CON 5 PASOS (mínimo 3 para ganar)\n🗓️ Hasta el 31 de marzo\n🎁 14 fantásticos premios\n📲 Descarga la app desde www.daremapp.com y participa \nSÁBADO 19 DE MARZO A LAS 18:30 podrás realizar el paso 4 durante la actuación de Blocco Charro.
URL:https://www.salamancalia.es/evento/reto-aniversario-vialia-salamanca/
CATEGORIES:Conciertos,Concursos,Ocio Infantil
END:VEVENT
BEGIN:VEVENT
DTSTART;VALUE=DATE:20211108
DTEND;VALUE=DATE:20211115
DTSTAMP:20260421T013706
CREATED:20211103T181619Z
LAST-MODIFIED:20211103T181743Z
UID:10002803-1636329600-1636934399@www.salamancalia.es
SUMMARY:Nuevo reto: V Semana de las legumbres
DESCRIPTION:Nuevo reto disponible en la aplicación DareMapp: «V Semana de las legumbres en Salamanca» con sabrosos premios.
URL:https://www.salamancalia.es/evento/nuevo-reto-v-semana-de-las-legumbres/
LOCATION:Online
CATEGORIES:Juegos
END:VEVENT
END:VCALENDAR