BEGIN:VCALENDAR
VERSION:2.0
PRODID:-//Agenda cultural y eventos de ocio en Salamanca - ECPv6.15.20//NONSGML v1.0//EN
CALSCALE:GREGORIAN
METHOD:PUBLISH
X-ORIGINAL-URL:https://www.salamancalia.es
X-WR-CALDESC:Eventos para Agenda cultural y eventos de ocio en Salamanca
REFRESH-INTERVAL;VALUE=DURATION:PT1H
X-Robots-Tag:noindex
X-PUBLISHED-TTL:PT1H
BEGIN:VTIMEZONE
TZID:UTC
BEGIN:STANDARD
TZOFFSETFROM:+0000
TZOFFSETTO:+0000
TZNAME:UTC
DTSTART:20210101T000000
END:STANDARD
END:VTIMEZONE
BEGIN:VEVENT
DTSTART;VALUE=DATE:20221102
DTEND;VALUE=DATE:20221114
DTSTAMP:20260421T060849
CREATED:20221027T114222Z
LAST-MODIFIED:20221027T114222Z
UID:10004237-1667347200-1668383999@www.salamancalia.es
SUMMARY:Un feliz viaje por la vida
DESCRIPTION:Exposición de fotografía itinerante que muestra las fotografías participantes en la I Edición del Concurso de Fotografía organizado por la Federación Autismo Castilla y León por conmemoración del Día Mundial de la Concienciación sobre el Autismo. \n\nExposición de fotografía: “Un feliz viaje por la vida”\nDónde: la Sala de Exposiciones del Palacio de Garcigrande de Salamanca\nCuando: del 2 al 13 de noviembre.\nMás información: Exposición itinerante de fotografía “Un feliz viaje por la vida” por Castilla y León
URL:https://www.salamancalia.es/evento/un-feliz-viaje-por-la-vida/
LOCATION:Sala de Exposiciones del Palacio de Garcigrande\, C. de las Isabeles\, Salamanca\, Salamanca\, 37002\, España
CATEGORIES:Exposiciones
END:VEVENT
END:VCALENDAR