BEGIN:VCALENDAR
VERSION:2.0
PRODID:-//Agenda cultural y eventos de ocio en Salamanca - ECPv6.15.20//NONSGML v1.0//EN
CALSCALE:GREGORIAN
METHOD:PUBLISH
X-ORIGINAL-URL:https://www.salamancalia.es
X-WR-CALDESC:Eventos para Agenda cultural y eventos de ocio en Salamanca
REFRESH-INTERVAL;VALUE=DURATION:PT1H
X-Robots-Tag:noindex
X-PUBLISHED-TTL:PT1H
BEGIN:VTIMEZONE
TZID:UTC
BEGIN:STANDARD
TZOFFSETFROM:+0000
TZOFFSETTO:+0000
TZNAME:UTC
DTSTART:20200101T000000
END:STANDARD
END:VTIMEZONE
BEGIN:VEVENT
DTSTART;VALUE=DATE:20220423
DTEND;VALUE=DATE:20220512
DTSTAMP:20260421T073438
CREATED:20220503T174740Z
LAST-MODIFIED:20220503T174740Z
UID:10003909-1650672000-1652313599@www.salamancalia.es
SUMMARY:Haciendo historia en… la Casa Lis
DESCRIPTION:Concurso de microrrelatos  para celebrar el Día Internacional de los Museos. \nConsulta las bases del concurso.
URL:https://www.salamancalia.es/evento/haciendo-historia-en-la-casa-lis/
CATEGORIES:Concursos
END:VEVENT
BEGIN:VEVENT
DTSTART;VALUE=DATE:20210520
DTEND;VALUE=DATE:20210902
DTSTAMP:20260421T073438
CREATED:20210519T083403Z
LAST-MODIFIED:20210519T083418Z
UID:10002594-1621468800-1630540799@www.salamancalia.es
SUMMARY:Tres visiones de España
DESCRIPTION:Tres visiones de España. Sorolla\, Romero de Torres y Solana
URL:https://www.salamancalia.es/evento/tres-visiones-de-espana/
LOCATION:Museo Art Nouveau y Art Déco Casa Lis\, C/Gibraltar\,14\, Salamanca\, Salamanca\, 37008\, España
CATEGORIES:Exposiciones
END:VEVENT
END:VCALENDAR