BEGIN:VCALENDAR
VERSION:2.0
PRODID:-//Agenda cultural y eventos de ocio en Salamanca - ECPv6.15.20//NONSGML v1.0//EN
CALSCALE:GREGORIAN
METHOD:PUBLISH
X-ORIGINAL-URL:https://www.salamancalia.es
X-WR-CALDESC:Eventos para Agenda cultural y eventos de ocio en Salamanca
REFRESH-INTERVAL;VALUE=DURATION:PT1H
X-Robots-Tag:noindex
X-PUBLISHED-TTL:PT1H
BEGIN:VTIMEZONE
TZID:UTC
BEGIN:STANDARD
TZOFFSETFROM:+0000
TZOFFSETTO:+0000
TZNAME:UTC
DTSTART:20200101T000000
END:STANDARD
END:VTIMEZONE
BEGIN:VEVENT
DTSTART;TZID=UTC:20211030T120000
DTEND;TZID=UTC:20211030T200000
DTSTAMP:20260422T112249
CREATED:20211028T164455Z
LAST-MODIFIED:20211028T164455Z
UID:10002793-1635595200-1635624000@www.salamancalia.es
SUMMARY:IV Festival de arte en Femenino
DESCRIPTION:La propuesta promueve el encuentro entre los habitantes de la provincia de Salamanca\, por eso itinera\npor distintos pueblos. \nPrimero fue en La Alberca\, luego en Villasdardo\, Monleras y\, por último\, en Hergüijuela de la Sierra. \nEs organizado por 9 mujeres artistas de distintos pueblos\, que se unieron para promover la expresión\ncultural desde la energía femenina: el costado más sutil\, cuidado\, frágil\, curioso\, misterioso y estético del ser humano. De todo ser humano. \nPrograma\n\nLa proyección de un corto documental\nLa pintada de un mural\nTalleres de danza\, marionetas y telas enceradas
URL:https://www.salamancalia.es/evento/iv-festival-de-arte-en-femenino/
LOCATION:Herguijuela de la Sierra\, Herguijuela de la Sierra\, Salamanca\, España
CATEGORIES:Ferias y fiestas | Festivales
END:VEVENT
END:VCALENDAR