BEGIN:VCALENDAR
VERSION:2.0
PRODID:-//Agenda cultural y eventos de ocio en Salamanca - ECPv6.15.20//NONSGML v1.0//EN
CALSCALE:GREGORIAN
METHOD:PUBLISH
X-WR-CALNAME:Agenda cultural y eventos de ocio en Salamanca
X-ORIGINAL-URL:https://www.salamancalia.es
X-WR-CALDESC:Eventos para Agenda cultural y eventos de ocio en Salamanca
REFRESH-INTERVAL;VALUE=DURATION:PT1H
X-Robots-Tag:noindex
X-PUBLISHED-TTL:PT1H
BEGIN:VTIMEZONE
TZID:UTC
BEGIN:STANDARD
TZOFFSETFROM:+0000
TZOFFSETTO:+0000
TZNAME:UTC
DTSTART:20200101T000000
END:STANDARD
END:VTIMEZONE
BEGIN:VEVENT
DTSTART;VALUE=DATE:20250630
DTEND;VALUE=DATE:20250712
DTSTAMP:20260421T055539
CREATED:20250603T153458Z
LAST-MODIFIED:20250603T153516Z
UID:10006384-1751241600-1752278399@www.salamancalia.es
SUMMARY:Campamento de verano de Cultura Científica y de la Innovación
DESCRIPTION:Del 30 de junio al 11 de julio. \nToda la información.
URL:https://www.salamancalia.es/evento/campamento-de-verano-de-cultura-cientifica-y-de-la-innovacion/
LOCATION:Salamanca
CATEGORIES:Campamentos y Campus
ATTACH;FMTTYPE=image/jpeg:https://www.salamancalia.es/wp-content/uploads/2025/06/Campamento-de-verano-cientifico-de-la-USAL-2025.jpg
END:VEVENT
BEGIN:VEVENT
DTSTART;VALUE=DATE:20250304
DTEND;VALUE=DATE:20250311
DTSTAMP:20260421T055539
CREATED:20250304T174434Z
LAST-MODIFIED:20250306T110312Z
UID:10006155-1741046400-1741651199@www.salamancalia.es
SUMMARY:Día Internacional de la Mujer 2025
DESCRIPTION:La Universidad de Salamanca organiza varios actos con motivo del Día Internacional de la Mujer. \n\n4 de marzo:  Conferencia de la Premio Nobel de la Paz 2023\, Dª. Narges Mohammadi.\n6 de marzo: «Voces y  Cartas. Lectura musicalizada de la correspondencia femenina a Miguel de Unamuno». Acto seguido (sobre las 20:15 o 20:30 h.) se procederá a la Inauguración de la iluminación de la Fachada Rica del Edificio Histórico de la Universidad de Salamanca y lectura del Manifiesto con motivo de esta conmemoración.\n10 de marzo:  Desayuno-Debate sobre la Mujer en la Sala de Pinturas del Colegio Arzobispo Fonseca\, a las 11:00 horas.\nMesas redondas: durante los meses de marzo y abril de 2025\, sobre diferente temática\, en diversos centro de la Universidad.\n\nMás información.
URL:https://www.salamancalia.es/evento/dia-internacional-de-la-mujer-2025/
LOCATION:Salamanca
CATEGORIES:Especiales
ATTACH;FMTTYPE=image/jpeg:https://www.salamancalia.es/wp-content/uploads/2025/03/ILUMINACION-FACHADA-6-marzo-2025.jpg
END:VEVENT
BEGIN:VEVENT
DTSTART;VALUE=DATE:20240619
DTEND;VALUE=DATE:20240622
DTSTAMP:20260421T055539
CREATED:20240604T145514Z
LAST-MODIFIED:20240604T145514Z
UID:10005390-1718755200-1719014399@www.salamancalia.es
SUMMARY:CILC 2024
DESCRIPTION:VII Congreso Internacional de Lingüística Clínica. \nToda la información del congreso.
URL:https://www.salamancalia.es/evento/cilc-2024/
LOCATION:Salamanca
CATEGORIES:Congresos y Jornadas
END:VEVENT
BEGIN:VEVENT
DTSTART;VALUE=DATE:20240426
DTEND;VALUE=DATE:20240624
DTSTAMP:20260421T055539
CREATED:20240509T173928Z
LAST-MODIFIED:20240509T173928Z
UID:10005325-1714089600-1719187199@www.salamancalia.es
SUMMARY:Naturaleza Fingida
DESCRIPTION:Jardines en la Biblioteca Histórica de la Universidad de Salamanca.
URL:https://www.salamancalia.es/evento/naturaleza-fingida/
LOCATION:Universidad de Salamanca\, Patio de Escuelas\, 1\, Salamanca\, Salamanca\, 37008\, España
CATEGORIES:Exposiciones
END:VEVENT
BEGIN:VEVENT
DTSTART;VALUE=DATE:20240308
DTEND;VALUE=DATE:20240309
DTSTAMP:20260421T055539
CREATED:20240307T095356Z
LAST-MODIFIED:20240307T095451Z
UID:10005180-1709856000-1709942399@www.salamancalia.es
SUMMARY:Día Internacional de la Mujer
DESCRIPTION:La Universidad de Salamanca organiza los actos con motivo del Día Internacional de la Mujer. La programación incluye conferencias\, cine\, música y la iluminación de la Fachada Rica. \nConsulta la programación completa aquí.
URL:https://www.salamancalia.es/evento/dia-internacional-de-la-mujer/
LOCATION:Salamanca
CATEGORIES:Especiales
END:VEVENT
BEGIN:VEVENT
DTSTART;VALUE=DATE:20230904
DTEND;VALUE=DATE:20230908
DTSTAMP:20260421T055539
CREATED:20230425T083100Z
LAST-MODIFIED:20230425T083100Z
UID:10003588-1693785600-1694131199@www.salamancalia.es
SUMMARY:Startup OLÉ 2023
DESCRIPTION:10º aniversario de Startup OLÉ. \nToda la información sobre ponentes\, horarios… en la web del evento (ver más abajo).
URL:https://www.salamancalia.es/evento/startup-ole-2023/
CATEGORIES:Congresos y Jornadas
END:VEVENT
BEGIN:VEVENT
DTSTART;VALUE=DATE:20230713
DTEND;VALUE=DATE:20230715
DTSTAMP:20260421T055539
CREATED:20230523T093340Z
LAST-MODIFIED:20230523T093340Z
UID:10004532-1689206400-1689379199@www.salamancalia.es
SUMMARY:X Jornadas Internacionales de Enseñanza y Aprendizaje de la Estadística y la Investigación Operativa
DESCRIPTION:Toda la información: programa\, registro\, organizadores…
URL:https://www.salamancalia.es/evento/x-jornadas-internacionales-de-ensenanza-y-aprendizaje-de-la-estadistica-y-la-investigacion-operativa/
LOCATION:Colegio Arzobispo Fonseca\, C/ Fonseca\, 4\, Salamanca\, Salamanca\, España
CATEGORIES:Congresos y Jornadas
END:VEVENT
BEGIN:VEVENT
DTSTART;VALUE=DATE:20230626
DTEND;VALUE=DATE:20230629
DTSTAMP:20260421T055539
CREATED:20230425T085134Z
LAST-MODIFIED:20230425T085741Z
UID:10003590-1687737600-1687996799@www.salamancalia.es
SUMMARY:VII Congreso Internacional del Español en Castilla y León "Español para todos"
DESCRIPTION:«Entre los ponentes figuran investigadores de referencia\, relevantes personalidades del ámbito de la cultura y el idioma español y representantes de instituciones nacionales e internacionales que tienen entre sus responsabilidades la difusión de nuestro idioma y su enseñanza en todo el mundo. El programa se complementará con talleres de profesionales de la enseñanza de español como lengua extranjera y con un espacio expositivo.» \nSalamanca ciudad del español.
URL:https://www.salamancalia.es/evento/vii-congreso-internacional-del-espanol-en-castilla-y-leon-espanol-para-todos/
LOCATION:Palacio de Congresos y Exposiciones de Castilla y León\, Cuesta de Oviedo\, S/N\, Salamanca\, Salamanca\, 37008\, España
CATEGORIES:Congresos y Jornadas
END:VEVENT
BEGIN:VEVENT
DTSTART;VALUE=DATE:20230519
DTEND;VALUE=DATE:20230522
DTSTAMP:20260421T055539
CREATED:20230425T081057Z
LAST-MODIFIED:20230425T081057Z
UID:10003587-1684454400-1684713599@www.salamancalia.es
SUMMARY:7ª Feria de Minerales Salamanca
DESCRIPTION:Vuelve la Feria de Minerales de Salamanca.
URL:https://www.salamancalia.es/evento/7a-feria-de-minerales-salamanca/
LOCATION:Facultad de Ciencias\, Plaza de los caídos s/n\, Salamanca\, Salamanca\, España
CATEGORIES:Ferias y fiestas | Festivales
END:VEVENT
BEGIN:VEVENT
DTSTART;VALUE=DATE:20230425
DTEND;VALUE=DATE:20230430
DTSTAMP:20260421T055539
CREATED:20230420T170211Z
LAST-MODIFIED:20230420T170211Z
UID:10004456-1682380800-1682812799@www.salamancalia.es
SUMMARY:VI Festival de ajedrez
DESCRIPTION:Programa de actividades\n25 Abril\n\n18:00: Partidas simultáneas. Lugar: Centro Internacional del Español.\n20:00: Acto inaugural del Torneo Magistral. Lugar: Centro Internacional del Español.\n\n26 Abril\n\n16:00: Conferencia ‘La mujer en el ajedrez’. Lugar: Centro Internacional del Español.\n17:30: Torneo Magistral: Rondas 1 y 2. Lugar: Centro Internacional del Español.\n\n27 Abril\n\n16:00 Conferencia “El camino del ajedrez –Segunda Edición-”. Lugar: Centro Internacional del  Español\n17:30: Torneo Magistral: Rondas 3 y 4. Lugar: Centro Internacional del Español\n\n28 Abril\n\n16:00: Conferencia de ‘El ajedrez como integrador social’. Lugar: Centro Internacional del Español.\n17:30: Torneo Magistral: Rondas 5. Lugar: Centro Internacional del Español.\n20:30: Torneo de Aficionados. Lugar: Casino de Salamanca -Palacio Figueroa-.\n\n29 Abril\n\n12.30: Conferencia ‘El ajedrez como herramienta terapéutica’. Lugar: Colegio Arzobispo Fonseca.\n10:00: Torneo Infantil. Lugar: Colegio Arzobispo Fonseca.\n16:00: Torneo Magistral: Rondas 6 y 7. Lugar: Centro Internacional del Español.\n21:00: Clausura del Festival. Lugar: Centro Internacional del Español.
URL:https://www.salamancalia.es/evento/vi-festival-de-ajedrez/
LOCATION:Centro Internacional del Español\, Plaza de los Bandos\, Salamanca\, Salamanca\, 37008\, España
CATEGORIES:Ferias y fiestas | Festivales
END:VEVENT
BEGIN:VEVENT
DTSTART;VALUE=DATE:20220905
DTEND;VALUE=DATE:20220908
DTSTAMP:20260421T055539
CREATED:20220720T113706Z
LAST-MODIFIED:20220720T113706Z
UID:10004076-1662336000-1662595199@www.salamancalia.es
SUMMARY:Startup OLÉ 2022
DESCRIPTION:VIII edición de Startup OLÉ. \nLas principales novedades de este año serán la participación de empresas e instituciones de Castilla y León a través del proyecto CYL-HUB\, y la celebración de un foro con pueblos startuperos\, Startup Village\, en el marco de REInA. \nToda la información sobre ponentes\, horarios… en la web del evento (ver más abajo).
URL:https://www.salamancalia.es/evento/startup-ole-2022/
CATEGORIES:Congresos y Jornadas
END:VEVENT
BEGIN:VEVENT
DTSTART;VALUE=DATE:20220706
DTEND;VALUE=DATE:20220912
DTSTAMP:20260421T055539
CREATED:20220720T113205Z
LAST-MODIFIED:20220720T113205Z
UID:10004075-1657065600-1662940799@www.salamancalia.es
SUMMARY:El retorno del Cielo de Salamanca
DESCRIPTION:Una exposición sobre la bóveda de la antigua biblioteca universitaria. \nLa muestra `El retorno del Cielo de Salamanca. Arte y Astronomía en la Bóveda de la Antigua Biblioteca Universitaria´ podrá visitarse en la sala de exposiciones del Patio de Escuelas Menores. \nHorario\n\nMartes a sábado de 12:00 a 14:00h y de 17:30 a 20:30h\nDomingos y festivos de 10:00 a 14:00h\nLunes cerrado
URL:https://www.salamancalia.es/evento/el-retorno-del-cielo-de-salamanca/
LOCATION:Patio de Escuelas\, Salamanca\, Salamanca\, España
CATEGORIES:Exposiciones
END:VEVENT
BEGIN:VEVENT
DTSTART;TZID=UTC:20220324T160000
DTEND;TZID=UTC:20220324T190000
DTSTAMP:20260421T055539
CREATED:20220321T125134Z
LAST-MODIFIED:20220321T125251Z
UID:10003737-1648137600-1648148400@www.salamancalia.es
SUMMARY:Paideia: El Arte de Educar en la Grecia Clásica
DESCRIPTION:El próximo jueves 24 de marzo a las 16:00 horas tendrá lugar la inauguración en la primera planta de la Facultad de Geografía e Historia de la Universidad de Salamanca de un proyecto expositivo llevado a cabo por siete alumnos\, provenientes de diversos grados\, tales como historia\, arqueología\, antropología\, humanidades o comunicación\, del Máster de Evaluación y Gestión del Patrimonio Cultural: Paideia\, El Arte de Educar en la Grecia Clásica. La exposición podrá visitarse hasta finales del mes de abril. \nLa exposición pretende mostrar los principales modelos educativos propios de la Grecia clásica y los paralelismos que pueden trazarse con los desarrollados en la actualidad\, utilizando la educación platónica y aristotélica como punto de referencia. El objetivo es hacerlo a través de un stand dividido en dos espacios\, uno cerrado con la arquitectura prototípica griega clásica y otro abierto con un graderío. Ello se debe a que la educación griega se basaba en dos espacios principales: el hogar o la academia y la palestra o los espacios al aire libre. \nGracias a Paideia el visitante tendrá la oportunidad de comprender los diferentes sistemas existentes en la Grecia clásica y de preguntarse cuál es el modelo al que prefiere optar tanto para sí como para sus seres queridos.
URL:https://www.salamancalia.es/evento/paideia-el-arte-de-educar-en-la-grecia-clasica/
LOCATION:Facultad de Geografía e Historia de la Universidad de Salamanca\, C/ Cervantes\, s/n\, Salamanca\, Salamanca\, 37001\, España
CATEGORIES:Exposiciones,Presentaciones
END:VEVENT
BEGIN:VEVENT
DTSTART;TZID=UTC:20211030T120000
DTEND;TZID=UTC:20220306T203000
DTSTAMP:20260421T055539
CREATED:20211116T174420Z
LAST-MODIFIED:20220121T114121Z
UID:10003263-1635595200-1646598600@www.salamancalia.es
SUMMARY:Unamuno y la política. De la pluma a la palabra
DESCRIPTION:Recoge casi mil referencias documentales en la Hospedería Fonseca. \nHorario\n\nMartes a sábado de 12:00 a 14:00h y de 17:30 a 20:30h\nDomingos y festivos de 10:00 a 14:00h\nLunes cerrado.\n\nVideo sobre la exposición. \n 
URL:https://www.salamancalia.es/evento/unamuno-y-la-politica-de-la-pluma-a-la-palabra/
LOCATION:Auditorio de la Hospedería Fonseca\, Calle Fonseca\, 4\, Salamanca\, Salamanca\, 37002\, España
CATEGORIES:Exposiciones
END:VEVENT
BEGIN:VEVENT
DTSTART;TZID=UTC:20210913T120000
DTEND;TZID=UTC:20210913T170000
DTSTAMP:20260421T055539
CREATED:20210906T080523Z
LAST-MODIFIED:20210906T080635Z
UID:10002717-1631534400-1631552400@www.salamancalia.es
SUMMARY:Feria de Bienvenida de la Universidad de Salamanca. Curso 2021-2022
DESCRIPTION:Feria de bienvenida a los nuevos estudiantes de la Universidad de Salamanca.
URL:https://www.salamancalia.es/evento/ferias-de-bienvenida-de-la-universidad-de-salamanca-curso-2021-2022/
LOCATION:Pabellón deportivo Miguel de Unamuno\, Av. Dr. Gregorio Marañón\, s/n\, Salamanca\, Salamanca\, 37007\, España
CATEGORIES:Ferias y fiestas | Festivales
END:VEVENT
BEGIN:VEVENT
DTSTART;VALUE=DATE:20210310
DTEND;VALUE=DATE:20210313
DTSTAMP:20260421T055539
CREATED:20210304T110438Z
LAST-MODIFIED:20210309T155036Z
UID:10002520-1615334400-1615593599@www.salamancalia.es
SUMMARY:XI Congreso de Igualdad de la Universidad de Salamanca
DESCRIPTION:Enseñar en igualdad de género: aspectos multidisciplinares \nEl encuentro científico tendrá lugar de manera íntegramente online\, a través de las herramientas habilitadas por el Estudio salmantino. Se enmarca en la necesidad de incorporar los estudios de igualdad y género al ámbito de las enseñanzas universitarias españolas y supone la continuación de los congresos realizados en las diez anteriores ediciones. \nLa actividad tiene carácter gratuito\, gracias a la financiación del Instituto de la Mujer y para la Igualdad de Oportunidades. Toda la información referente a la actividad\, así como el enlace de inscripción\, se encuentra disponible a través de la web. \n 
URL:https://www.salamancalia.es/evento/xi-congreso-de-igualdad-de-la-universidad-de-salamanca/
LOCATION:Online
CATEGORIES:Congresos y Jornadas
END:VEVENT
END:VCALENDAR