BEGIN:VCALENDAR
VERSION:2.0
PRODID:-//Agenda cultural y eventos de ocio en Salamanca - ECPv6.15.20//NONSGML v1.0//EN
CALSCALE:GREGORIAN
METHOD:PUBLISH
X-ORIGINAL-URL:https://www.salamancalia.es
X-WR-CALDESC:Eventos para Agenda cultural y eventos de ocio en Salamanca
REFRESH-INTERVAL;VALUE=DURATION:PT1H
X-Robots-Tag:noindex
X-PUBLISHED-TTL:PT1H
BEGIN:VTIMEZONE
TZID:UTC
BEGIN:STANDARD
TZOFFSETFROM:+0000
TZOFFSETTO:+0000
TZNAME:UTC
DTSTART:20200101T000000
END:STANDARD
END:VTIMEZONE
BEGIN:VEVENT
DTSTART;VALUE=DATE:20240324
DTEND;VALUE=DATE:20240401
DTSTAMP:20260420T190106
CREATED:20240312T115514Z
LAST-MODIFIED:20240312T120821Z
UID:10005206-1711238400-1711929599@www.salamancalia.es
SUMMARY:Semana Santa 2024 en Aldedávila de la Ribera
DESCRIPTION:Destacan varias procesiones y actos litúrgicos y como novedad\, contará con el acompañamiento de la Banda Musical ‘Felipe Espino’ en la procesión del Jueves Santo. \nConsulta el PROGRAMA COMPLETO de Semana Santa 2024 en Aldedávila de la Ribera. \n\nSemana Santa Salamanca 2024: horarios\, procesiones\, recorridos…
URL:https://www.salamancalia.es/evento/semana-santa-2024-en-aldedavila-de-la-ribera/
LOCATION:Aldeadávila de la Ribera\, Aldeadávila de la Ribera\, Salamanca\, España
CATEGORIES:Especiales
END:VEVENT
BEGIN:VEVENT
DTSTART;VALUE=DATE:20240211
DTEND;VALUE=DATE:20240212
DTSTAMP:20260420T190106
CREATED:20240201T183100Z
LAST-MODIFIED:20240201T183100Z
UID:10005092-1707609600-1707695999@www.salamancalia.es
SUMMARY:Carnaval 2024 en Aldedávila de la Ribera
DESCRIPTION:  \nCarnaval en Salamanca 2024.
URL:https://www.salamancalia.es/evento/carnaval-2024-en-aldedavila-de-la-ribera/
LOCATION:Aldeadávila de la Ribera\, Aldeadávila de la Ribera\, Salamanca\, España
CATEGORIES:Especiales
END:VEVENT
BEGIN:VEVENT
DTSTART;VALUE=DATE:20231229
DTEND;VALUE=DATE:20231230
DTSTAMP:20260420T190106
CREATED:20231213T114501Z
LAST-MODIFIED:20231213T114501Z
UID:10004988-1703808000-1703894399@www.salamancalia.es
SUMMARY:Navidad Solidaria en Aldeadávila de la Ribera
DESCRIPTION:A favor de ARIADNA\, Autismo Salamanca. El 29 de diciembre: \n\n Mercadillo solidario\n12:00 – Cuentacuentos solidario\n14:30 – Paella solidaria\n18:00 – Concierto de Navidad\nDe 17:30 a 19:00 – Nochevieja infantil\n\n  \n\nNavidad en Salamanca 2023
URL:https://www.salamancalia.es/evento/navidad-solidaria-en-aldeadavila-de-la-ribera/
LOCATION:Aldeadávila de la Ribera\, Aldeadávila de la Ribera\, Salamanca\, España
CATEGORIES:Especiales
END:VEVENT
BEGIN:VEVENT
DTSTART;VALUE=DATE:20231027
DTEND;VALUE=DATE:20231030
DTSTAMP:20260420T190106
CREATED:20231010T102809Z
LAST-MODIFIED:20231010T102809Z
UID:10003936-1698364800-1698623999@www.salamancalia.es
SUMMARY:I Feria del vino: La batalla del vino
DESCRIPTION:Consulta el programa en la imagen superior. \n 
URL:https://www.salamancalia.es/evento/i-feria-del-vino-la-batalla-del-vino/
LOCATION:Aldeadávila de la Ribera\, Aldeadávila de la Ribera\, Salamanca\, España
CATEGORIES:Ferias y fiestas | Festivales
END:VEVENT
BEGIN:VEVENT
DTSTART;VALUE=DATE:20230311
DTEND;VALUE=DATE:20230313
DTSTAMP:20260420T190106
CREATED:20230112T082600Z
LAST-MODIFIED:20240305T182617Z
UID:10004333-1678492800-1678665599@www.salamancalia.es
SUMMARY:UltraTrail Secretos del Duero
DESCRIPTION:Más información (inscripciones\, reglamento…) en la web del evento (ver más abajo). \n 
URL:https://www.salamancalia.es/evento/ultratrail-secretos-del-duero/
LOCATION:Aldeadávila de la Ribera\, Aldeadávila de la Ribera\, Salamanca\, España
CATEGORIES:Deportes
END:VEVENT
BEGIN:VEVENT
DTSTART;VALUE=DATE:20221029
DTEND;VALUE=DATE:20221031
DTSTAMP:20260420T190106
CREATED:20221020T163149Z
LAST-MODIFIED:20221025T083553Z
UID:10003335-1667001600-1667174399@www.salamancalia.es
SUMMARY:Fiesta de otoño en Aldeadávila de la Ribera
DESCRIPTION:Rutas teatralizadas\, música\, talleres infantiles\, catas de vino y otras actividades.
URL:https://www.salamancalia.es/evento/fiesta-de-otono-en-aldeadavila-de-la-ribera/
LOCATION:Aldeadávila de la Ribera\, Aldeadávila de la Ribera\, Salamanca\, España
CATEGORIES:Especiales
END:VEVENT
BEGIN:VEVENT
DTSTART;VALUE=DATE:20210215
DTEND;VALUE=DATE:20210401
DTSTAMP:20260420T190106
CREATED:20210319T094802Z
LAST-MODIFIED:20241015T184048Z
UID:10002541-1613347200-1617235199@www.salamancalia.es
SUMMARY:La mujer en el medio rural
DESCRIPTION:Aldeadávila de la Ribera \nOficina de Turismo \nDe miércoles a sábados:Mañana: 09:30h a 13:30hTarde: de 16:30h a 18:30hDomingos: 09:30h a 13:30h \nLa exposición propone una mirada retrospectiva y multidisciplinar sobre la mujer rural. Un total de 20 fotografías en blanco y negro\, correspondientes al archivo de «Foto Muñoz»\, realizadas entre 1930 y 1970\, conforma la muestra con el objetivo de rendir un homenaje permanente a las mujeres rurales del siglo XX. \nCon cita previa.
URL:https://www.salamancalia.es/evento/la-mujer-en-el-medio-rural/
LOCATION:Aldeadávila de la Ribera\, Aldeadávila de la Ribera\, Salamanca\, España
CATEGORIES:Exposiciones
END:VEVENT
END:VCALENDAR