BEGIN:VCALENDAR
VERSION:2.0
PRODID:-//Agenda cultural y eventos de ocio en Salamanca - ECPv6.15.20//NONSGML v1.0//EN
CALSCALE:GREGORIAN
METHOD:PUBLISH
X-ORIGINAL-URL:https://www.salamancalia.es
X-WR-CALDESC:Eventos para Agenda cultural y eventos de ocio en Salamanca
REFRESH-INTERVAL;VALUE=DURATION:PT1H
X-Robots-Tag:noindex
X-PUBLISHED-TTL:PT1H
BEGIN:VTIMEZONE
TZID:UTC
BEGIN:STANDARD
TZOFFSETFROM:+0000
TZOFFSETTO:+0000
TZNAME:UTC
DTSTART:20210101T000000
END:STANDARD
END:VTIMEZONE
BEGIN:VEVENT
DTSTART;VALUE=DATE:20240216
DTEND;VALUE=DATE:20240218
DTSTAMP:20260425T135142
CREATED:20240201T154404Z
LAST-MODIFIED:20240201T154428Z
UID:10005075-1708041600-1708214399@www.salamancalia.es
SUMMARY:Curso de iniciación a R
DESCRIPTION:Plazas limitadas.
URL:https://www.salamancalia.es/evento/curso-de-iniciacion-a-r/
LOCATION:ARTILUGIO ESTUDIO\, Calle Azafranal\, 18. Pasaje.\, Salamanca\, Salamanca\, 37001\, España
CATEGORIES:Cursos y Talleres
ORGANIZER;CN="SOCYL - Asociaci&oacute%3Bn Profesional de Sociolog&iacute%3Ba de Castilla y Le&oacute%3Bn":MAILTO:directiva@socyl.es
END:VEVENT
BEGIN:VEVENT
DTSTART;VALUE=DATE:20240117
DTEND;VALUE=DATE:20240318
DTSTAMP:20260425T135142
CREATED:20240125T173028Z
LAST-MODIFIED:20240125T173028Z
UID:10005038-1705449600-1710719999@www.salamancalia.es
SUMMARY:Fuego Intervenciones Mágicas
DESCRIPTION:Horario\n\nde lunes a viernes de 10:00 a 14:30 y de 16:00 a 19:30\n\n 
URL:https://www.salamancalia.es/evento/fuego-intervenciones-magicas/
LOCATION:ARTILUGIO ESTUDIO\, Calle Azafranal\, 18. Pasaje.\, Salamanca\, Salamanca\, 37001\, España
CATEGORIES:Exposiciones
END:VEVENT
BEGIN:VEVENT
DTSTART;TZID=UTC:20230922T193000
DTEND;TZID=UTC:20230922T193000
DTSTAMP:20260425T135142
CREATED:20230915T080447Z
LAST-MODIFIED:20230915T080708Z
UID:10004771-1695411000-1695411000@www.salamancalia.es
SUMMARY:Viernes Sociológico "Cien hogueras"
DESCRIPTION:Poetas\, músicos o cantaores\, entre otros\, repudiaron en Andalucía los condicionamientos de la cultura oficial dictada por el franquismo\, impulsando iniciativas artísticas de todo tipo\, apenas investigadas hoy\, que dan cuenta de un panorama cultural inexplorado; un tejido creativo transformador y de ruptura que\, a pesar de sus expresiones más vanguardistas\, hundió sus raíces en la tradición y el sentir popular. \nOrilladas en los márgenes de la historia cultural más reciente en el Estado español\, la viveza de las prácticas contraculturales en el territorio andaluz deslumbra a poco que rasquemos las cenizas\, todavía candentes\, de las cien hogueras que alimentaron el espíritu contestatario de buena parte de los artistas andaluces durante los últimos años del franquismo.
URL:https://www.salamancalia.es/evento/viernes-sociologico-cien-hogueras/
LOCATION:ARTILUGIO ESTUDIO\, Calle Azafranal\, 18. Pasaje.\, Salamanca\, Salamanca\, 37001\, España
CATEGORIES:Presentaciones
ORGANIZER;CN="SOCYL - Asociaci&oacute%3Bn Profesional de Sociolog&iacute%3Ba de Castilla y Le&oacute%3Bn":MAILTO:directiva@socyl.es
END:VEVENT
BEGIN:VEVENT
DTSTART;TZID=UTC:20230608T193000
DTEND;TZID=UTC:20230608T193000
DTSTAMP:20260425T135142
CREATED:20230606T162143Z
LAST-MODIFIED:20230606T162143Z
UID:10004551-1686252600-1686252600@www.salamancalia.es
SUMMARY:Diarios de piel
DESCRIPTION:Inauguración de la exposición «Diarios de piel» de la ilustradora Crayolina a las 19:30.
URL:https://www.salamancalia.es/evento/diarios-de-piel/
LOCATION:ARTILUGIO ESTUDIO\, Calle Azafranal\, 18. Pasaje.\, Salamanca\, Salamanca\, 37001\, España
CATEGORIES:Presentaciones
END:VEVENT
BEGIN:VEVENT
DTSTART;TZID=UTC:20230309T193000
DTEND;TZID=UTC:20230309T193000
DTSTAMP:20260425T135142
CREATED:20230306T163203Z
LAST-MODIFIED:20230306T163203Z
UID:10003539-1678390200-1678390200@www.salamancalia.es
SUMMARY:Las controversias del sistema sanitario: la percepción desde el hospital
DESCRIPTION:Con Javier Pardo\, neurólogo en la Fundación Jiménez Díaz y Jesús Rivera\, catedrático de Sociología en la USAL.
URL:https://www.salamancalia.es/evento/las-controversias-del-sistema-sanitario-la-percepcion-desde-el-hospital/
LOCATION:ARTILUGIO ESTUDIO\, Calle Azafranal\, 18. Pasaje.\, Salamanca\, Salamanca\, 37001\, España
CATEGORIES:Presentaciones
ORGANIZER;CN="SOCYL - Asociaci&oacute%3Bn Profesional de Sociolog&iacute%3Ba de Castilla y Le&oacute%3Bn":MAILTO:directiva@socyl.es
END:VEVENT
BEGIN:VEVENT
DTSTART;TZID=UTC:20221215T193000
DTEND;TZID=UTC:20221215T193000
DTSTAMP:20260425T135142
CREATED:20221213T110838Z
LAST-MODIFIED:20221213T172033Z
UID:10004290-1671132600-1671132600@www.salamancalia.es
SUMMARY:Mujeres sin hogar
DESCRIPTION:Marina Sánchez-Sierra y Sara Galindo presentan el estudio «La vivencia del sinhogarismo entre las mujeres» de Cáritas Española. Un trabajo que da voz a quienes viven en la calle.
URL:https://www.salamancalia.es/evento/mujeres-sin-hogar/
LOCATION:ARTILUGIO ESTUDIO\, Calle Azafranal\, 18. Pasaje.\, Salamanca\, Salamanca\, 37001\, España
CATEGORIES:Presentaciones
ORGANIZER;CN="SOCYL - Asociaci&oacute%3Bn Profesional de Sociolog&iacute%3Ba de Castilla y Le&oacute%3Bn":MAILTO:directiva@socyl.es
END:VEVENT
BEGIN:VEVENT
DTSTART;TZID=UTC:20221111T190000
DTEND;TZID=UTC:20221111T203000
DTSTAMP:20260425T135142
CREATED:20221107T102243Z
LAST-MODIFIED:20221107T102243Z
UID:10003362-1668193200-1668198600@www.salamancalia.es
SUMMARY:Viernes Sociológico "La realidad de las personas con ADEE* en España" *(Acondroplasia y otras Displasias Esqueléticas con Enanismo)
DESCRIPTION:La realidad del colectivo de personas con ADEE (Acondroplasia y otras Displasias Esqueléticas con Enanismo) en España. \n\nMaría Luisa Garde\, autora del libro “Analfabetos Sentimentales. Historias sobre acondroplasia y más…”\nSusana Noval\, Directora Gerente Fundación ALPE ACONDROPLASIA\nFelipe Orviz\, Presidente ADEE España
URL:https://www.salamancalia.es/evento/viernes-sociologico-la-realidad-de-las-personas-con-adee-en-espana-acondroplasia-y-otras-displasias-esqueleticas-con-enanismo/
LOCATION:ARTILUGIO ESTUDIO\, Calle Azafranal\, 18. Pasaje.\, Salamanca\, Salamanca\, 37001\, España
CATEGORIES:Presentaciones
ORGANIZER;CN="SOCYL - Asociaci&oacute%3Bn Profesional de Sociolog&iacute%3Ba de Castilla y Le&oacute%3Bn":MAILTO:directiva@socyl.es
END:VEVENT
BEGIN:VEVENT
DTSTART;TZID=UTC:20221013T200000
DTEND;TZID=UTC:20221013T213000
DTSTAMP:20260425T135142
CREATED:20221004T152321Z
LAST-MODIFIED:20221004T152321Z
UID:10003308-1665691200-1665696600@www.salamancalia.es
SUMMARY:Jueves Sociológico "Imagen\, música y sociedad"
DESCRIPTION:Fernán del Val\, profesor de sociología en la UNED.
URL:https://www.salamancalia.es/evento/jueves-sociologico-imagen-musica-y-sociedad/
LOCATION:ARTILUGIO ESTUDIO\, Calle Azafranal\, 18. Pasaje.\, Salamanca\, Salamanca\, 37001\, España
CATEGORIES:Presentaciones
ORGANIZER;CN="SOCYL - Asociaci&oacute%3Bn Profesional de Sociolog&iacute%3Ba de Castilla y Le&oacute%3Bn":MAILTO:directiva@socyl.es
END:VEVENT
BEGIN:VEVENT
DTSTART;TZID=UTC:20220609T200000
DTEND;TZID=UTC:20220609T213000
DTSTAMP:20260425T135142
CREATED:20220609T112907Z
LAST-MODIFIED:20220609T113059Z
UID:10004018-1654804800-1654810200@www.salamancalia.es
SUMMARY:Jueves Sociológico "Enigmas y retos de la población española"
DESCRIPTION:En la sede de SOCYL en Artilugio Estudio. Calle Azafranal\, 18. Pasaje. Salamanca. \nCon la participación de: \nMiguel Requena y Diez de Revenga \nCatedrático de Sociología en el Departamento de Sociología II (Estructura Social) en la UNED\, miembro del Grupo de Estudios ‘Población y Sociedad’ (Universidad Complutense). Su investigación se ha centrado en la sociología y la demografía de la familia\, la sociología de la edad\, la sociología de la estructura y la estratificación social\, la sociología de las migraciones y los procesos contemporáneos de cambio social\, áreas en las que ha realizado distintos proyectos de investigación subvencionados por el Plan Nacional de I+D+I. \nMikolaj Stanek \nDoctor en Sociología por la Universidad Complutense de Madrid (2008). Profesor en el Departamento de Sociología y Comunicación en la Universidad de Salamanca desde 2016. Investigador postdoctoral en el Consejo Superior de Investigaciones Científicas y en el Centro de Estudos Sociais de la Universidad de Coimbra así como profesor en la Universidad Complutense de Madrid. Experto externo para la Agencia de Derechos Fundamentales (FRA) y European Migration Network (EMN). \nJesús García-Gómez \nGraduado en Sociología (2017) y Máster en Análisis Avanzado de Datos Multivariantes y Big Data (2018) por la Universidad de Salamanca. En 2018 comienza su Tesis bajo la dirección de Alberto del Rey y Mikolaj Stanek\, consiguiendo un contrato FPU. Ha publicado su investigación en las revistas European Societies y Globalization and Health y realizado ponencias en varios congresos nacionales e internacionales. Sus principales intereses de investigación son los procesos de integración socio-laboral y la fecundidad de la población inmigrante.
URL:https://www.salamancalia.es/evento/jueves-sociologico-enigmas-y-retos-de-la-poblacion-espanola/
LOCATION:ARTILUGIO ESTUDIO\, Calle Azafranal\, 18. Pasaje.\, Salamanca\, Salamanca\, 37001\, España
CATEGORIES:Presentaciones
ORGANIZER;CN="SOCYL - Asociaci&oacute%3Bn Profesional de Sociolog&iacute%3Ba de Castilla y Le&oacute%3Bn":MAILTO:directiva@socyl.es
END:VEVENT
BEGIN:VEVENT
DTSTART;TZID=UTC:20220526T200000
DTEND;TZID=UTC:20220526T213000
DTSTAMP:20260425T135142
CREATED:20220523T115541Z
LAST-MODIFIED:20220523T115710Z
UID:10003988-1653595200-1653600600@www.salamancalia.es
SUMMARY:Jueves Sociológico "Responsabilidad generacional corporativa"
DESCRIPTION:Fernando Camacho presenta de la mano de Agustín Huete García su primer libro de poemas\, «Responsabilidad Generacional Corporativa“\, un poemario en el que abundan las referencias generacionales\, los lugares comunes de un tiempo actual\, tantas veces definido: el desencanto\, la precariedad\, la apatía\, la desilusión. \nEn sus páginas leeremos la generación que ha vivido\, con internet\, con la crisis económica de 2008\, una interrupción del mundo tal como lo conocieron las generaciones anteriores a los millennials; en sus páginas leeremos esa generación que tiene que construir su propio futuro\, pero sin las herramientas que sus mayores dejaron; es decir\, sin demasiadas respuestas heredadas”. (https://www.diariodesevilla.es/delibros/fernando-camacho-responsabilidad-generacional-corporativa_0_1600941339.html) \nFernando Camacho (Sevilla\, 1991). Estudió el doble grado de Derecho y Ciencias Políticas sin demasiado éxito y\, debido a ello\, hoy en día realiza Estudios Ingleses e Historia del Arte. Ha publicado poemas en revistas como Maremágnum y coordina CerveCívica para el grupo Cámara Cívica\, dedicado a la divulgación de las Ciencias Sociales. Trabaja como guía turístico\, normalmente en el Museo del Prado. Responsabilidad Generacional Corporativa es su primer libro.
URL:https://www.salamancalia.es/evento/jueves-sociologico-responsabilidad-generacional-corporativa/
LOCATION:ARTILUGIO ESTUDIO\, Calle Azafranal\, 18. Pasaje.\, Salamanca\, Salamanca\, 37001\, España
CATEGORIES:Presentaciones
ORGANIZER;CN="SOCYL - Asociaci&oacute%3Bn Profesional de Sociolog&iacute%3Ba de Castilla y Le&oacute%3Bn":MAILTO:directiva@socyl.es
END:VEVENT
BEGIN:VEVENT
DTSTART;TZID=UTC:20220519T193000
DTEND;TZID=UTC:20220519T210000
DTSTAMP:20260425T135142
CREATED:20220513T081058Z
LAST-MODIFIED:20220513T081058Z
UID:10003112-1652988600-1652994000@www.salamancalia.es
SUMMARY:Jueves Sociológico "El feminismo queer es para todo el mundo"
DESCRIPTION:Presentación del libro «El feminismo queer es para todo el mundo» de Gracia Trujillo\, profesora de sociología en la Universidad Complutense de Madrid. Con Kerman Clavo\, profesor de sociología en la Universidad de Salamanca.
URL:https://www.salamancalia.es/evento/jueves-sociologico-el-feminismo-queer-es-para-todo-el-mundo/
LOCATION:ARTILUGIO ESTUDIO\, Calle Azafranal\, 18. Pasaje.\, Salamanca\, Salamanca\, 37001\, España
CATEGORIES:Presentaciones
ORGANIZER;CN="SOCYL - Asociaci&oacute%3Bn Profesional de Sociolog&iacute%3Ba de Castilla y Le&oacute%3Bn":MAILTO:directiva@socyl.es
END:VEVENT
BEGIN:VEVENT
DTSTART;TZID=UTC:20220331T193000
DTEND;TZID=UTC:20220331T210000
DTSTAMP:20260425T135142
CREATED:20220324T093907Z
LAST-MODIFIED:20220324T093907Z
UID:10003010-1648755000-1648760400@www.salamancalia.es
SUMMARY:Jueves Sociológico “Bulbancha: Música\, calle y resistencias desde Nueva Orleans”
DESCRIPTION:Presentación de “Bulbancha: Música\, calle y resistencias desde Nueva Orleans” con su autor\, Jacobo Rivero y Manuel Franco\, profesor en la Universidad de Alcalá. \nJueves 31 de marzo a las 19:30 en la sede de SOCYL (Artilugio Estudio. Calle Azafranal\, 18. Pasaje. Salamanca). \nBulbancha\, “lugar de muchas lenguas”\, era el nombre por el que los nativos americanos conocían el territorio sobre el que los colonos franceses construyeron la ciudad de Nueva Orleans para aprovechar las conexiones comerciales que favorecía el río Misisipi. La zona\, lastrada por unas condiciones climatológicas y geográficas desfavorables\, se convirtió desde sus orígenes en un lugar de encuentro\, refugio e intercambio cultural. Y también en el escenario de múltiples injusticias. A pesar de las circunstancias\, fue la primera ciudad de Estados Unidos que conto con un barrio afroamericano y una ópera\, y en sus calles se fraguó un género musical de carácter popular -el jazz- que revolucionó todo el planeta. \nA través de catorce historias en formato «documental» y de múltiples conversaciones con personas que están ligadas a la ciudad\, este libro nos ofrece un deslumbrante retrato de Nueva Orleans como espacio de cooperación colectiva y ejemplo de rebeldía política y artística. Sus páginas nos invitan a visitar Santiago de Cuba\, Haití o Lavapiés para reconstruir la fascinante historia de mestizaje cultural que ha dado lugar a lo que conocemos como sonido de Nueva Orleans. En el transcurso de ese viaje\, nos encontraremos con figuras como Louis Armstrong\, Federico García Lorca\, Sweet Emma\, Allen Toussaint\, James Booker\, Cole Williams o Leyla McCalla\, y también conoceremos de primera mano las desventuras y andanzas de la diáspora flamenca\, la incansable actividad del Black Lives Matter y la valiente lucha de las Brigadas Internacionales. Se trata\, pues\, de una obra apologética en la que se defiende la música como herramienta de resistencia\, la construcción de comunidades sólidas y la fuerza contestataria de la creatividad individual y colectiva. \nJacobo Rivero (Madrid\, 1974) es periodista. Ha colaborado y trabajado en numerosos medios de comunicación\, nacionales e internacionales. En la actualidad es colaborador de la revista Tinta Libre (Infolibre)\, de la publicación digital de política y cultura Ctxt y del periódico Diagonal. A lo largo de su intensa trayectoria laboral ha publicado en medios como ABC\, El País\, El Economista\, SModa\, Líbero\, Revista 21\, La Marea\, El diario.es\, Heraldo de Madrid\, Mundo Deportivo\, La Jornada (México)\, La Mula (Perú) y Junge Welt (Alemania).
URL:https://www.salamancalia.es/evento/jueves-sociologico-bulbancha-musica-calle-y-resistencias-desde-nueva-orleans/
LOCATION:ARTILUGIO ESTUDIO\, Calle Azafranal\, 18. Pasaje.\, Salamanca\, Salamanca\, 37001\, España
CATEGORIES:Presentaciones
ORGANIZER;CN="SOCYL - Asociaci&oacute%3Bn Profesional de Sociolog&iacute%3Ba de Castilla y Le&oacute%3Bn":MAILTO:directiva@socyl.es
END:VEVENT
BEGIN:VEVENT
DTSTART;TZID=UTC:20220210T193000
DTEND;TZID=UTC:20220210T210000
DTSTAMP:20260425T135142
CREATED:20220210T103455Z
LAST-MODIFIED:20220210T103642Z
UID:10002960-1644521400-1644526800@www.salamancalia.es
SUMMARY:Jueves Sociológico "La España en que nunca pasa nada"
DESCRIPTION:Presentación del libro «La España en la que nunca pasa nada: Periferias\, territorios intermedios y ciudades medias y pequeñas» de Sergio Andrés\, profesor de sociología en la Universidad de la Rioja. \nAbierto al público general.
URL:https://www.salamancalia.es/evento/jueves-sociologico-la-espana-en-que-nunca-pasa-nada/
LOCATION:ARTILUGIO ESTUDIO\, Calle Azafranal\, 18. Pasaje.\, Salamanca\, Salamanca\, 37001\, España
CATEGORIES:Presentaciones
ORGANIZER;CN="SOCYL - Asociaci&oacute%3Bn Profesional de Sociolog&iacute%3Ba de Castilla y Le&oacute%3Bn":MAILTO:directiva@socyl.es
END:VEVENT
END:VCALENDAR