BEGIN:VCALENDAR
VERSION:2.0
PRODID:-//Agenda cultural y eventos de ocio en Salamanca - ECPv6.15.20//NONSGML v1.0//EN
CALSCALE:GREGORIAN
METHOD:PUBLISH
X-WR-CALNAME:Agenda cultural y eventos de ocio en Salamanca
X-ORIGINAL-URL:https://www.salamancalia.es
X-WR-CALDESC:Eventos para Agenda cultural y eventos de ocio en Salamanca
REFRESH-INTERVAL;VALUE=DURATION:PT1H
X-Robots-Tag:noindex
X-PUBLISHED-TTL:PT1H
BEGIN:VTIMEZONE
TZID:UTC
BEGIN:STANDARD
TZOFFSETFROM:+0000
TZOFFSETTO:+0000
TZNAME:UTC
DTSTART:20210101T000000
END:STANDARD
END:VTIMEZONE
BEGIN:VEVENT
DTSTART;TZID=UTC:20220210T193000
DTEND;TZID=UTC:20220210T210000
DTSTAMP:20260425T152757
CREATED:20220210T103455Z
LAST-MODIFIED:20220210T103642Z
UID:10002960-1644521400-1644526800@www.salamancalia.es
SUMMARY:Jueves Sociológico "La España en que nunca pasa nada"
DESCRIPTION:Presentación del libro «La España en la que nunca pasa nada: Periferias\, territorios intermedios y ciudades medias y pequeñas» de Sergio Andrés\, profesor de sociología en la Universidad de la Rioja. \nAbierto al público general.
URL:https://www.salamancalia.es/evento/jueves-sociologico-la-espana-en-que-nunca-pasa-nada/
LOCATION:ARTILUGIO ESTUDIO\, Calle Azafranal\, 18. Pasaje.\, Salamanca\, Salamanca\, 37001\, España
CATEGORIES:Presentaciones
ORGANIZER;CN="SOCYL - Asociaci&oacute%3Bn Profesional de Sociolog&iacute%3Ba de Castilla y Le&oacute%3Bn":MAILTO:directiva@socyl.es
END:VEVENT
END:VCALENDAR