BEGIN:VCALENDAR
VERSION:2.0
PRODID:-//Agenda cultural y eventos de ocio en Salamanca - ECPv6.15.20//NONSGML v1.0//EN
CALSCALE:GREGORIAN
METHOD:PUBLISH
X-WR-CALNAME:Agenda cultural y eventos de ocio en Salamanca
X-ORIGINAL-URL:https://www.salamancalia.es
X-WR-CALDESC:Eventos para Agenda cultural y eventos de ocio en Salamanca
REFRESH-INTERVAL;VALUE=DURATION:PT1H
X-Robots-Tag:noindex
X-PUBLISHED-TTL:PT1H
BEGIN:VTIMEZONE
TZID:UTC
BEGIN:STANDARD
TZOFFSETFROM:+0000
TZOFFSETTO:+0000
TZNAME:UTC
DTSTART:20200101T000000
END:STANDARD
END:VTIMEZONE
BEGIN:VEVENT
DTSTART;TZID=UTC:20221017T180000
DTEND;TZID=UTC:20221017T200000
DTSTAMP:20260420T222914
CREATED:20221006T110254Z
LAST-MODIFIED:20221013T110302Z
UID:10004189-1666029600-1666036800@www.salamancalia.es
SUMMARY:Día de las escritoras
DESCRIPTION:Para celebrar la VII edición del Día de Escritoras y reivindicar la labor y el legado de las mujeres que han escrito a lo largo de la historia.  Lectura de textos en voz alta y debate a continuación sobre los mismos. \nActividad organizada en colaboración con la Biblioteca Nacional de España. \nDuración 2 horas. \nEntrada libre hasta completar el aforo.
URL:https://www.salamancalia.es/evento/dia-de-las-escritoras/
LOCATION:Biblioteca M. Torrente Ballester\, Paseo de los Olivos 10-22\, Salamanca\, Salamanca\, 37005\, España
CATEGORIES:Especiales
END:VEVENT
BEGIN:VEVENT
DTSTART;VALUE=DATE:20220305
DTEND;VALUE=DATE:20220327
DTSTAMP:20260420T222914
CREATED:20220304T115246Z
LAST-MODIFIED:20220308T093736Z
UID:10003687-1646438400-1648339199@www.salamancalia.es
SUMMARY:Jornadas de Música creada en Salamanca Inspirados por la MusSa
DESCRIPTION:Un recorrido por la música hecha en Salamanca\, a través de las portadas de los discos de los distintos músicos de la ciudad\, fotografías de sus conciertos y de algunos de sus instrumentos musicales con «historia». \nLos compositores e intérpretes salmantinos llevan décadas creando obras originales en diversos géneros: pop\, rock\, soul\, funky\, jazz\, tecno\, bandas sonoras\, música clásica\, rap metal y otros mil etcéteras. Sin embargo pocas de ellas son suficientemente conocidas ni siquiera a nivel local. Estas jornadas pretenden contribuir a su difusión. \nEl sábado 5 de Marzo a las 12:00 se inauguró en la Biblioteca Torrente Ballester las Jornadas “Inspirados por la MusSa”\, organizadas por A Nuestro Ritmo y la biblioteca. Este programa de Radio Oeste (ZOES)\, dirigido por el coordinador de estas jornadas Fernando Sánchez “Fercyborg”\, tiene la particularidad de estar dedicado exclusivamente a la música original de compositores salmantinos de cualquier estilo. \nY ése es precisamente el ámbito de estas jornadas\, que a través de una exposición\, dos mesas redondas y una proyección\, tienen como objetivos mostrar la riqueza y variedad de las creaciones de nuestra tierra\, darlas a conocer a un público más amplio\, y brindar homenaje a los autores e intérpretes que han desarrollado su carrera musical desde los años ’50 hasta la actualidad. \nOrganizada como un viaje por el tiempo en un trayecto cronológico\, la exposición\, que podrá visitarse desde el 5 al 26 de Marzo en horario de 11 a 14h y de 18 a 21h (excepto sábados tarde y domingo)\, contiene 84 fotografías\, 51 de las cuales correspondientes a músicos en activo\, obra de Miguel Ángel Montejo\, José Antonio Martín\, Alfonso Barco\, Carmen Borrego\, Flora Salamanca\, y FerCyborg. El resto pertenecen a la colección “Dónde estabas tú en el ‘77” que ha cedido la asociación Explorafoto 2008\, y que retratan a los músicos salmantinos pioneros de capital y provincia. \nSe exponen también 233 discos CDs\, procedentes de los fondos que la biblioteca pone a disposición de sus usuarios\, así como 14 discos de vinilo entre LPs y singles publicados desde el año 1971 hasta la actualidad; todos ellos grabados por músicos locales\, y en el caso de los más antiguos\, verdaderas piezas de colección. Muchos salmantinos desconocen la existencia de tal cantidad de creaciones de sus propios vecinos. \nNumerosos recortes de prensa con artículos\, noticias y fotografías de los artistas salmantinos nos permiten apreciar la escena local década a década\, incluyendo una colección de entrevistas de Salamanca Al Día\, reportajes de Tribuna de Salamanca y El Adelanto\, reproducciones de páginas de La Gaceta de Salamanca aportadas para la ocasión por su departamento de documentación\, y el fanzine El MES\, entre otros. \nLa exposición continúa con sendos homenajes a las asociaciones culturales que han apoyado la labor de los músicos: Amajazz\, Alamisa\, MUTE y el Colectivo de Músicos\, y a los festivales más populares de la ciudad: Tres Acordes Fest\, Perlas en las Conchas y Farinato Rock. \nEn la muestra podemos apreciar asimismo los 3 interesantísimos libros monográficos sobre música local: “Historia de la Música Moderna Salmantina” (1994) y “Hubo Noches de Rock & Roll” (2008)\, ambos de Juan Mari Montes\, y “Una Historia Incompleta del Pop y Rock en Salamanca (1959-los 80)” (2008)\, del periodista Víctor González Villarroel. \nCuatro pantallas mostrarán en bucle continuo otros tantos vídeos: “El Flautista de Hamelín” (1972)\, del Grupo 96\, que es el primer videoclip de un grupo salmantino; un pase de fotografías de músicos y bandas de los años 60 y 70\, creado por Chema Alonso; los vídeos de homenaje creados para celebrar el II Aniversario de A Nuestro Ritmo; y las imágenes de todos los artistas entrevistados en dicho programa. \nSe celebrarán asimismo dos mesas redondas moderadas por Fernando Sánchez. El miércoles 9 de Marzo a las 19:00\, “Malos tiempos para la Lírica”\, dedicada a analizar la situación y dificultades que afrontan los creadores salmantinos a la hora de difundir su música y convertirla en una salida laboral. Contará con la participación de Clara Martín\, cantante de Lulú & the Rockets\, Javier Hernández\, integrante del grupo de metal Kritter\, Chefo Martín\, de Godaiva\, y Mariano Iglesias\, de Rockin’ Hellfire. \nLa segunda mesa redonda\, bajo el título de “La Unión hace la fuerza”\, reunirá a las 19h del miércoles 23 de Marzo a representantes de las asociaciones musicales antes citadas: Fernando Viñals\, fundador de Amajazz\, Cote Campusano por Alamisa\, Daniel del Amo “Jabalí” por el Colectivo de Músicos de Salamanca\, y Juan José Valle\, portavoz de MUTE Ibérica en nuestra ciudad\, que comentarán la necesidad de este tipo de iniciativas y los éxitos que han logrado en su ámbito. \nPor último\, la clausura de las Jornadas MusSa se acompañará de la proyección del imprescindible documental “Rock en Salamanca”\, un trabajo realizado en 1989 por estudiantes de la Facultad de Bellas Artes\, que contiene entrevistas a diversos músicos locales y reflexiones sobre los retos que encaraban\, permitiéndonos diagnosticar claramente el estado de la escena musical de la “movida salmantina”. \nTras la proyección 33 años después de su grabación de este reportaje prácticamente inédito y muy difícil de encontrar\, disfrutaremos de un coloquio con algunos de los realizadores y los músicos entrevistados\, que dará fin a estas completas jornadas. \nTodas las actividades se desarrollarán en la Biblioteca Torrente Ballester (Pº de los Olivos\, 10)\, con acceso libre y gratuito. \nHorarios\n\nLunes a viernes\, de 11:00 a 14:00 h. y de 18:00 a 21:00 h\nSábados tarde y festivos cerrado
URL:https://www.salamancalia.es/evento/jornadas-de-musica-creada-en-salamanca-inspirados-por-la-mussa/
LOCATION:Biblioteca M. Torrente Ballester\, Paseo de los Olivos 10-22\, Salamanca\, Salamanca\, 37005\, España
CATEGORIES:Conciertos
END:VEVENT
BEGIN:VEVENT
DTSTART;TZID=UTC:20220217T200000
DTEND;TZID=UTC:20220217T200000
DTSTAMP:20260420T222914
CREATED:20220215T083447Z
LAST-MODIFIED:20220215T083447Z
UID:10002966-1645128000-1645128000@www.salamancalia.es
SUMMARY:Big Band de la Universidad
DESCRIPTION:En la biblioteca\, Jazz es Invierno.
URL:https://www.salamancalia.es/evento/big-band-de-la-universidad/
LOCATION:Biblioteca M. Torrente Ballester\, Paseo de los Olivos 10-22\, Salamanca\, Salamanca\, 37005\, España
CATEGORIES:Conciertos
END:VEVENT
BEGIN:VEVENT
DTSTART;VALUE=DATE:20220127
DTEND;VALUE=DATE:20220218
DTSTAMP:20260420T222914
CREATED:20220201T093504Z
LAST-MODIFIED:20220201T093504Z
UID:10003550-1643241600-1645142399@www.salamancalia.es
SUMMARY:I Festival de Jazz en la biblioteca municipal Torrente Ballester
DESCRIPTION:Jazz es Invierno. \nConsulta los artistas y las fechas aquí. \nSi quieres conocer todo el programa de actividades de enero-marzo 2022 en las bibliotecas municipales entra aquí.
URL:https://www.salamancalia.es/evento/i-festival-de-jazz-en-la-biblioteca-municipal-torrente-ballester/
LOCATION:Biblioteca M. Torrente Ballester\, Paseo de los Olivos 10-22\, Salamanca\, Salamanca\, 37005\, España
CATEGORIES:Conciertos
END:VEVENT
BEGIN:VEVENT
DTSTART;VALUE=DATE:20211210
DTEND;VALUE=DATE:20211213
DTSTAMP:20260420T222914
CREATED:20211210T180744Z
LAST-MODIFIED:20211210T180744Z
UID:10003341-1639094400-1639353599@www.salamancalia.es
SUMMARY:XV Festival de Magia
DESCRIPTION:Lugar: Teatro y salas de la Biblioteca M. Torrente Ballester (Invitaciones en las bibliotecas municipales) \nHorario\nViernes 10: \n\n18:30 h.           Magia entre los libros: El Escalón Mágico (Salamanca)\n20:00 h.           Gala de magia: Raúl Alegría (Santander). (A partir de 4 años)\n22:30 h.           Magia de cerca: Iván Mora (Madrid) (Mayores de 14 años)\n\n  \nSábado 11: \n\n18:00 h.           Sala 1: Jorge Rastrel (Salamanca)\n18:00 h.           Sala 2: Guille Barru (Salamanca)\n19:00 h.           Sala 1: Jorge Rastrel (Salamanca)\n19:00 h.           Sala 2: Guille Barru (Salamanca)    (A partir de 4 años)\n20:00 h.           Gala infantil de magia: Mago Scott (Madrid) (A partir de 4 años)\n22:30 h.           Magia para adultos: Pedro Majo y Juan Colás (Salamanca) (Mayores de 14 años)\n\n  \nDomingo 12: \n\n12:00 h.           Magia para bebés: Kayto (Madrid)\n18:30 h.           Gala infantil de magia: Nano Arranz (Valladolid) (A partir de 4 años)
URL:https://www.salamancalia.es/evento/xv-festival-de-magia/
LOCATION:Biblioteca M. Torrente Ballester\, Paseo de los Olivos 10-22\, Salamanca\, Salamanca\, 37005\, España
CATEGORIES:Magia,Ocio Infantil
END:VEVENT
BEGIN:VEVENT
DTSTART;VALUE=DATE:20211204
DTEND;VALUE=DATE:20211209
DTSTAMP:20260420T222914
CREATED:20211201T093843Z
LAST-MODIFIED:20211201T094056Z
UID:10003274-1638576000-1639007999@www.salamancalia.es
SUMMARY:5º encuentro de payasas de Salamanca: "A una nariz pegadas"
DESCRIPTION:Se entregará un máximo de 6 entradas por persona\, que se podrán solicitar según la siguiente distribución: \nSábado 4\n\n19:30 h. Gala Cabaret (adultos)\, hasta 2 entradas por persona\n\nDomingo 5\n\n19:30 h. Proyecto Pez\, Las Couchers (adultos)\, hasta 2 entradas por persona\n\nLunes 6\n\n12:30 h. Martademarte Papanatas Band (todos los públicos)\, hasta 2 entradas por persona\n19:30 h. Mirella Miracle. Rojo (todos los públicos)\, hasta 2 entradas por persona\n\nMartes 7\n\n19:30 h. Gala Cabaret (adultos)\, hasta 2 entradas por persona\n\nMiércoles 8\n\n12:30 h. La Pai\, Llamame Mari (a partir de 6 años)\, hasta 2 entradas por persona\n\n  \nLas invitaciones comenzarán a repartirse el lunes 29 de noviembne y se dejara un 10% para repartir media hora antes de cada espectáculo en la B.P.M. Torrente Ballester (las bibliotecas de La Vega\, Vidal y Vistahermosa comenzarán a repartirse a partir de las 17:00 h.)
URL:https://www.salamancalia.es/evento/5o-encuentro-de-payasas-de-salamanca-a-una-nariz-pegadas/
LOCATION:Biblioteca M. Torrente Ballester\, Paseo de los Olivos 10-22\, Salamanca\, Salamanca\, 37005\, España
CATEGORIES:Espectáculo humorístico,Teatro / Escena
END:VEVENT
BEGIN:VEVENT
DTSTART;TZID=UTC:20211126T190000
DTEND;TZID=UTC:20211126T190000
DTSTAMP:20260420T222914
CREATED:20211116T103541Z
LAST-MODIFIED:20211116T110942Z
UID:10003247-1637953200-1637953200@www.salamancalia.es
SUMMARY:El retumbar de los tambores
DESCRIPTION:Presentación del libro «El retumbar de los tambores» de la escritora Miriam Herrán de Viu.
URL:https://www.salamancalia.es/evento/el-retumbar-de-los-tambores/
LOCATION:Biblioteca M. Torrente Ballester\, Paseo de los Olivos 10-22\, Salamanca\, Salamanca\, 37005\, España
CATEGORIES:Presentaciones
END:VEVENT
BEGIN:VEVENT
DTSTART;TZID=UTC:20211023T200000
DTEND;TZID=UTC:20211023T200000
DTSTAMP:20260420T222914
CREATED:20211022T095700Z
LAST-MODIFIED:20211104T084839Z
UID:10003222-1635019200-1635019200@www.salamancalia.es
SUMMARY:Paco González. Magia para adultos
DESCRIPTION:En este espectáculo\, Paco González invita al espectador a desprenderse de sus ideas preestablecidas. Explorar la experiencia escénica desde la sensibilidad y la intuición\, recuperar una mirada espontánea y libre del misterio de la naturaleza\, es reivindicar el sentido profundo de la vida. A través de una cuidada selección de sus mejores efectos de magia\, Paco González plantea a sus espectadores diferentes retos y experiencias inéditas en el campo del ilusionismo. El asombro y la poética de lo inefable conforman esta propuesta. Un antídoto contra la náusea existencial de Darwin\, que es la náusea de un mundo que sucumbe a los delirios del ultraracionalismo más exacerbado.
URL:https://www.salamancalia.es/evento/paco-gonzalez-magia-para-adultos/
LOCATION:Biblioteca M. Torrente Ballester\, Paseo de los Olivos 10-22\, Salamanca\, Salamanca\, 37005\, España
CATEGORIES:Teatro / Escena
END:VEVENT
BEGIN:VEVENT
DTSTART;TZID=UTC:20211007T200000
DTEND;TZID=UTC:20211007T200000
DTSTAMP:20260420T222914
CREATED:20210930T144841Z
LAST-MODIFIED:20210930T144841Z
UID:10002734-1633636800-1633636800@www.salamancalia.es
SUMMARY:II Aniversario de A Nuestro Ritmo en Radio Oeste
DESCRIPTION:Concierto con varias bandas salmantinas para agradecer a los grupos que han acudido al programa «A Nuestro Ritmo» así como a ZOES y a la Biblioteca Torrente Ballester. \nArtistas que actuarán: \n\nThe Black Chillies\nLulú & The Rockets\nGodaiva\nSanti Tamariz\nRai Anciola\ny alguna sorpresa …\n\nSe podrán adquirir discos de diversos grupos salmantinos.
URL:https://www.salamancalia.es/evento/ii-aniversario-de-a-nuestro-ritmo-en-radio-oeste/
LOCATION:Biblioteca M. Torrente Ballester\, Paseo de los Olivos 10-22\, Salamanca\, Salamanca\, 37005\, España
CATEGORIES:Conciertos
END:VEVENT
BEGIN:VEVENT
DTSTART;VALUE=DATE:20210917
DTEND;VALUE=DATE:20211015
DTSTAMP:20260420T222914
CREATED:20210916T164314Z
LAST-MODIFIED:20210917T091048Z
UID:10003162-1631836800-1634255999@www.salamancalia.es
SUMMARY:"Tutu" y "Camino de Minas"
DESCRIPTION:Exposición de pintura de Carolina C. Ramos «Tutu» y exposición de dibujo\, pintura y poesía de David Sánchez «Camino de Minas» (textos de Miguel Ángel Hernández) en la biblioteca Torrente Ballester. \nInauguración el viernes 17 a las 19:00. \nHorario\n\nDe lunes a viernes de 11:00 a 14:00 y de 18:00 a 21:00\nSábados de 11:00 a 14:00
URL:https://www.salamancalia.es/evento/tutu-y-camino-de-minas/
LOCATION:Biblioteca M. Torrente Ballester\, Paseo de los Olivos 10-22\, Salamanca\, Salamanca\, 37005\, España
CATEGORIES:Exposiciones
END:VEVENT
BEGIN:VEVENT
DTSTART;TZID=UTC:20210702T220000
DTEND;TZID=UTC:20210820T220000
DTSTAMP:20260420T222914
CREATED:20210627T211929Z
LAST-MODIFIED:20210628T121619Z
UID:10003048-1625263200-1629496800@www.salamancalia.es
SUMMARY:Cine al aire libre: estamos aquí
DESCRIPTION:En la plaza de la biblioteca M. Torrente Ballester\, durante todos los viernes comprendidos entre el 2 de julio y el 20 de agosto\, se realizarán proyecciones de diferentes películas. Todas ellas tratan de dar visibilidad a las mujeres\, quienes han sido silenciadas durante siglos en nuestra historia. \nEntrada libre hasta completar el aforo. \nPelículas con fechas y horario: \n\nLa princesa Mononoke – 22.30 – 2 de julio\nAdele y el misterio de la momia – 22.30 – 9 de julio\nLa bicicleta verde – 22.30 – 16 de julio\nDilili en París – 22.30 – 23 de julio\nFiguras ocultas – 22.30 – 30 de julio\nPersépolis – 22.00 – 6 de agosto\nDora y la ciudad perdida – 22.00 – 13 de agosto\nMujercitas – 22.00 – 20 de agosto
URL:https://www.salamancalia.es/evento/cine-al-aire-libre-estamos-aqui/
LOCATION:Biblioteca M. Torrente Ballester\, Paseo de los Olivos 10-22\, Salamanca\, Salamanca\, 37005\, España
CATEGORIES:Cine
END:VEVENT
BEGIN:VEVENT
DTSTART;TZID=UTC:20210701T213000
DTEND;TZID=UTC:20210826T213000
DTSTAMP:20260420T222914
CREATED:20210627T212815Z
LAST-MODIFIED:20210701T100711Z
UID:10003051-1625175000-1630013400@www.salamancalia.es
SUMMARY:Verano se escribe con Blues
DESCRIPTION:V festival de blues de la Biblioteca Torrente Ballester. Se celebrará diversos los jueves desde el 1 de julio hasta el 26 de agosto. \nEntrada libre hasta completar el aforo. \nConciertos: \n\nBarney’s Band: 1 de julio\, 21.30\nCésar Crespo & Javi Suárez Blues review: 15 de julio\, 21.30\nDr. Maha’s Miracle Tonic: 29 de julio\, 21.30\nGene García: 12 de agosto\, 21.30\nSabela King & The Heartbreakers: 26 de agosto\, 21.30\n\n \n 
URL:https://www.salamancalia.es/evento/verano-se-escribe-con-blues/
LOCATION:Biblioteca M. Torrente Ballester\, Paseo de los Olivos 10-22\, Salamanca\, Salamanca\, 37005\, España
CATEGORIES:Conciertos
END:VEVENT
BEGIN:VEVENT
DTSTART;TZID=UTC:20210605T193000
DTEND;TZID=UTC:20210605T193000
DTSTAMP:20260420T222914
CREATED:20210603T073226Z
LAST-MODIFIED:20210603T073226Z
UID:10002637-1622921400-1622921400@www.salamancalia.es
SUMMARY:O cara o cruz
DESCRIPTION:Eugenia Manzanera. \n«OCARAOCRUZ es un espectáculo versátil de pequeño formato\, capaz de adaptarse a diferentes espacios donde historias\, canciones\, azares\, lances\, supersticiones\, paranoias\, cantinelas\, dimes y diretes se entretejen. \nEmpezamos el “CHOU” jugando. \nLanzamos una moneda al aire para comenzar. Lanzamos una moneda al aire para acabar. \n¿Qué ocurre entre medias? LA VIDA\, con sus suertes\, sus sueños\, sus historias…» \nInvitaciones en las Bibliotecas Municipales
URL:https://www.salamancalia.es/evento/o-cara-o-cruz/
LOCATION:Biblioteca M. Torrente Ballester\, Paseo de los Olivos 10-22\, Salamanca\, Salamanca\, 37005\, España
CATEGORIES:Ocio Infantil,Teatro / Escena
END:VEVENT
BEGIN:VEVENT
DTSTART;TZID=UTC:20210529T193000
DTEND;TZID=UTC:20210529T193000
DTSTAMP:20260420T222914
CREATED:20210527T145421Z
LAST-MODIFIED:20210527T145511Z
UID:10002932-1622316600-1622316600@www.salamancalia.es
SUMMARY:A media luz los tres
DESCRIPTION:Trébol Teatro Ateneo \n\nTeatro para adultos\nEspectáculos de grupos amateur de Salamanca\nInvitaciones en las Bibliotecas Municipales\n\nSinopsis\n«Esta es la historia de un hombre llamado Alfredo\, que vive solo en su pisito. Alfredo se cree superior a las mujeres\, a las que desprecia y considera tontas y presas fáciles\, trofeos de su colección. Pero en el fondo no puede vivir sin ellas y dedica su vida a conquistarlas con trucos y estratagemas algo ridículas y burdas\, creyéndose un gran experto en el tema. Todas sus cuitas las comparte con su amigo Sebastián el cual está casado y vive despreocupado de las mujeres y sus cosas. Es precisamente esa despreocupación la que hace que todas estén locas tras él.» \n  \n 
URL:https://www.salamancalia.es/evento/a-media-luz-los-tres/
LOCATION:Biblioteca M. Torrente Ballester\, Paseo de los Olivos 10-22\, Salamanca\, Salamanca\, 37005\, España
CATEGORIES:Teatro / Escena
END:VEVENT
BEGIN:VEVENT
DTSTART;VALUE=DATE:20210518
DTEND;VALUE=DATE:20210619
DTSTAMP:20260420T222914
CREATED:20210519T085422Z
LAST-MODIFIED:20210519T085422Z
UID:10002599-1621296000-1624060799@www.salamancalia.es
SUMMARY:El elogio del silencio
DESCRIPTION:Montaje de fotografías\, vídeos e instalaciones\, que giran en torno a la búsqueda del silencio interior\, alejado del ruido mediático. \nUna visión personal y positiva sobre el silencio\, que nos muestra el colectivo El Cobijo\, integrado por la diseñadora y artista plástica María Riera y las fotógrafas Raquel Barbero y Cris García-Camino.⁣ \nHorario\nDe 11:00 a 14:00 y de 18:00 a 21:00 (excepto sábados tarde y festivos).⁣
URL:https://www.salamancalia.es/evento/el-elogio-del-silencio/
LOCATION:Biblioteca M. Torrente Ballester\, Paseo de los Olivos 10-22\, Salamanca\, Salamanca\, 37005\, España
CATEGORIES:Exposiciones
END:VEVENT
BEGIN:VEVENT
DTSTART;VALUE=DATE:20210415
DTEND;VALUE=DATE:20210514
DTSTAMP:20260420T222914
CREATED:20210420T103148Z
LAST-MODIFIED:20210420T103148Z
UID:10002564-1618444800-1620950399@www.salamancalia.es
SUMMARY:Tiempo Entretelas. Trazo Sonoro Exposición de Reyes López Fonseca y Fernando De Castro Cardoso
DESCRIPTION:La exposición muestra un diálogo entre imágenes y palabras\, que nos acercará al mágico universo del haiku: la historia\, los haijins\, las publicaciones y los objetos nos ayudarán a comprender esta herencia del antiguo Japón. \nEl origen del haiku sigue la estricta regla 5-7-5\, y su historia se remonta al siglo XVI. Algunos eruditos lo asocian formalmente con Katauta\, un poema corto que oscila entre estas pautas y pautas similares. En la rígida combinación actual\, la forma de 17 sílabas está absolutamente determinada\, que es sin duda la forma que produce el efecto poético más asombroso. La oración en sí es una unidad\, un poema simple y completo. El gran maestro y creador de Matsuo Basso dejó esta definición para las generaciones futuras: «Haiku es exactamente lo que está sucediendo en este momento».
URL:https://www.salamancalia.es/evento/tiempo-entretelas-trazo-sonoro-exposicion-de-reyes-lopez-fonseca-y-fernando-de-castro-cardoso/
LOCATION:Biblioteca M. Torrente Ballester\, Paseo de los Olivos 10-22\, Salamanca\, Salamanca\, 37005\, España
CATEGORIES:Exposiciones
END:VEVENT
BEGIN:VEVENT
DTSTART;TZID=UTC:20210320T123000
DTEND;TZID=UTC:20210320T183000
DTSTAMP:20260420T222914
CREATED:20210309T093902Z
LAST-MODIFIED:20210309T155132Z
UID:10002549-1616243400-1616265000@www.salamancalia.es
SUMMARY:Zapatos Nuevos. Tian Gombau-L'home Dibuixat (Castellón)
DESCRIPTION:Teatro infantil (a partir de 4 años). Duración:30 minutos \nUn niño estrena zapatos y se va al río a merendar. Por el camino\, descubre el mundo que lo rodea: calles\, casas\, paisajes\, personas y animales. Suszapatos van acumulando experiencias y él\, poco a poco\, crece. El tamaño de los zapatos nos acompaña en el transcurso de los años. El tamaño mide el pie\, pero también la edad\, las vivencias\, la forma como caminamos por la vida. Pasan los días\, los años y las cajas de zapatos. Pequeñas\, medianas\, grandes… \nInvitaciones en las Bibliotecas Municipales.
URL:https://www.salamancalia.es/evento/zapatos-nuevos-tian-gombau-lhome-dibuixat-castellon/
LOCATION:Biblioteca M. Torrente Ballester\, Paseo de los Olivos 10-22\, Salamanca\, Salamanca\, 37005\, España
CATEGORIES:Ocio Infantil,Teatro / Escena
END:VEVENT
BEGIN:VEVENT
DTSTART;TZID=UTC:20210318T180000
DTEND;TZID=UTC:20210318T180000
DTSTAMP:20260420T222914
CREATED:20210309T093452Z
LAST-MODIFIED:20210309T155124Z
UID:10002546-1616090400-1616090400@www.salamancalia.es
SUMMARY:Coyote
DESCRIPTION:Formada por seis músicos (Antonio Llorente- guitarra y voz; Bruno Martín- guitarra; Iván Muñoz- saxo; Arturo Martín- teclado; Carlos Martín- bajo y Esteban Lavigne- batería)\, Coyote es una agrupación salmantina que fusiona el rock con estilos como el funk\, jazz y neosoul. \n(Invitaciones en las Bibliotecas Municipales)
URL:https://www.salamancalia.es/evento/coyote/
LOCATION:Biblioteca M. Torrente Ballester\, Paseo de los Olivos 10-22\, Salamanca\, Salamanca\, 37005\, España
CATEGORIES:Conciertos
END:VEVENT
BEGIN:VEVENT
DTSTART;TZID=UTC:20210313T180000
DTEND;TZID=UTC:20210313T180000
DTSTAMP:20260420T222914
CREATED:20210309T093103Z
LAST-MODIFIED:20210309T155054Z
UID:10002545-1615658400-1615658400@www.salamancalia.es
SUMMARY:Soñando Dulcinea. La Befana (Salamanca)
DESCRIPTION:Teatro para adultos. \nLa pluma de Cervantes nos regaló a este personaje que ya sin remedio forma parte de nuestro imaginario sobre el amor. Don Quijote la deseó\, la amó de forma incondicional; transformó a la mujer sencilla\, elevándola a la categoría de princesa\, de señora que todo caballero desearía tener a su lado\, batiéndose\, incluso\, en duelo por defender su nombre y su honor.
URL:https://www.salamancalia.es/evento/sonando-dulcinea-la-befana-salamanca/
LOCATION:Biblioteca M. Torrente Ballester\, Paseo de los Olivos 10-22\, Salamanca\, Salamanca\, 37005\, España
CATEGORIES:Teatro / Escena
END:VEVENT
BEGIN:VEVENT
DTSTART;TZID=UTC:20210313T120000
DTEND;TZID=UTC:20210313T120000
DTSTAMP:20260420T222914
CREATED:20210309T092732Z
LAST-MODIFIED:20210309T155049Z
UID:10002542-1615636800-1615636800@www.salamancalia.es
SUMMARY:Encuentro con la ilustradora Leticia Ruifernández
DESCRIPTION:«Yo voy soñando caminos».  Encuentro con la ilustradora Leticia Ruifernández\nEncuentros con los lectores. \nLa ilustradora Leticia Ruifernández vendrá a contarnos cómo ha sido el proceso creativo de Yo voy soñando caminos\, la antología de textos de Machado realizada por Antonio Rodríguez Almodóvar y con epílogo de Julio Llamazares.
URL:https://www.salamancalia.es/evento/encuentro-con-la-ilustradora-leticia-ruifernandez/
LOCATION:Biblioteca M. Torrente Ballester\, Paseo de los Olivos 10-22\, Salamanca\, Salamanca\, 37005\, España
CATEGORIES:Presentaciones
END:VEVENT
BEGIN:VEVENT
DTSTART;TZID=UTC:20210311T180000
DTEND;TZID=UTC:20210311T180000
DTSTAMP:20260420T222914
CREATED:20210309T092346Z
LAST-MODIFIED:20210309T155042Z
UID:10002539-1615485600-1615485600@www.salamancalia.es
SUMMARY:César Tejero Trío
DESCRIPTION:Sonidos balsámicos\, tiernos\, sugerentes\, delicados\, atávicos… Sonidos enérgicos\, abruptos\, silencios sorpresivos y marcadas dinámicas\, se entretejen creando un lenguaje propio. Sonidos que invitan al oyente a viajar por atmósferas que nos transportan en el tiempo\, nos trasladan por diversas latitudes y estimulan la imaginación hacia paisajes evocadores y oníricos. \nLugar: Teatro de la Biblioteca M. Torrente Ballester (Invitaciones en las Bibliotecas Municipales)
URL:https://www.salamancalia.es/evento/cesar-tejero-trio/
LOCATION:Biblioteca M. Torrente Ballester\, Paseo de los Olivos 10-22\, Salamanca\, Salamanca\, 37005\, España
CATEGORIES:Conciertos
END:VEVENT
BEGIN:VEVENT
DTSTART;VALUE=DATE:20210303
DTEND;VALUE=DATE:20210328
DTSTAMP:20260420T222914
CREATED:20210309T091752Z
LAST-MODIFIED:20210309T165820Z
UID:10002536-1614729600-1616889599@www.salamancalia.es
SUMMARY:Inspirados por la MusSA. Jornadas de música creada en Salamanca
DESCRIPTION:Un recorrido por la música hecha en Salamanca\, a través de las portadas de los discos de los distintos músicos de la ciudad\, fotografías de sus conciertos y de algunos desus instrumentos musicales con “historia”. \nHorario: de 11’00 a 14’00 h. y de 18’00 a cierre excepto sábados tarde y festivos \nLugar: Sala de exposiciones de la Biblioteca M. Torrente Ballester
URL:https://www.salamancalia.es/evento/inspirados-por-la-mussa-jornadas-de-musica-creada-en-salamanca/
LOCATION:Biblioteca M. Torrente Ballester\, Paseo de los Olivos 10-22\, Salamanca\, Salamanca\, 37005\, España
CATEGORIES:Exposiciones
END:VEVENT
END:VCALENDAR