BEGIN:VCALENDAR
VERSION:2.0
PRODID:-//Agenda cultural y eventos de ocio en Salamanca - ECPv6.15.20//NONSGML v1.0//EN
CALSCALE:GREGORIAN
METHOD:PUBLISH
X-WR-CALNAME:Agenda cultural y eventos de ocio en Salamanca
X-ORIGINAL-URL:https://www.salamancalia.es
X-WR-CALDESC:Eventos para Agenda cultural y eventos de ocio en Salamanca
REFRESH-INTERVAL;VALUE=DURATION:PT1H
X-Robots-Tag:noindex
X-PUBLISHED-TTL:PT1H
BEGIN:VTIMEZONE
TZID:UTC
BEGIN:STANDARD
TZOFFSETFROM:+0000
TZOFFSETTO:+0000
TZNAME:UTC
DTSTART:20200101T000000
END:STANDARD
END:VTIMEZONE
BEGIN:VEVENT
DTSTART;TZID=UTC:20210414T193000
DTEND;TZID=UTC:20210414T193000
DTSTAMP:20260421T043949
CREATED:20210311T121403Z
LAST-MODIFIED:20210311T170122Z
UID:10002668-1618428600-1618428600@www.salamancalia.es
SUMMARY:Los afectos diversos
DESCRIPTION:SALAMANCA BARROCA 20/21 \nOfficium defunctorum – Novo Modo\nNacho Rodríguez | director. \nLos Afectos Diversos se enfrenta en este concierto a uno de los grandes retos de cualquier grupo polifónico del mundo\, el Officium defunctorum de Tomás Luis de Victoria. Compuesto en 1603 a la muerte de la emperatriz María\, que vivía retirada en el convento de las Descalzas Reales de Madrid… más información y el programa en la web del evento.
URL:https://www.salamancalia.es/evento/los-afectos-diversos/
LOCATION:Capilla del Colegio Fonseca\, Calle Fonseca\, 4\, Salamanca\, Salamanca\, 37002\, España
CATEGORIES:Conciertos
END:VEVENT
END:VCALENDAR