BEGIN:VCALENDAR
VERSION:2.0
PRODID:-//Agenda cultural y eventos de ocio en Salamanca - ECPv6.15.20//NONSGML v1.0//EN
CALSCALE:GREGORIAN
METHOD:PUBLISH
X-WR-CALNAME:Agenda cultural y eventos de ocio en Salamanca
X-ORIGINAL-URL:https://www.salamancalia.es
X-WR-CALDESC:Eventos para Agenda cultural y eventos de ocio en Salamanca
REFRESH-INTERVAL;VALUE=DURATION:PT1H
X-Robots-Tag:noindex
X-PUBLISHED-TTL:PT1H
BEGIN:VTIMEZONE
TZID:UTC
BEGIN:STANDARD
TZOFFSETFROM:+0000
TZOFFSETTO:+0000
TZNAME:UTC
DTSTART:20200101T000000
END:STANDARD
END:VTIMEZONE
BEGIN:VEVENT
DTSTART;VALUE=DATE:20220525
DTEND;VALUE=DATE:20220530
DTSTAMP:20260420T202404
CREATED:20220526T092750Z
LAST-MODIFIED:20220526T092750Z
UID:10003134-1653436800-1653868799@www.salamancalia.es
SUMMARY:XXXIV Semana Cultural 2022
DESCRIPTION:Programación de la Semana Cultural organizada por la asociación de vecinos Navega
URL:https://www.salamancalia.es/evento/xxxiv-semana-cultural-2022/
LOCATION:Centro Comercial Vialia\, Paseo de la Estación\, 122\, Salamanca\, Salamanca\, 37004\, España
CATEGORIES:Ferias y fiestas | Festivales
END:VEVENT
BEGIN:VEVENT
DTSTART;TZID=UTC:20220429T100000
DTEND;TZID=UTC:20220501T213000
DTSTAMP:20260420T202404
CREATED:20220427T104440Z
LAST-MODIFIED:20220427T104500Z
UID:10003042-1651226400-1651440600@www.salamancalia.es
SUMMARY:Feria Internacional de Coleccionismo Discográfico y Cinematográfico
DESCRIPTION:Feria del Disco.
URL:https://www.salamancalia.es/evento/feria-internacional-de-coleccionismo-discografico-y-cinematografico/
LOCATION:Centro Comercial Vialia\, Paseo de la Estación\, 122\, Salamanca\, Salamanca\, 37004\, España
CATEGORIES:Ferias y fiestas | Festivales
END:VEVENT
BEGIN:VEVENT
DTSTART;VALUE=DATE:20220329
DTEND;VALUE=DATE:20220418
DTSTAMP:20260420T202404
CREATED:20220406T074005Z
LAST-MODIFIED:20220406T074005Z
UID:10003796-1648512000-1650239999@www.salamancalia.es
SUMMARY:Concurso de Cuentos Infantiles vialia ESTACIÓN DE SALAMANCA
DESCRIPTION:Participa con un Cuento de Tema libre en el concurso de Cuentos infantiles Vialia. \nInformación de las bases en infovialia@grupofissa.com
URL:https://www.salamancalia.es/evento/concurso-de-cuentos-infantiles-vialia-estacion-de-salamanca/
LOCATION:Centro Comercial Vialia\, Paseo de la Estación\, 122\, Salamanca\, Salamanca\, 37004\, España
CATEGORIES:Concursos,Ocio Infantil
END:VEVENT
BEGIN:VEVENT
DTSTART;TZID=UTC:20220326T183000
DTEND;TZID=UTC:20220326T200000
DTSTAMP:20260420T202404
CREATED:20220311T084412Z
LAST-MODIFIED:20220311T084412Z
UID:10003711-1648319400-1648324800@www.salamancalia.es
SUMMARY:Aniversario Vialia Salamanca
DESCRIPTION:Vialia Salamanca está de Aniversario y queremos celebrarlo contigo. \n\nEl sábado 12 de marzo\, 18:30h\, ¿Magia o Ilusionismo? Ven a descubrirlo de la mano de Yago Barral.\nEl sábado 19 de marzo\, 18:30h\, La batucada más grande de toda Salamanca\, con Blocco Charro.\nEl sábado 26 de marzo\, 18:00h\, Talleres de cocina en Salamanca\, con La Cocinita Mágica.\n\nProgramación especial en la ludoteca de Vialia. \n\n3\, 4 y 5 de marzo\, Miniolipiadas en el tren de colores.\n11\, 12 y 13 de marzo\, La leyenda del Tormes y sus ondinas.\n18\, 19 y 20 de marzo\, Superpapás inmantados.\n25\, 26 y 27 de marzo\, Gymnkhana del ciclo del agua.
URL:https://www.salamancalia.es/evento/aniversario-vialia-salamanca/2022-03-26/
LOCATION:Centro Comercial Vialia\, Paseo de la Estación\, 122\, Salamanca\, Salamanca\, 37004\, España
CATEGORIES:Conciertos,Cursos y Talleres,Especiales,Ferias y fiestas | Festivales,Magia,Ocio Infantil
END:VEVENT
BEGIN:VEVENT
DTSTART;TZID=UTC:20220319T183000
DTEND;TZID=UTC:20220319T200000
DTSTAMP:20260420T202404
CREATED:20220311T084412Z
LAST-MODIFIED:20220311T084412Z
UID:10003710-1647714600-1647720000@www.salamancalia.es
SUMMARY:Aniversario Vialia Salamanca
DESCRIPTION:Vialia Salamanca está de Aniversario y queremos celebrarlo contigo. \n\nEl sábado 12 de marzo\, 18:30h\, ¿Magia o Ilusionismo? Ven a descubrirlo de la mano de Yago Barral.\nEl sábado 19 de marzo\, 18:30h\, La batucada más grande de toda Salamanca\, con Blocco Charro.\nEl sábado 26 de marzo\, 18:00h\, Talleres de cocina en Salamanca\, con La Cocinita Mágica.\n\nProgramación especial en la ludoteca de Vialia. \n\n3\, 4 y 5 de marzo\, Miniolipiadas en el tren de colores.\n11\, 12 y 13 de marzo\, La leyenda del Tormes y sus ondinas.\n18\, 19 y 20 de marzo\, Superpapás inmantados.\n25\, 26 y 27 de marzo\, Gymnkhana del ciclo del agua.
URL:https://www.salamancalia.es/evento/aniversario-vialia-salamanca/2022-03-19/
LOCATION:Centro Comercial Vialia\, Paseo de la Estación\, 122\, Salamanca\, Salamanca\, 37004\, España
CATEGORIES:Conciertos,Cursos y Talleres,Especiales,Ferias y fiestas | Festivales,Magia,Ocio Infantil
END:VEVENT
BEGIN:VEVENT
DTSTART;TZID=UTC:20220312T183000
DTEND;TZID=UTC:20220312T200000
DTSTAMP:20260420T202404
CREATED:20220311T084412Z
LAST-MODIFIED:20220311T084412Z
UID:10003709-1647109800-1647115200@www.salamancalia.es
SUMMARY:Aniversario Vialia Salamanca
DESCRIPTION:Vialia Salamanca está de Aniversario y queremos celebrarlo contigo. \n\nEl sábado 12 de marzo\, 18:30h\, ¿Magia o Ilusionismo? Ven a descubrirlo de la mano de Yago Barral.\nEl sábado 19 de marzo\, 18:30h\, La batucada más grande de toda Salamanca\, con Blocco Charro.\nEl sábado 26 de marzo\, 18:00h\, Talleres de cocina en Salamanca\, con La Cocinita Mágica.\n\nProgramación especial en la ludoteca de Vialia. \n\n3\, 4 y 5 de marzo\, Miniolipiadas en el tren de colores.\n11\, 12 y 13 de marzo\, La leyenda del Tormes y sus ondinas.\n18\, 19 y 20 de marzo\, Superpapás inmantados.\n25\, 26 y 27 de marzo\, Gymnkhana del ciclo del agua.
URL:https://www.salamancalia.es/evento/aniversario-vialia-salamanca/2022-03-12/
LOCATION:Centro Comercial Vialia\, Paseo de la Estación\, 122\, Salamanca\, Salamanca\, 37004\, España
CATEGORIES:Conciertos,Cursos y Talleres,Especiales,Ferias y fiestas | Festivales,Magia,Ocio Infantil
END:VEVENT
BEGIN:VEVENT
DTSTART;VALUE=DATE:20220225
DTEND;VALUE=DATE:20220301
DTSTAMP:20260420T202404
CREATED:20220224T103035Z
LAST-MODIFIED:20220224T103103Z
UID:10003667-1645747200-1646092799@www.salamancalia.es
SUMMARY:Carnaval del tren en Vialia
DESCRIPTION:Desfile de disfraces\, photocall y actividades para disfrutar.\n \nLunes 28: entrega de premios a las18:00. \nMás planes de Carnaval en Salamanca.
URL:https://www.salamancalia.es/evento/carnavales-del-tren-en-vialia/
LOCATION:Centro Comercial Vialia\, Paseo de la Estación\, 122\, Salamanca\, Salamanca\, 37004\, España
CATEGORIES:Especiales,Ocio Infantil
END:VEVENT
BEGIN:VEVENT
DTSTART;TZID=UTC:20211203T173000
DTEND;TZID=UTC:20211230T203000
DTSTAMP:20260420T202404
CREATED:20211201T110505Z
LAST-MODIFIED:20211202T185242Z
UID:10003291-1638552600-1640896200@www.salamancalia.es
SUMMARY:Talleres y las actividades infantiles
DESCRIPTION:Nuevos talleres y las actividades infantiles (3-10 años) del mes de diciembre en la ludoteca Tren de Colores de Vialia. \nEl espíritu navideño estará muy presente todo el mes de diciembre. \n¿Qué hacer en el Puente de la Constitución en Salamanca? \nMás información sobre la Navidad en Salamanca 2021.
URL:https://www.salamancalia.es/evento/talleres-y-las-actividades-infantiles/
LOCATION:Centro Comercial Vialia\, Paseo de la Estación\, 122\, Salamanca\, Salamanca\, 37004\, España
CATEGORIES:Ocio Infantil
END:VEVENT
END:VCALENDAR