BEGIN:VCALENDAR
VERSION:2.0
PRODID:-//Agenda cultural y eventos de ocio en Salamanca - ECPv6.15.20//NONSGML v1.0//EN
CALSCALE:GREGORIAN
METHOD:PUBLISH
X-WR-CALNAME:Agenda cultural y eventos de ocio en Salamanca
X-ORIGINAL-URL:https://www.salamancalia.es
X-WR-CALDESC:Eventos para Agenda cultural y eventos de ocio en Salamanca
REFRESH-INTERVAL;VALUE=DURATION:PT1H
X-Robots-Tag:noindex
X-PUBLISHED-TTL:PT1H
BEGIN:VTIMEZONE
TZID:UTC
BEGIN:STANDARD
TZOFFSETFROM:+0000
TZOFFSETTO:+0000
TZNAME:UTC
DTSTART:20250101T000000
END:STANDARD
END:VTIMEZONE
BEGIN:VEVENT
DTSTART;VALUE=DATE:20260501
DTEND;VALUE=DATE:20260502
DTSTAMP:20260421T192538
CREATED:20260421T152517Z
LAST-MODIFIED:20260421T152517Z
UID:10006984-1777593600-1777679999@www.salamancalia.es
SUMMARY:Festival de música folk gallega y de Castilla y León en Escurial de la Sierra
DESCRIPTION:El Festival Miña Ruliña llega a Escurial de la Sierra para poner en valor la música tradicional y fortalecer los lazos culturales. \nEl próximo 1 de mayo\, la localidad salmantina de Escurial de la Sierra acogerá la Primera edición del Festival Miña Ruliña\, una iniciativa cultural que nace con el objetivo de acercar la música tradicional a toda la ciudadanía\, promoviendo el conocimiento\, la participación y el disfrute de un patrimonio que forma parte esencial de nuestras raíces. \nEl anuncio del festival ha sido recibido en el municipio con gran agrado —y también con sorpresa— por parte de sus vecinos\, que ven en esta propuesta una oportunidad única para dinamizar la vida cultural local y situar a Escurial de la Sierra en el mapa de eventos culturales relacionados con la música tradicional de Castilla y León. \nImpulsado desde el Centro Gallego de Salamanca y en colaboración con el Ayuntamiento de Escurial de la Sierra\, el festival busca tender puentes entre comunidades a través de la música\, destacando el valor de la tradición como un elemento vivo\, dinámico y en constante evolución. Ambas entidades refuerzan con este proyecto su compromiso con la cultura\, apostando por iniciativas que fomentan la participación\, la identidad y la cohesión social. \nDetrás de la idea y desarrollo del Festival Miña Ruliña se encuentran Sergio Grande y Yolanda Río\, ideólogos del proyecto y figuras clave en la revitalización de la música tradicional en el Centro Gallego de Salamanca y en otros ámbitos de la música folk de la provincia\, ambos están llevando a cabo una importante labor de dinamización cultural\, abordando la música tradicional desde dos perspectivas complementarias: la preservación del legado y la transmisión de saberes\, junto con su reinterpretación y adaptación a nuevos públicos y contextos contemporáneos. \nEl festival contará con una programación diversa que incluirá actuaciones musicales (todas gratuitas)\, actividades participativas y espacios de encuentro pensados para todos los públicos. Miña Ruliña aspira así a convertirse no solo en un evento cultural\, sino en una experiencia que conecte generaciones y despierte el interés por la riqueza de nuestras tradiciones. \nCon esta iniciativa\, se invita a todos los públicos a acercarse el próximo 1 de mayo a Escurial de la Sierra para disfrutar de una jornada única en torno a la música tradicional.
URL:https://www.salamancalia.es/evento/festival-de-musica-folk-gallega-y-de-castilla-y-leon-en-escurial-de-la-sierra/
LOCATION:Escurial de la Sierra\, Escurial de la Sierra\, Salamanca\, Spain
CATEGORIES:Ferias y fiestas | Festivales
ATTACH;FMTTYPE=image/jpeg:https://www.salamancalia.es/wp-content/uploads/2026/04/MINA-RULINA-Festival.jpg
END:VEVENT
END:VCALENDAR