BEGIN:VCALENDAR
VERSION:2.0
PRODID:-//Agenda cultural y eventos de ocio en Salamanca - ECPv6.15.20//NONSGML v1.0//EN
CALSCALE:GREGORIAN
METHOD:PUBLISH
X-WR-CALNAME:Agenda cultural y eventos de ocio en Salamanca
X-ORIGINAL-URL:https://www.salamancalia.es
X-WR-CALDESC:Eventos para Agenda cultural y eventos de ocio en Salamanca
REFRESH-INTERVAL;VALUE=DURATION:PT1H
X-Robots-Tag:noindex
X-PUBLISHED-TTL:PT1H
BEGIN:VTIMEZONE
TZID:UTC
BEGIN:STANDARD
TZOFFSETFROM:+0000
TZOFFSETTO:+0000
TZNAME:UTC
DTSTART:20230101T000000
END:STANDARD
END:VTIMEZONE
BEGIN:VEVENT
DTSTART;VALUE=DATE:20251127
DTEND;VALUE=DATE:20260106
DTSTAMP:20260421T035543
CREATED:20251119T103421Z
LAST-MODIFIED:20251120T120710Z
UID:10006728-1764201600-1767657599@www.salamancalia.es
SUMMARY:El jardín mágico del Huerto  de Calixto y Melibea
DESCRIPTION:El Huerto de Calixto y Melibea se transformará en un jardín mágico gracias a una experiencia inmersiva que generará secuencias para crear una ilusión de movimiento. Y también habrá proyecciones de luz en el lienzo de la muralla. \nTodos los días de 18:30 a 22:00 horas. Los días 24 y 31 de diciembre el horario será de 18:30 a 20:30. \nEntrada libre respetando el aforo. \n\nMás eventos y planes de Navidad en Salamanca 2025\n\n\nLa imagen es ilustrativa\, no se corresponde con el espectáculo.
URL:https://www.salamancalia.es/evento/el-jardin-magico-del-huerto-de-calixto-y-melibea/
LOCATION:Huerto de Calixto y Melibea\, Calle Arcediano\, 20\, Salamanca\, Salamanca\, 37008\, Spain
CATEGORIES:Especiales
ATTACH;FMTTYPE=image/jpeg:https://www.salamancalia.es/wp-content/uploads/2025/11/Huerto-de-Calixto-y-Melibea-en-Navidad.-Salamanca.jpg
END:VEVENT
BEGIN:VEVENT
DTSTART;VALUE=DATE:20241129
DTEND;VALUE=DATE:20250106
DTSTAMP:20260421T035543
CREATED:20241114T160745Z
LAST-MODIFIED:20241114T160942Z
UID:10005926-1732838400-1736121599@www.salamancalia.es
SUMMARY:La senda de los animales del hielo. Navidad en Salamanca 2024
DESCRIPTION:“La senda de los animales del hielo” es una experiencia inmersiva al aire libre\, especialmente diseñada para el huerto de Calixto y Melibea. Un paseo en el que los visitantes podrán reconocer distintos tipos de animales iluminados como osos\, focas\, zorros blancos\, renos\, morsas\, búhos o leopardo de las nieves y disfrutar del momento haciendo fotos y conociendo un poco acerca de losseres que habitan una de las regiones más frías del planeta. \nEl hilo conductor es la recreación de las condiciones de iluminación de estas regiones\, pudiendo distinguir dos zonas diferenciadas a lo largo de la experiencia: la bóveda celeste\, gracias a la\nrecreación del paisaje de estrellas sin contaminación lumínica en la parte inicial del recorrido (zona terrestre) y la aurora boreal a través de la recreación del juego de colores de semejante espectáculo natural\, mediante iluminación artificial\, en la parte final (zona acuática).  \n“La senda de los animales del hielo” se completa con el diseño de un espacio sonoro que acompañará al visitante durante todo el recorrido. Una experiencia que se podrá apreciar en su totalidad en la visita a este espacio y que está concebida para todos los públicos. \nHorario y lugar\n\nEn el Huerto de Calixto y Melibea (del 29 de noviembre al 5 de enero)\nTodos los días de 18:30 a 22:00 horas (los días 24 y 31 de diciembre el horario será de 18:30 a 20:00)\n\nEntrada libre respetando el aforo. \n  \n\nMás eventos y planes de Navidad en Salamanca 2024
URL:https://www.salamancalia.es/evento/la-senda-de-los-animales-del-hielo-navidad-en-salamanca-2024/
LOCATION:Huerto de Calixto y Melibea\, Calle Arcediano\, 20\, Salamanca\, Salamanca\, 37008\, Spain
CATEGORIES:Especiales
END:VEVENT
END:VCALENDAR