BEGIN:VCALENDAR
VERSION:2.0
PRODID:-//Agenda cultural y eventos de ocio en Salamanca - ECPv6.15.20//NONSGML v1.0//EN
CALSCALE:GREGORIAN
METHOD:PUBLISH
X-ORIGINAL-URL:https://www.salamancalia.es
X-WR-CALDESC:Eventos para Agenda cultural y eventos de ocio en Salamanca
REFRESH-INTERVAL;VALUE=DURATION:PT1H
X-Robots-Tag:noindex
X-PUBLISHED-TTL:PT1H
BEGIN:VTIMEZONE
TZID:UTC
BEGIN:STANDARD
TZOFFSETFROM:+0000
TZOFFSETTO:+0000
TZNAME:UTC
DTSTART:20200101T000000
END:STANDARD
END:VTIMEZONE
BEGIN:VEVENT
DTSTART;VALUE=DATE:20240525
DTEND;VALUE=DATE:20240526
DTSTAMP:20260421T020349
CREATED:20240521T092952Z
LAST-MODIFIED:20240521T093215Z
UID:10005333-1716595200-1716681599@www.salamancalia.es
SUMMARY:Concierto de la Coral "El Eco" de A Coruña
DESCRIPTION:Organizado por el Centro Gallego de Salamanca\, tendrá lugar el próximo sábado 25 de mayo\, en la Iglesia de la Purísima\, a las 20:15h.\, el concierto de la Coral «El Eco» de A Coruña. \nEl 18 de diciembre de 1881\, el primer Director y Presidente de «El Eco»\, el Maestro Pascual Veiga iniciaba una andadura ininterrumpida desde entonces. Hasta 1927 se trató de un Orfeón\, puesto que sus miembros eran sólo voces masculinas. \n«El Eco» es la Coral más antigua de la Península ibérica en activo como ejemplo de dedicación\, esfuerzo e iniciativa. Es Órgano Oficial del Excmo. Ayuntamiento de A Coruña. Medallas de oro y plata  de las ciudades de A Coruña y Oporto. \nDestaca como una de las instituciones musicales más laureadas\, habiendo recibido numerosos premios en sus 139 años de historia. \nDestaca en la interpretación de casi doscientas funciones de ópera\, 41 títulos diferentes a lo largo de 197 representaciones. También ha obtenido importantes éxitos con la interpretación de oratorios. En diferentes momentos también interpretó las más sonadas composiciones sacras. Destacando también en la interpretación de zarzuelas de producción propia integral.
URL:https://www.salamancalia.es/evento/concierto-de-la-coral-el-eco-de-a-coruna/
LOCATION:Iglesia de la Purísima\, Pl. Agustinas\, Salamanca\, Salamanca\, 37002\, España
CATEGORIES:Conciertos
END:VEVENT
BEGIN:VEVENT
DTSTART;TZID=UTC:20231215T203000
DTEND;TZID=UTC:20231215T203000
DTSTAMP:20260421T020349
CREATED:20231211T120923Z
LAST-MODIFIED:20231211T120923Z
UID:10004979-1702672200-1702672200@www.salamancalia.es
SUMMARY:Concierto para una Navidad Solidaria
DESCRIPTION:Coro de la Universidad de Salamanca. \nEntrada libre (donativo voluntario a favor de Cajas Solidarias). \n\nNavidad en Salamanca 2023
URL:https://www.salamancalia.es/evento/concierto-para-una-navidad-solidaria/
LOCATION:Iglesia de la Purísima\, Pl. Agustinas\, Salamanca\, Salamanca\, 37002\, España
CATEGORIES:Conciertos
END:VEVENT
BEGIN:VEVENT
DTSTART;TZID=UTC:20230525T180000
DTEND;TZID=UTC:20230525T180000
DTSTAMP:20260421T020349
CREATED:20230522T090215Z
LAST-MODIFIED:20230522T090215Z
UID:10004530-1685037600-1685037600@www.salamancalia.es
SUMMARY:University of Notre Dame Chorale
DESCRIPTION:Concierto de Música Sacra y Música Litúrgica Contemporánea. \nEntrada libre.
URL:https://www.salamancalia.es/evento/university-of-notre-dame-chorale/
LOCATION:Iglesia de la Purísima\, Pl. Agustinas\, Salamanca\, Salamanca\, 37002\, España
CATEGORIES:Conciertos
END:VEVENT
BEGIN:VEVENT
DTSTART;VALUE=DATE:20211031
DTEND;VALUE=DATE:20211220
DTSTAMP:20260421T020349
CREATED:20211103T180337Z
LAST-MODIFIED:20211201T111646Z
UID:10002800-1635638400-1639958399@www.salamancalia.es
SUMMARY:Visita teatralizada en la Iglesia de La Purísima
DESCRIPTION:Visitas guiadas teatralizadas en la Iglesia de la Purísima\, Salamanca. Risas aseguradas y descubrimientos inesperados.  \n¿Qué hacer en el Puente de la Inmaculada 2021 en Salamanca?
URL:https://www.salamancalia.es/evento/visita-teatralizada-en-la-iglesia-de-la-purisima/
LOCATION:Iglesia de la Purísima\, Pl. Agustinas\, Salamanca\, Salamanca\, 37002\, España
CATEGORIES:Teatro / Escena
END:VEVENT
BEGIN:VEVENT
DTSTART;TZID=UTC:20210903T220000
DTEND;TZID=UTC:20210925T230000
DTSTAMP:20260421T020349
CREATED:20210910T111557Z
LAST-MODIFIED:20210910T111613Z
UID:10002724-1630706400-1632610800@www.salamancalia.es
SUMMARY:Visitas teatralizadas nocturnas
DESCRIPTION:A partir del viernes 3 de septiembre y durante todo el mes\, Colleja Teatro nos deleitará con unas divertidas visitas guiadas teatralizadas nocturnas por la Iglesia de la Purísima de Salamanca. \nTodos los viernes y sábados a las 22.00 y 23.00 y domingos a las 22.00. \nEntradas\nYa se pueden adquirir  entradas por 4 eurillos de nada en la Sacristía de la propia Purísima desde ya\, en horario de apertura: de 11.00 a 14.00 y de 17.00 a 20.00. \nSinopsis\nDos divertidos personajes viajarán hasta 1657 para evitar algo\, pero en realidad…¿han llegado donde querían? \n¡Os esperamos vestidos de gala!
URL:https://www.salamancalia.es/evento/visitas-teatralizadas-nocturnas/
LOCATION:Iglesia de la Purísima\, Pl. Agustinas\, Salamanca\, Salamanca\, 37002\, España
CATEGORIES:Teatro / Escena
END:VEVENT
END:VCALENDAR