BEGIN:VCALENDAR
VERSION:2.0
PRODID:-//Agenda cultural y eventos de ocio en Salamanca - ECPv6.15.20//NONSGML v1.0//EN
CALSCALE:GREGORIAN
METHOD:PUBLISH
X-ORIGINAL-URL:https://www.salamancalia.es
X-WR-CALDESC:Eventos para Agenda cultural y eventos de ocio en Salamanca
REFRESH-INTERVAL;VALUE=DURATION:PT1H
X-Robots-Tag:noindex
X-PUBLISHED-TTL:PT1H
BEGIN:VTIMEZONE
TZID:UTC
BEGIN:STANDARD
TZOFFSETFROM:+0000
TZOFFSETTO:+0000
TZNAME:UTC
DTSTART:20200101T000000
END:STANDARD
END:VTIMEZONE
BEGIN:VEVENT
DTSTART;VALUE=DATE:20240529
DTEND;VALUE=DATE:20240604
DTSTAMP:20260420T175310
CREATED:20240515T080053Z
LAST-MODIFIED:20240606T113346Z
UID:10005329-1716940800-1717459199@www.salamancalia.es
SUMMARY:Fiestas del Corpus de Ledesma 2024
DESCRIPTION:Más información. \nNovillada por las Fiestas del Corpus de Ledesma\, domingo 2 de junio: \n \n  \n\nFiestas y festivales en Salamanca. Verano 2024
URL:https://www.salamancalia.es/evento/fiestas-del-corpus-de-ledesma-2024/
LOCATION:Ledesma\, Ledesma\, Salamanca\, España
CATEGORIES:Ferias y fiestas | Festivales
END:VEVENT
BEGIN:VEVENT
DTSTART;VALUE=DATE:20240511
DTEND;VALUE=DATE:20240513
DTSTAMP:20260420T175310
CREATED:20240509T151159Z
LAST-MODIFIED:20240509T151159Z
UID:10005315-1715385600-1715558399@www.salamancalia.es
SUMMARY:Feria alimentaria y de artesanía 2024
DESCRIPTION:En Ledesma\, consulta los horarios y actividades aquí.
URL:https://www.salamancalia.es/evento/feria-alimentaria-y-de-artesania-2024/
LOCATION:Ledesma\, Ledesma\, Salamanca\, España
CATEGORIES:Ferias y fiestas | Festivales
END:VEVENT
BEGIN:VEVENT
DTSTART;VALUE=DATE:20240424
DTEND;VALUE=DATE:20240425
DTSTAMP:20260420T175310
CREATED:20240416T153722Z
LAST-MODIFIED:20240417T110649Z
UID:10005261-1713916800-1714003199@www.salamancalia.es
SUMMARY:Día del libro 2024 en Ledesma
DESCRIPTION:Varias propuestas para todo tipo de edades con los libros y las historias. \nDía del Libro en Salamanca 2024.
URL:https://www.salamancalia.es/evento/dia-del-libro-2024-en-ledesma/
LOCATION:Ledesma\, Ledesma\, Salamanca\, España
CATEGORIES:Ferias y fiestas | Festivales
END:VEVENT
BEGIN:VEVENT
DTSTART;VALUE=DATE:20240420
DTEND;VALUE=DATE:20240422
DTSTAMP:20260420T175310
CREATED:20240416T153418Z
LAST-MODIFIED:20240416T153418Z
UID:10005260-1713571200-1713743999@www.salamancalia.es
SUMMARY:1a Feria del coleccionismo de Ledesma
DESCRIPTION:
URL:https://www.salamancalia.es/evento/1a-feria-del-coleccionismo-de-ledesma/
LOCATION:Ledesma\, Ledesma\, Salamanca\, España
CATEGORIES:Ferias y fiestas | Festivales
END:VEVENT
BEGIN:VEVENT
DTSTART;VALUE=DATE:20240323
DTEND;VALUE=DATE:20240401
DTSTAMP:20260420T175310
CREATED:20240312T120956Z
LAST-MODIFIED:20240312T120956Z
UID:10005208-1711152000-1711929599@www.salamancalia.es
SUMMARY:Semana Santa 2024 en Ledesma
DESCRIPTION:Programa de la Semana Santa en Ledesma 2024. \n  \n\nSemana Santa Salamanca 2024: horarios\, procesiones\, recorridos…
URL:https://www.salamancalia.es/evento/semana-santa-2024-en-ledesma/
LOCATION:Ledesma\, Ledesma\, Salamanca\, España
CATEGORIES:Especiales
END:VEVENT
BEGIN:VEVENT
DTSTART;VALUE=DATE:20240210
DTEND;VALUE=DATE:20240214
DTSTAMP:20260420T175310
CREATED:20240201T183939Z
LAST-MODIFIED:20240201T183939Z
UID:10005093-1707523200-1707868799@www.salamancalia.es
SUMMARY:Carnaval 2024 en Ledesma
DESCRIPTION:Toda la programación en la web del evento (ver más abajo). \nCarnaval en Salamanca 2024.
URL:https://www.salamancalia.es/evento/carnaval-2024-en-ledesma/
LOCATION:Ledesma\, Ledesma\, Salamanca\, España
CATEGORIES:Especiales
END:VEVENT
BEGIN:VEVENT
DTSTART;TZID=UTC:20231217T110000
DTEND;TZID=UTC:20231217T110000
DTSTAMP:20260420T175310
CREATED:20231123T155250Z
LAST-MODIFIED:20231123T155357Z
UID:10004911-1702810800-1702810800@www.salamancalia.es
SUMMARY:Carrera del Turrón 2023
DESCRIPTION:Trofeo de Navidad «Carrera del Turrón» Diputación de Salamanca 2023. \nInscripciones y toda la información en la web del evento (ver más abajo). \n  \n\nNavidad en Salamanca 2023
URL:https://www.salamancalia.es/evento/carrera-del-turron-2023/
LOCATION:Ledesma\, Ledesma\, Salamanca\, España
CATEGORIES:Deportes
END:VEVENT
BEGIN:VEVENT
DTSTART;VALUE=DATE:20230520
DTEND;VALUE=DATE:20230522
DTSTAMP:20260420T175310
CREATED:20230511T164912Z
LAST-MODIFIED:20230511T164912Z
UID:10003636-1684540800-1684713599@www.salamancalia.es
SUMMARY:XV Feria alimentaria y muestra artesana de Ledesma
DESCRIPTION:
URL:https://www.salamancalia.es/evento/xv-feria-alimentaria-y-muestra-artesana-de-ledesma/
LOCATION:Ledesma\, Ledesma\, Salamanca\, España
CATEGORIES:Ferias y fiestas | Festivales
END:VEVENT
BEGIN:VEVENT
DTSTART;TZID=UTC:20210320T190000
DTEND;TZID=UTC:20210320T190000
DTSTAMP:20260420T175310
CREATED:20210319T100910Z
LAST-MODIFIED:20210319T102242Z
UID:10002712-1616266800-1616266800@www.salamancalia.es
SUMMARY:Vida=Sueño
DESCRIPTION:Con Vida=Sueño se pretende acercar uno de los pilares de la literatura del Siglo de Oro\, al público juvenil y adulto. Todo comienza con una plomiza conferencia sobre la figura de Calderón y las distintas maneras de narrar una misma historia\, para ello el conferenciante requiere la ayuda de una compañía teatral y es ahí cuando la Compañía virtual de Comedias irrumpe y entre ambos y gracias a la vídeo escena y al increíble trabajo de nuestro actor bululú Jaime Soler Huete ponemos en pie la Vida es Sueño. \n\nObra de Calderón de la Barca\, dirigida por David Martínez Sánchez.\n\nEn el Auditorio Comarca de Ledesma.
URL:https://www.salamancalia.es/evento/vidasueno/
LOCATION:Ledesma\, Ledesma\, Salamanca\, España
CATEGORIES:Teatro / Escena
END:VEVENT
END:VCALENDAR