BEGIN:VCALENDAR
VERSION:2.0
PRODID:-//Agenda cultural y eventos de ocio en Salamanca - ECPv6.15.20//NONSGML v1.0//EN
CALSCALE:GREGORIAN
METHOD:PUBLISH
X-WR-CALNAME:Agenda cultural y eventos de ocio en Salamanca
X-ORIGINAL-URL:https://www.salamancalia.es
X-WR-CALDESC:Eventos para Agenda cultural y eventos de ocio en Salamanca
REFRESH-INTERVAL;VALUE=DURATION:PT1H
X-Robots-Tag:noindex
X-PUBLISHED-TTL:PT1H
BEGIN:VTIMEZONE
TZID:UTC
BEGIN:STANDARD
TZOFFSETFROM:+0000
TZOFFSETTO:+0000
TZNAME:UTC
DTSTART:20200101T000000
END:STANDARD
END:VTIMEZONE
BEGIN:VEVENT
DTSTART;TZID=UTC:20231226T110000
DTEND;TZID=UTC:20231228T130000
DTSTAMP:20260421T035508
CREATED:20231221T082827Z
LAST-MODIFIED:20231221T085641Z
UID:10004994-1703588400-1703768400@www.salamancalia.es
SUMMARY:Talleres gratuitos de Navidad en el MHAS
DESCRIPTION:Para niñ@s de 6 a 12 años.\nDías 26\, 27 y 28 de diciembre.\nDe 11:00 a 13:00.\nParticipación gratuita.\n\n  \n\nNavidad en Salamanca 2023
URL:https://www.salamancalia.es/evento/talleres-gratuitos-de-navidad-en-el-mhas/
LOCATION:Museo de Automoción\, Plaza del Mercado Viejo s/n\, Salamanca\, Salamanca\, 37008\, España
CATEGORIES:Cursos y Talleres,Ocio Infantil
END:VEVENT
BEGIN:VEVENT
DTSTART;VALUE=DATE:20231226
DTEND;VALUE=DATE:20240108
DTSTAMP:20260421T035508
CREATED:20231221T092432Z
LAST-MODIFIED:20231221T092632Z
UID:10004995-1703548800-1704671999@www.salamancalia.es
SUMMARY:La Navidad es para tod@s en el MHAS
DESCRIPTION:Programación destacada\n\nJornadas de puertas abiertas: del 26 de diciembre al 7 de enero de 2024.\nVisitas teatralizadas a cargo de la compañía Colleja Teatro: del 26 de diciembre al 5 de enero\nTalleres infantiles: con monitores especializados\, los más pequeños podrán pasar un rato de diversión y creación artística.\nSimulador de un automóvil del Campeonato Mundial de Rally\, WRC: desde el martes 26 de diciembre hasta el 4 de enero. Se podrá pilotar un automóvil de competición WRC en un simulador de total realidad\, recorriendo carreteras a toda velocidad en colaboración con GTC Circuito virtual Salamanca.\nObsequio infantil: todos los niños que acudan al museo estas fiestas podrán recoger un pequeño obsequio con el que adornar la Navidad en sus casas.\nConcurso en redes sociales: concurso en Instagram.\nSorteo de un viaje en vehículo clásico: se sorteará un viaje por la ciudad en coche clásico entre los visitantes durante esta Navidad.\n\nPara facilitar el correcto desarrollo de las actividades por motivos de aforo se requerirá reserva previa: más información. \n\nNavidad en Salamanca 2023
URL:https://www.salamancalia.es/evento/la-navidad-es-para-tods-en-el-mhas/
LOCATION:Museo de Automoción\, Plaza del Mercado Viejo s/n\, Salamanca\, Salamanca\, 37008\, España
CATEGORIES:Ocio Infantil
END:VEVENT
BEGIN:VEVENT
DTSTART;TZID=UTC:20231216T193000
DTEND;TZID=UTC:20231216T193000
DTSTAMP:20260421T035508
CREATED:20231123T162239Z
LAST-MODIFIED:20231123T162239Z
UID:10004915-1702755000-1702755000@www.salamancalia.es
SUMMARY:Concierto de Navidad. Banda Felipe Espino
DESCRIPTION:Entrada libre hasta completar el aforo. \n  \n\nOtros eventos y conciertos de Navidad en Salamanca 2023
URL:https://www.salamancalia.es/evento/concierto-de-navidad-banda-felipe-espino/
LOCATION:Museo de Automoción\, Plaza del Mercado Viejo s/n\, Salamanca\, Salamanca\, 37008\, España
CATEGORIES:Conciertos
END:VEVENT
BEGIN:VEVENT
DTSTART;VALUE=DATE:20230910
DTEND;VALUE=DATE:20230911
DTSTAMP:20260421T035508
CREATED:20230801T150221Z
LAST-MODIFIED:20230801T150221Z
UID:10004662-1694304000-1694390399@www.salamancalia.es
SUMMARY:II Concurso de Elegancia de Automóviles Clásicos Ciudad de Salamanca
DESCRIPTION:Ya puedes inscribirte en el tradicional Concurso de Elegancia de Automóviles Clásicos Ciudad de Salamanca. \nUna cita ineludible del programa de Ferias y Fiestas de Salamanca que se desarrollará el próximo 10 de septiembre de 2023. \nConsulta las bases en https://www.museoautomocion.com
URL:https://www.salamancalia.es/evento/ii-concurso-de-elegancia-de-automoviles-clasicos-ciudad-de-salamanca/
LOCATION:Museo de Automoción\, Plaza del Mercado Viejo s/n\, Salamanca\, Salamanca\, 37008\, España
CATEGORIES:Concursos
END:VEVENT
BEGIN:VEVENT
DTSTART;VALUE=DATE:20230518
DTEND;VALUE=DATE:20230522
DTSTAMP:20260421T035508
CREATED:20230511T101824Z
LAST-MODIFIED:20230516T170538Z
UID:10004495-1684368000-1684713599@www.salamancalia.es
SUMMARY:MHAS. Día Internacional de los Museos 2023
DESCRIPTION:Programación y actividades\n\nJornadas de puertas abiertas: del 18 de mayo de 2023 al domingo 21 de mayo de 2023. Evolución del Diseño del Automóvil a través de la historia. Exposición temporal del MHAS\, ARTE Y AUTOMOCIÓN. Esaú Donado Bermejo.\nVisitas teatralizadas a cargo de grupo de teatro Colleja:\nJueves 18 de mayo de 2023 (17.30 h.)\nJueves 18 de mayo de 2023 (19.00 h.)\nSábado 20 de mayo de 2023 (12.00 h.)\nDomingo 21 de mayo de 2023 (12.00 h.)\nViernes 19 de mayo a las 12:00 – El rugido del MHAS: Exhibición de vehículos históricos y arranque de motores en la puerta del museo\nViernes 19 de mayo a la 20:00 – Concierto en el MHAS del grupo “en3Jazz”\, disfrutando de la exposición ARTE Y AUTOMOCIÓN de Esaú Donado Bermejo.\n\n \n\nDisfruta de la realidad virtual conduciendo un vehículo clásico por Salamanca\nDescuentos en la tienda del Museo de Historia de la Automoción de Salamanca\nActividades educativas y obsequio para los más pequeños.\nSorteo de un viaje en un coche clásico cábriolet de la colección del MHAS\n\nProgramación del Día Internacional de los Museos en Salamanca 2023.
URL:https://www.salamancalia.es/evento/mhas-dia-internacional-de-los-museos-2023/
LOCATION:Museo de Automoción\, Plaza del Mercado Viejo s/n\, Salamanca\, Salamanca\, 37008\, España
CATEGORIES:Especiales
END:VEVENT
BEGIN:VEVENT
DTSTART;TZID=UTC:20221020T200000
DTEND;TZID=UTC:20221020T200000
DTSTAMP:20260421T035508
CREATED:20221011T153519Z
LAST-MODIFIED:20221011T153519Z
UID:10003312-1666296000-1666296000@www.salamancalia.es
SUMMARY:Motores y Melodías
DESCRIPTION:Nuevo concierto del ciclo con el grupo Entavía. \nAcceso gratuito previa retirada de invitación.
URL:https://www.salamancalia.es/evento/motores-y-melodias/
LOCATION:Museo de Automoción\, Plaza del Mercado Viejo s/n\, Salamanca\, Salamanca\, 37008\, España
CATEGORIES:Conciertos
END:VEVENT
BEGIN:VEVENT
DTSTART;VALUE=DATE:20221010
DTEND;VALUE=DATE:20221202
DTSTAMP:20260421T035508
CREATED:20221011T154331Z
LAST-MODIFIED:20221011T154331Z
UID:10003314-1665360000-1669939199@www.salamancalia.es
SUMMARY:Homenaje a las 24 Horas de Le Mans
DESCRIPTION:100 miniaturas de automóviles de competición y dioramas que hacen referencia a otra fecha muy relevante en el ámbito de la automoción mundial: la celebración del centenario de la carrera de resistencia de las 24 Horas de Le Mans. \nEl Museo de la Miniatura de Gouveia\, con la colaboración del Club Escape Livre\, ceden desde Portugal una muestra de su amplia colección para exhibirse en España. \n  \n  \nFoto procedente de la web del MHAS.
URL:https://www.salamancalia.es/evento/homenaje-a-las-24-horas-de-le-mans/
LOCATION:Museo de Automoción\, Plaza del Mercado Viejo s/n\, Salamanca\, Salamanca\, 37008\, España
CATEGORIES:Exposiciones
END:VEVENT
BEGIN:VEVENT
DTSTART;VALUE=DATE:20220706
DTEND;VALUE=DATE:20230130
DTSTAMP:20260421T035508
CREATED:20220927T152837Z
LAST-MODIFIED:20221129T165208Z
UID:10003296-1657065600-1675036799@www.salamancalia.es
SUMMARY:120 años RACE / 20 años MHAS
DESCRIPTION:Una exposición con la que celebra un doble aniversario: los 120 años del Real Automóvil Club de España (RACE) y los 20 años de trayectoria del Museo de Historia de la Automoción de Salamanca\, convertido en uno de los referentes a nivel europeo. \nMás información (relación de vehículos expuestos…) en la web del evento\, ver más abajo. \nExposición ampliada 2 meses más: ver la informacion al respecto.
URL:https://www.salamancalia.es/evento/120-anos-race-20-anos-mhas/
LOCATION:Museo de Automoción\, Plaza del Mercado Viejo s/n\, Salamanca\, Salamanca\, 37008\, España
CATEGORIES:Exposiciones
END:VEVENT
BEGIN:VEVENT
DTSTART;VALUE=DATE:20220518
DTEND;VALUE=DATE:20220523
DTSTAMP:20260421T035508
CREATED:20220517T145148Z
LAST-MODIFIED:20220517T162028Z
UID:10003116-1652832000-1653263999@www.salamancalia.es
SUMMARY:Día Internacional de los Museos 2022: MHAS
DESCRIPTION:Museo de Historia de la Automoción: La Fuerza de los Museos\nCompleto programa de actividades comprometiéndose esta edición con la innovación para convertirlo en más accesible y atractivo para el público: \n\nJornadas de Puertas Abiertas: 18\, 21 y 22 de mayo\nVisitas teatralizadas: 21 y 22 de mayo. Para descubrir a través de la interacción el pasado de los vehículos\, su evolución y tecnología y abra su mente hacia un futuro sostenible. Cada visita tendrá un aforo de 20 personas y se celebrará en horario de 10:00\, 12:00\, 17:30 y 18:30 horas. Los interesados deberán reservar su plaza en el teléfono del museo.\nSimulador de Fórmula 1: disponible los días 21 y 22 de mayo\, y aquellos interesados en probarlo tendrán que realizar una reserva previa en el teléfono del museo (923 260 293). El horario de esta actividad es de 10:00 horas a 13:30 horas (cada 10 minutos).\nSe podrá acceder a tecnología 3D inmersiva\, conduciendo un automóvil clásico por las carreteras salmantinas.\nSorteo entre todos los visitantes que acudan en los días señalados: sorteo para recorrer las calles de la ciudad salmantina en un histórico Cabriolet de la colección permanente en la fecha que se acuerde.\nLa tienda del museo ofrecerá un descuento del 10 por ciento en todas las compras.\n\n  \nMás información sobre el Día Internacional de los Museos 2022 en Salamanca.
URL:https://www.salamancalia.es/evento/dia-internacional-de-los-museos-2022-mhas/
LOCATION:Museo de Automoción\, Plaza del Mercado Viejo s/n\, Salamanca\, Salamanca\, 37008\, España
CATEGORIES:Especiales
END:VEVENT
BEGIN:VEVENT
DTSTART;VALUE=DATE:20211222
DTEND;VALUE=DATE:20220228
DTSTAMP:20260421T035508
CREATED:20220110T104025Z
LAST-MODIFIED:20220110T104025Z
UID:10003402-1640131200-1646006399@www.salamancalia.es
SUMMARY:Oficios en bicicleta
DESCRIPTION:Muestra retrospectiva dedicada a uno de los vehículos más versátiles y respetuosos con el medio ambiente: la bicicleta. \nEntradas\n\nGeneral: 5€\nReducida: 3€\nNiños menores de 5 años: gratuita\n\nHorario\n\nLunes cerrado\nDe martes a domingo: de 10:00 a 14:00  y de 17:00 a 20:00
URL:https://www.salamancalia.es/evento/oficios-en-bicicleta/
LOCATION:Museo de Automoción\, Plaza del Mercado Viejo s/n\, Salamanca\, Salamanca\, 37008\, España
CATEGORIES:Exposiciones
END:VEVENT
BEGIN:VEVENT
DTSTART;TZID=UTC:20210702T193000
DTEND;TZID=UTC:20210702T193000
DTSTAMP:20260421T035508
CREATED:20210625T073934Z
LAST-MODIFIED:20210625T073934Z
UID:10003021-1625254200-1625254200@www.salamancalia.es
SUMMARY:Guitarras y versos
DESCRIPTION:Recital de música y poesía de la mano del escritor\, poeta y actor salmantino Toño Blázquez. Recogerá interpretaciones con guitarra clásica y el recitado de versos de poetas como José Ángel Buesa\, García Lorca\, Antonio y Manuel Machado\, Juan Ramón Jiménez\, Rafael de León\, Benítez Carrasco\, Rafael Alberti y Gustavo Adolfo Bécquer. \nRecital único que tendrá lugar en el marco de la celebración del Festival Internacional de Literatura en Español de Castilla y León. \nLugar\nSala de exposiciones temporales
URL:https://www.salamancalia.es/evento/guitarras-y-versos/
LOCATION:Museo de Automoción\, Plaza del Mercado Viejo s/n\, Salamanca\, Salamanca\, 37008\, España
CATEGORIES:Conciertos
END:VEVENT
END:VCALENDAR