BEGIN:VCALENDAR
VERSION:2.0
PRODID:-//Agenda cultural y eventos de ocio en Salamanca - ECPv6.15.20//NONSGML v1.0//EN
CALSCALE:GREGORIAN
METHOD:PUBLISH
X-WR-CALNAME:Agenda cultural y eventos de ocio en Salamanca
X-ORIGINAL-URL:https://www.salamancalia.es
X-WR-CALDESC:Eventos para Agenda cultural y eventos de ocio en Salamanca
REFRESH-INTERVAL;VALUE=DURATION:PT1H
X-Robots-Tag:noindex
X-PUBLISHED-TTL:PT1H
BEGIN:VTIMEZONE
TZID:UTC
BEGIN:STANDARD
TZOFFSETFROM:+0000
TZOFFSETTO:+0000
TZNAME:UTC
DTSTART:20200101T000000
END:STANDARD
END:VTIMEZONE
BEGIN:VEVENT
DTSTART;VALUE=DATE:20241121
DTEND;VALUE=DATE:20250316
DTSTAMP:20260421T042904
CREATED:20250114T122656Z
LAST-MODIFIED:20250114T123217Z
UID:10006008-1732147200-1742083199@www.salamancalia.es
SUMMARY:Vibraciones Underground (Vol.2)
DESCRIPTION:En la Sala de exposiciones Patio de Escuelas. \nContracultura\, cómic y rock ‘n’ roll. \nHorario\n\nMartes a sábado de 11 a 14h y de 17:30 a 20:30h\nDomingos y festivos de 11 a 14h\nLunes cerrado
URL:https://www.salamancalia.es/evento/vibraciones-underground-vol-2/
LOCATION:Patio de Escuelas\, Salamanca\, Salamanca\, España
CATEGORIES:Exposiciones
ATTACH;FMTTYPE=image/jpeg:https://www.salamancalia.es/wp-content/uploads/2025/01/Cartel-de-la-exposicion-Vibraciones-Underground-vol.2.jpg
END:VEVENT
BEGIN:VEVENT
DTSTART;VALUE=DATE:20240305
DTEND;VALUE=DATE:20240506
DTSTAMP:20260421T042904
CREATED:20240307T094445Z
LAST-MODIFIED:20240307T094445Z
UID:10005179-1709596800-1714953599@www.salamancalia.es
SUMMARY:Los dibujos\, los secretos de los pintores
DESCRIPTION:Obra del pintor Zacarías González. \nLa muestra reúne originales inéditos. Permitirá al espectador disfrutar no sólo de sus obras sino de los procesos creativos del artista salmantino.
URL:https://www.salamancalia.es/evento/los-dibujos-los-secretos-de-los-pintores/
LOCATION:Patio de Escuelas\, Salamanca\, Salamanca\, España
CATEGORIES:Exposiciones
END:VEVENT
BEGIN:VEVENT
DTSTART;VALUE=DATE:20231106
DTEND;VALUE=DATE:20231212
DTSTAMP:20260421T042904
CREATED:20231201T100534Z
LAST-MODIFIED:20231201T100638Z
UID:10004963-1699228800-1702339199@www.salamancalia.es
SUMMARY:ReciclArte
DESCRIPTION:Hacer del RECICLAJE MODA. \nUna exposición para fomentar la economía circular. \nHorario\n\nLunes a sábado de 10:00 a 19:00h\nDomingos y festivos de 10:00 a 14:00h\n\n  \n\nNavidad en Salamanca 2023
URL:https://www.salamancalia.es/evento/reciclarte-2/
LOCATION:Patio de Escuelas\, Salamanca\, Salamanca\, España
CATEGORIES:Exposiciones
END:VEVENT
BEGIN:VEVENT
DTSTART;VALUE=DATE:20220930
DTEND;VALUE=DATE:20230124
DTSTAMP:20260421T042904
CREATED:20221006T145018Z
LAST-MODIFIED:20221006T150403Z
UID:10004198-1664496000-1674518399@www.salamancalia.es
SUMMARY:Unamuno. Profesor y Rector
DESCRIPTION:Para conocer y profundizar en las facetas docente y gestora de Miguel de Unamuno\, a través de fotografías\, documentos y recortes de prensa. \nPartes de la colección\n\nActividad docente desarrollada en la Universidad\nGestión al frente del Estudio durante los diecinueve años que ocupó el sillón rectoral\nProblemas que tuvo en el rectorado\nAmigos y adversarios\n\nHorario de visita\n\nMartes a sábados de 12:00 a 14:00 h y de 17:30 a 20:30 h\nDomingos y festivos de 10:00 a 14:00 h\nLunes cerrado\n\nMás información\n\nTextos\nTríptico\nNoticia\n\n 
URL:https://www.salamancalia.es/evento/unamuno-profesor-y-rector/
LOCATION:Patio de Escuelas\, Salamanca\, Salamanca\, España
CATEGORIES:Exposiciones
END:VEVENT
BEGIN:VEVENT
DTSTART;VALUE=DATE:20220706
DTEND;VALUE=DATE:20220912
DTSTAMP:20260421T042904
CREATED:20220720T113205Z
LAST-MODIFIED:20220720T113205Z
UID:10004075-1657065600-1662940799@www.salamancalia.es
SUMMARY:El retorno del Cielo de Salamanca
DESCRIPTION:Una exposición sobre la bóveda de la antigua biblioteca universitaria. \nLa muestra `El retorno del Cielo de Salamanca. Arte y Astronomía en la Bóveda de la Antigua Biblioteca Universitaria´ podrá visitarse en la sala de exposiciones del Patio de Escuelas Menores. \nHorario\n\nMartes a sábado de 12:00 a 14:00h y de 17:30 a 20:30h\nDomingos y festivos de 10:00 a 14:00h\nLunes cerrado
URL:https://www.salamancalia.es/evento/el-retorno-del-cielo-de-salamanca/
LOCATION:Patio de Escuelas\, Salamanca\, Salamanca\, España
CATEGORIES:Exposiciones
END:VEVENT
BEGIN:VEVENT
DTSTART;TZID=UTC:20211001T200000
DTEND;TZID=UTC:20211001T200000
DTSTAMP:20260421T042904
CREATED:20210930T111030Z
LAST-MODIFIED:20210930T111030Z
UID:10002731-1633118400-1633118400@www.salamancalia.es
SUMMARY:Salamanca ilumina Europa
DESCRIPTION:Presentación del Centro Europe Direct Salamanca 2021-2025. \nCon la actuación de Marisa Marzo quinteto. \nEspectáculo de iluminación.
URL:https://www.salamancalia.es/evento/salamanca-ilumina-europa/
LOCATION:Patio de Escuelas\, Salamanca\, Salamanca\, España
CATEGORIES:Presentaciones
END:VEVENT
END:VCALENDAR