BEGIN:VCALENDAR
VERSION:2.0
PRODID:-//Agenda cultural y eventos de ocio en Salamanca - ECPv6.15.20//NONSGML v1.0//EN
CALSCALE:GREGORIAN
METHOD:PUBLISH
X-ORIGINAL-URL:https://www.salamancalia.es
X-WR-CALDESC:Eventos para Agenda cultural y eventos de ocio en Salamanca
REFRESH-INTERVAL;VALUE=DURATION:PT1H
X-Robots-Tag:noindex
X-PUBLISHED-TTL:PT1H
BEGIN:VTIMEZONE
TZID:UTC
BEGIN:STANDARD
TZOFFSETFROM:+0000
TZOFFSETTO:+0000
TZNAME:UTC
DTSTART:20220101T000000
END:STANDARD
END:VTIMEZONE
BEGIN:VEVENT
DTSTART;TZID=UTC:20240419T173000
DTEND;TZID=UTC:20240419T173000
DTSTAMP:20260420T233904
CREATED:20240418T100114Z
LAST-MODIFIED:20240418T100152Z
UID:10005267-1713547800-1713547800@www.salamancalia.es
SUMMARY:La Biblioteca Popular de Pizarrales organiza un intercambio de libros y esquejes
DESCRIPTION:La Biblioteca Popular de Pizarrales se adelanta al Día Internacional del Libro organizando este viernes 19 de abril un intercambio de libros. Todas las personas que se pasen desde las 17:30 por la Plaza de la Iglesia Nueva de Pizarrales podrán recoger uno de los ejemplares disponibles en la biblioteca para leérselo en casa y\, si quieren\, dejar uno a cambio que ya se hayan leído. También podrán intercambiar esquejes de plantas en la mesa del grupo de comunidad “La Inclusiva” de Asprodes. \nEl objetivo de la actividad es promover la lectura\, así como dar a conocer la Biblioteca Popular de Pizarrales\, que desde 2021 está abierta de lunes a viernes en la segunda planta del Centro Miguel de Unamuno (c/ Profesor Lucas). Este espacio está gestionado por un grupo de voluntarias del barrio\, con la colaboración de la Fundación Plan B Educación Social\, la asociación de vecinos Munibar y el Área de Participación Social del Ayuntamiento de Salamanca. \n\nProgramación cultural del trimestre\nAdemás del evento de este viernes\, la Biblioteca Popular de Pizarrales tiene otras actividades previstas para este trimestre. Destaca por ejemplo la presentación de dos libros del escritor Juan Carlos López\, quien hablará el próximo lunes 29 de abril de sus obras “De Helmántica a Salamanca” y “Verano del 82”. \nEn mayo también se organizará un recorrido guiado histórico por diferentes puntos del barrio de Pizarrales\, y en junio un cuentacuentos y una biblioteca humana. Esta última actividad consiste en que personas anónimas cuentan sus historias de vida\, dando pie a que sea un espacio para la empatía y para el derribo de prejuicios.
URL:https://www.salamancalia.es/evento/la-biblioteca-popular-de-pizarrales-organiza-un-intercambio-de-libros/
LOCATION:Plaza de la Iglesia Nueva de Pizarrales\, Salamanca\, Salamanca\, España
CATEGORIES:Especiales
END:VEVENT
BEGIN:VEVENT
DTSTART;TZID=UTC:20231124T200000
DTEND;TZID=UTC:20231124T200000
DTSTAMP:20260420T233904
CREATED:20231123T150655Z
LAST-MODIFIED:20231123T150655Z
UID:10004904-1700856000-1700856000@www.salamancalia.es
SUMMARY:Fiesta flamenca
DESCRIPTION:La compañía “Tamara Navarro la Gitana” celebra este viernes un espectáculo flamenco gratuito. \nLa cultura del pueblo gitano es desconocida para gran parte de la ciudadanía. Con el objetivo de servir como punto de encuentro y de descubrimiento\, este viernes 24 de noviembre a las 20h. se celebra en la Iglesia Vieja de Pizarrales una fiesta flamenca abierta y gratuita para todo el público. \nOrganizada por la Fundación Plan B Educación Social con la colaboración del Ayuntamiento de Salamanca\, en este evento se podrá disfrutar del espectáculo flamenco de la compañía “Tamara Navarro la Gitana”\, de la escuela de baile Alborea. Los emocionantes bailes y cantes jondos serán interpretados por los artistas Dalila Salazar\, Jesús Jiménez\, Rafael Vázquez\, y la propia Tamaro Navarro. \nAdemás de la exhibición\, tendrá lugar una breve dinámica que busca derribar algunos de los prejuicios que sufre la ciudadanía gitana en nuestro país. Para ello se compartirán diferentes noticias reales que inconscientemente criminalizan a las personas del colectivo. \nEste evento gratuito forma parte del proyecto “Mujer gitana” que desarrolla la Fundación Plan B con la subvención de la Junta de Castilla y León con cargo a la asignación tributaria del IRPF. Su objetivo es favorecer la inclusión y participación social de mujeres y jóvenes de etnia gitana en Salamanca.
URL:https://www.salamancalia.es/evento/fiesta-flamenca/
LOCATION:Plaza de la Iglesia Nueva de Pizarrales\, Salamanca\, Salamanca\, España
CATEGORIES:Baile y danza
END:VEVENT
BEGIN:VEVENT
DTSTART;TZID=UTC:20230513T180000
DTEND;TZID=UTC:20230513T210000
DTSTAMP:20260420T233904
CREATED:20230512T084051Z
LAST-MODIFIED:20230512T084051Z
UID:10004515-1684000800-1684011600@www.salamancalia.es
SUMMARY:Passport to Eurovision
DESCRIPTION:Desde las 18:00 en la Plaza de la Iglesia Nueva de Pizarrales con juegos y competiciones que se canjearán por un delicioso tapeo de comida internacional. \nEl fin de fiesta será a partir de las 21:00\, con el visionado conjunto de Eurovisión de forma interactiva\, en el que cada participante podrá votar por sus artistas favoritos y ganar premios si acierta. \nServirá para acercar Europa y sus instituciones\, y también para dar a conocer las opciones de participación que ofrece a la juventud\, como voluntariado o formación en otros países. \nEste evento forma parte del proyecto “Red Salmantica Global”\, financiado por la Comisión Europea. Dentro de él\, ocho jóvenes provenientes de Francia\, Italia\, Alemania y Grecia han venido a Salamanca para pasar siete meses haciendo voluntariado en diferentes entidades sociales de la ciudad: una estupenda experiencia vital que compartirán el sábado con todas las personas que acudan a la celebración. \nEn la organización del acto colabora el Ayuntamiento de Salamanca y participarán la asociación vecinal “Munibar”\, así como la Biblioteca Popular de Pizarrales. \nEl evento es abierto a toda la ciudadanía que quiera unirse a celebrar Eurovisión\, sin ser necesaria una inscripción previa.
URL:https://www.salamancalia.es/evento/passport-to-eurovision/
LOCATION:Plaza de la Iglesia Nueva de Pizarrales\, Salamanca\, Salamanca\, España
CATEGORIES:Especiales
END:VEVENT
END:VCALENDAR