BEGIN:VCALENDAR
VERSION:2.0
PRODID:-//Agenda cultural y eventos de ocio en Salamanca - ECPv6.15.20//NONSGML v1.0//EN
CALSCALE:GREGORIAN
METHOD:PUBLISH
X-WR-CALNAME:Agenda cultural y eventos de ocio en Salamanca
X-ORIGINAL-URL:https://www.salamancalia.es
X-WR-CALDESC:Eventos para Agenda cultural y eventos de ocio en Salamanca
REFRESH-INTERVAL;VALUE=DURATION:PT1H
X-Robots-Tag:noindex
X-PUBLISHED-TTL:PT1H
BEGIN:VTIMEZONE
TZID:UTC
BEGIN:STANDARD
TZOFFSETFROM:+0000
TZOFFSETTO:+0000
TZNAME:UTC
DTSTART:20200101T000000
END:STANDARD
END:VTIMEZONE
BEGIN:VEVENT
DTSTART;TZID=UTC:20210530T193000
DTEND;TZID=UTC:20210530T193000
DTSTAMP:20260421T060632
CREATED:20210527T143217Z
LAST-MODIFIED:20210527T143217Z
UID:10002926-1622403000-1622403000@www.salamancalia.es
SUMMARY:Púrpura
DESCRIPTION:Concierto en Terradillos. \n«Un viaje al respeto a las mujeres y a la igualdad de género a través de la música.»
URL:https://www.salamancalia.es/evento/purpura/
LOCATION:Plaza de los derechos humanos (Terradillos)
CATEGORIES:Conciertos
END:VEVENT
END:VCALENDAR