BEGIN:VCALENDAR
VERSION:2.0
PRODID:-//Agenda cultural y eventos de ocio en Salamanca - ECPv6.15.20//NONSGML v1.0//EN
CALSCALE:GREGORIAN
METHOD:PUBLISH
X-WR-CALNAME:Agenda cultural y eventos de ocio en Salamanca
X-ORIGINAL-URL:https://www.salamancalia.es
X-WR-CALDESC:Eventos para Agenda cultural y eventos de ocio en Salamanca
REFRESH-INTERVAL;VALUE=DURATION:PT1H
X-Robots-Tag:noindex
X-PUBLISHED-TTL:PT1H
BEGIN:VTIMEZONE
TZID:UTC
BEGIN:STANDARD
TZOFFSETFROM:+0000
TZOFFSETTO:+0000
TZNAME:UTC
DTSTART:20220101T000000
END:STANDARD
END:VTIMEZONE
BEGIN:VEVENT
DTSTART;TZID=UTC:20231201T193000
DTEND;TZID=UTC:20231201T193000
DTSTAMP:20260421T020350
CREATED:20231130T105040Z
LAST-MODIFIED:20231130T105110Z
UID:10004949-1701459000-1701459000@www.salamancalia.es
SUMMARY:Encendido de las luces de Navidad en Ciudad Rodrigo
DESCRIPTION:Con varias actuaciones musicales y otras actividades en la Plaza Mayor de Ciudad Rodrigo. \n  \n\nNavidad en Salamanca 2023
URL:https://www.salamancalia.es/evento/encendido-de-las-luces-de-navidad-en-ciudad-rodrigo/
LOCATION:Plaza Mayor (Ciudad Rodrigo)\, Plaza Mayor\, Ciudad Rodrigo\, Salamanca\, España
CATEGORIES:Especiales
END:VEVENT
BEGIN:VEVENT
DTSTART;TZID=UTC:20230219T230000
DTEND;TZID=UTC:20230219T230000
DTSTAMP:20260421T020350
CREATED:20230131T111620Z
LAST-MODIFIED:20230216T090230Z
UID:10004366-1676847600-1676847600@www.salamancalia.es
SUMMARY:Concurso de recortes del Carnaval del Toro 2023
DESCRIPTION:IX Concurso Goyesco de Recortadores. \nMás información sobre el Carnaval del Toro 2023.
URL:https://www.salamancalia.es/evento/concurso-de-recortes-del-carnaval-del-toro-2023/
LOCATION:Plaza Mayor (Ciudad Rodrigo)\, Plaza Mayor\, Ciudad Rodrigo\, Salamanca\, España
CATEGORIES:Concursos,Especiales
END:VEVENT
END:VCALENDAR