BEGIN:VCALENDAR
VERSION:2.0
PRODID:-//Agenda cultural y eventos de ocio en Salamanca - ECPv6.15.20//NONSGML v1.0//EN
CALSCALE:GREGORIAN
METHOD:PUBLISH
X-WR-CALNAME:Agenda cultural y eventos de ocio en Salamanca
X-ORIGINAL-URL:https://www.salamancalia.es
X-WR-CALDESC:Eventos para Agenda cultural y eventos de ocio en Salamanca
REFRESH-INTERVAL;VALUE=DURATION:PT1H
X-Robots-Tag:noindex
X-PUBLISHED-TTL:PT1H
BEGIN:VTIMEZONE
TZID:UTC
BEGIN:STANDARD
TZOFFSETFROM:+0000
TZOFFSETTO:+0000
TZNAME:UTC
DTSTART:20210101T000000
END:STANDARD
END:VTIMEZONE
BEGIN:VEVENT
DTSTART;TZID=UTC:20220923T200000
DTEND;TZID=UTC:20220923T210000
DTSTAMP:20260421T013612
CREATED:20220919T075055Z
LAST-MODIFIED:20220919T075143Z
UID:10003284-1663963200-1663966800@www.salamancalia.es
SUMMARY:Obra de teatro 'Entre los Hunos y los Hotros' de Enrique Girón
DESCRIPTION:Los espíritus de Manuel Azaña y Miguel de Unamuno se reencuentran tras muchos años y rememoran ciertos hechos del pasado de los que fueron protagonistas de primer orden. A través de sus testimonios\, recordaremos una España que en ciertos aspectos se parece a la de hoy\, con sus aciertos y sus errores. Dos testigos de excepción que\, pese a sus luces y sombras\, demuestran tener una talla excepcional
URL:https://www.salamancalia.es/evento/obra-de-teatro-entre-los-hunos-y-los-hotros-de-enrique-giron/
LOCATION:Teatro de Unicaja Banco
CATEGORIES:Teatro / Escena
ORGANIZER;CN="Banco de Alimentos de Salamanca":MAILTO:administracion@bancodealimentosdesalamanca.org
END:VEVENT
BEGIN:VEVENT
DTSTART;TZID=UTC:20220429T200000
DTEND;TZID=UTC:20220429T200000
DTSTAMP:20260421T013612
CREATED:20220428T150639Z
LAST-MODIFIED:20220428T150639Z
UID:10003843-1651262400-1651262400@www.salamancalia.es
SUMMARY:Gala Día Mundial de la Danza
DESCRIPTION:Ballet de Cámara de Madrid. \nEn colaboración con Unicaja Banco y la Fundación Alicia Alonso \nEl espectáculo consistirá en un repertorio de diez piezas que serán representadas por un total de 48 bailarines y abarcará desde la danza clásica hasta la danza contemporánea\, pasando por el jazz\, el folclore latinoamericano\, danza española y boleros. \nComprar entradas.
URL:https://www.salamancalia.es/evento/gala-dia-mundial-de-la-danza/
LOCATION:Teatro de Unicaja Banco
CATEGORIES:Baile y danza
END:VEVENT
END:VCALENDAR