BEGIN:VCALENDAR
VERSION:2.0
PRODID:-//Agenda cultural y eventos de ocio en Salamanca - ECPv6.15.20//NONSGML v1.0//EN
CALSCALE:GREGORIAN
METHOD:PUBLISH
X-ORIGINAL-URL:https://www.salamancalia.es
X-WR-CALDESC:Eventos para Agenda cultural y eventos de ocio en Salamanca
REFRESH-INTERVAL;VALUE=DURATION:PT1H
X-Robots-Tag:noindex
X-PUBLISHED-TTL:PT1H
BEGIN:VTIMEZONE
TZID:UTC
BEGIN:STANDARD
TZOFFSETFROM:+0000
TZOFFSETTO:+0000
TZNAME:UTC
DTSTART:20220101T000000
END:STANDARD
END:VTIMEZONE
BEGIN:VEVENT
DTSTART;TZID=UTC:20241019T220000
DTEND;TZID=UTC:20241019T220000
DTSTAMP:20260425T212612
CREATED:20241015T090926Z
LAST-MODIFIED:20241015T090926Z
UID:10005822-1729375200-1729375200@www.salamancalia.es
SUMMARY:Jim Brothers & Co
DESCRIPTION:Concierto Especial.
URL:https://www.salamancalia.es/evento/jim-brothers-co-6/
LOCATION:The Liverpool Pub Music\, c/ Gran Via 51\, Salamanca\, Salamanca\, España
CATEGORIES:Conciertos
END:VEVENT
BEGIN:VEVENT
DTSTART;TZID=UTC:20240503T223000
DTEND;TZID=UTC:20240503T223000
DTSTAMP:20260425T212612
CREATED:20240429T110053Z
LAST-MODIFIED:20240429T110113Z
UID:10005290-1714775400-1714775400@www.salamancalia.es
SUMMARY:Basilio Jiménez Band
DESCRIPTION:En concierto.
URL:https://www.salamancalia.es/evento/basilio-jimenez-band/
LOCATION:The Liverpool Pub Music\, c/ Gran Via 51\, Salamanca\, Salamanca\, España
CATEGORIES:Conciertos
END:VEVENT
BEGIN:VEVENT
DTSTART;TZID=UTC:20240308T220000
DTEND;TZID=UTC:20240308T220000
DTSTAMP:20260425T212612
CREATED:20240307T124236Z
LAST-MODIFIED:20240307T124236Z
UID:10005192-1709935200-1709935200@www.salamancalia.es
SUMMARY:Jam Session
DESCRIPTION:
URL:https://www.salamancalia.es/evento/jam-session-2/
LOCATION:The Liverpool Pub Music\, c/ Gran Via 51\, Salamanca\, Salamanca\, España
CATEGORIES:Conciertos
END:VEVENT
BEGIN:VEVENT
DTSTART;TZID=UTC:20240302T223000
DTEND;TZID=UTC:20240302T223000
DTSTAMP:20260425T212612
CREATED:20240229T120205Z
LAST-MODIFIED:20240229T120247Z
UID:10005163-1709418600-1709418600@www.salamancalia.es
SUMMARY:The Bernardas
DESCRIPTION:Concierto.
URL:https://www.salamancalia.es/evento/the-bernardas/
LOCATION:The Liverpool Pub Music\, c/ Gran Via 51\, Salamanca\, Salamanca\, España
CATEGORIES:Conciertos
END:VEVENT
BEGIN:VEVENT
DTSTART;TZID=UTC:20240301T223000
DTEND;TZID=UTC:20240301T223000
DTSTAMP:20260425T212612
CREATED:20240229T120006Z
LAST-MODIFIED:20240229T120321Z
UID:10005162-1709332200-1709332200@www.salamancalia.es
SUMMARY:Suñu yakàar
DESCRIPTION:Salsa\, bachata cumbia\, afrobeat\, reggae…
URL:https://www.salamancalia.es/evento/sunu-yakaar/
LOCATION:The Liverpool Pub Music\, c/ Gran Via 51\, Salamanca\, Salamanca\, España
CATEGORIES:Conciertos
END:VEVENT
BEGIN:VEVENT
DTSTART;TZID=UTC:20240120T223000
DTEND;TZID=UTC:20240120T223000
DTSTAMP:20260425T212612
CREATED:20240117T130055Z
LAST-MODIFIED:20240117T130055Z
UID:10005015-1705789800-1705789800@www.salamancalia.es
SUMMARY:Los hombres de Pepe
DESCRIPTION:Concierto.
URL:https://www.salamancalia.es/evento/los-hombres-de-pepe-2/
LOCATION:The Liverpool Pub Music\, c/ Gran Via 51\, Salamanca\, Salamanca\, España
CATEGORIES:Conciertos
END:VEVENT
BEGIN:VEVENT
DTSTART;TZID=UTC:20231201T223000
DTEND;TZID=UTC:20231201T223000
DTSTAMP:20260425T212612
CREATED:20231127T120025Z
LAST-MODIFIED:20231127T120025Z
UID:10004927-1701469800-1701469800@www.salamancalia.es
SUMMARY:Grupo Serendipia
DESCRIPTION:Live.
URL:https://www.salamancalia.es/evento/grupo-serendipia/
LOCATION:The Liverpool Pub Music\, c/ Gran Via 51\, Salamanca\, Salamanca\, España
CATEGORIES:Conciertos
END:VEVENT
BEGIN:VEVENT
DTSTART;TZID=UTC:20231125T223000
DTEND;TZID=UTC:20231125T223000
DTSTAMP:20260425T212612
CREATED:20231122T103312Z
LAST-MODIFIED:20231122T103312Z
UID:10004903-1700951400-1700951400@www.salamancalia.es
SUMMARY:Boreas Band
DESCRIPTION:Pop-Rock español e inglés.
URL:https://www.salamancalia.es/evento/boreas-band/
LOCATION:The Liverpool Pub Music\, c/ Gran Via 51\, Salamanca\, Salamanca\, España
CATEGORIES:Conciertos
END:VEVENT
BEGIN:VEVENT
DTSTART;TZID=UTC:20231117T220000
DTEND;TZID=UTC:20231117T220000
DTSTAMP:20260425T212612
CREATED:20231114T110010Z
LAST-MODIFIED:20231114T110010Z
UID:10004879-1700258400-1700258400@www.salamancalia.es
SUMMARY:Jam Session
DESCRIPTION:Jam Session en The Liverpool Pub.
URL:https://www.salamancalia.es/evento/jam-session/
LOCATION:The Liverpool Pub Music\, c/ Gran Via 51\, Salamanca\, Salamanca\, España
CATEGORIES:Conciertos
END:VEVENT
BEGIN:VEVENT
DTSTART;TZID=UTC:20231111T223000
DTEND;TZID=UTC:20231111T223000
DTSTAMP:20260425T212612
CREATED:20231107T162503Z
LAST-MODIFIED:20231107T162503Z
UID:10004876-1699741800-1699741800@www.salamancalia.es
SUMMARY:Concierto de "La duda ofende"
DESCRIPTION:Concierto de «La duda ofende» en The Liverpool Pub
URL:https://www.salamancalia.es/evento/concierto-de-la-duda-ofende/
LOCATION:The Liverpool Pub Music\, c/ Gran Via 51\, Salamanca\, Salamanca\, España
CATEGORIES:Conciertos
END:VEVENT
BEGIN:VEVENT
DTSTART;TZID=UTC:20231104T220000
DTEND;TZID=UTC:20231104T220000
DTSTAMP:20260425T212612
CREATED:20231102T153729Z
LAST-MODIFIED:20231102T153729Z
UID:10004858-1699135200-1699135200@www.salamancalia.es
SUMMARY:Te & Jim
DESCRIPTION:Teresa Blanco y Juan Carlos Jiménez.
URL:https://www.salamancalia.es/evento/te-jim/
LOCATION:The Liverpool Pub Music\, c/ Gran Via 51\, Salamanca\, Salamanca\, España
CATEGORIES:Conciertos
END:VEVENT
BEGIN:VEVENT
DTSTART;TZID=UTC:20231020T223000
DTEND;TZID=UTC:20231020T223000
DTSTAMP:20260425T212612
CREATED:20231019T093809Z
LAST-MODIFIED:20231019T093809Z
UID:10004823-1697841000-1697841000@www.salamancalia.es
SUMMARY:Diego y Marina: Versiones de los 80
DESCRIPTION:Diego y Marina: Versiones de los 80 y después continúa la fiesta con DJ.
URL:https://www.salamancalia.es/evento/diego-y-marina-versiones-de-los-80/
LOCATION:The Liverpool Pub Music\, c/ Gran Via 51\, Salamanca\, Salamanca\, España
CATEGORIES:Conciertos
END:VEVENT
END:VCALENDAR