BEGIN:VCALENDAR
VERSION:2.0
PRODID:-//Agenda cultural y eventos de ocio en Salamanca - ECPv6.15.20//NONSGML v1.0//EN
CALSCALE:GREGORIAN
METHOD:PUBLISH
X-WR-CALNAME:Agenda cultural y eventos de ocio en Salamanca
X-ORIGINAL-URL:https://www.salamancalia.es
X-WR-CALDESC:Eventos para Agenda cultural y eventos de ocio en Salamanca
REFRESH-INTERVAL;VALUE=DURATION:PT1H
X-Robots-Tag:noindex
X-PUBLISHED-TTL:PT1H
BEGIN:VTIMEZONE
TZID:UTC
BEGIN:STANDARD
TZOFFSETFROM:+0000
TZOFFSETTO:+0000
TZNAME:UTC
DTSTART:20220101T000000
END:STANDARD
END:VTIMEZONE
BEGIN:VEVENT
DTSTART;VALUE=DATE:20250412
DTEND;VALUE=DATE:20250421
DTSTAMP:20260420T190044
CREATED:20250407T105524Z
LAST-MODIFIED:20250407T105524Z
UID:10006261-1744416000-1745193599@www.salamancalia.es
SUMMARY:Semana Santa 2025 en Villoria
DESCRIPTION:Más información. \n  \n  \n\nSemana Santa en Salamanca 2025 (horarios y recorridos de las procesiones)\n\n 
URL:https://www.salamancalia.es/evento/semana-santa-2025-en-villoria/
LOCATION:Villoria\, Villoria\, Salamanca\, España
CATEGORIES:Especiales
ATTACH;FMTTYPE=image/jpeg:https://www.salamancalia.es/wp-content/uploads/2025/04/Semana-Santa-en-Villoria-2025.jpg
END:VEVENT
BEGIN:VEVENT
DTSTART;VALUE=DATE:20250301
DTEND;VALUE=DATE:20250305
DTSTAMP:20260420T190044
CREATED:20250227T105235Z
LAST-MODIFIED:20250227T105235Z
UID:10006138-1740787200-1741132799@www.salamancalia.es
SUMMARY:Carnaval 2025 en Villoria
DESCRIPTION:Pasacalles\, chocolatada\, disfraces…. \n  \n\nCarnaval en Salamanca 2025
URL:https://www.salamancalia.es/evento/carnaval-2025-en-villoria/
LOCATION:Villoria\, Villoria\, Salamanca\, España
CATEGORIES:Especiales
ATTACH;FMTTYPE=image/jpeg:https://www.salamancalia.es/wp-content/uploads/2025/02/Carnaval-2025-en-Villoria.jpg
END:VEVENT
BEGIN:VEVENT
DTSTART;VALUE=DATE:20240905
DTEND;VALUE=DATE:20240910
DTSTAMP:20260420T190044
CREATED:20240904T055905Z
LAST-MODIFIED:20240904T060046Z
UID:10005741-1725494400-1725926399@www.salamancalia.es
SUMMARY:Fiestas 2024 en Villoria
DESCRIPTION:En honor a la Virgen de la Vega. \n  \nTambién pueden interesarte las ferias y fiestas de Salamanca 2024.
URL:https://www.salamancalia.es/evento/fiestas-2024-en-villoria/
LOCATION:Villoria\, Villoria\, Salamanca\, España
CATEGORIES:Ferias y fiestas | Festivales
END:VEVENT
BEGIN:VEVENT
DTSTART;VALUE=DATE:20240210
DTEND;VALUE=DATE:20240214
DTSTAMP:20260420T190044
CREATED:20240201T181444Z
LAST-MODIFIED:20240201T181444Z
UID:10005091-1707523200-1707868799@www.salamancalia.es
SUMMARY:Carnaval 2024 en Villoria
DESCRIPTION:Programa de actividades en Villoria. \nCarnaval en Salamanca 2024.
URL:https://www.salamancalia.es/evento/carnaval-2024-villoria/
LOCATION:Villoria\, Villoria\, Salamanca\, España
CATEGORIES:Ocio Infantil
END:VEVENT
BEGIN:VEVENT
DTSTART;VALUE=DATE:20230907
DTEND;VALUE=DATE:20230911
DTSTAMP:20260420T190044
CREATED:20230822T114141Z
LAST-MODIFIED:20230906T110607Z
UID:10004711-1694044800-1694390399@www.salamancalia.es
SUMMARY:Fiestas de Villoria 2023
DESCRIPTION:Programa de las Fiestas patronales de la Virgen de la Vega en Villoria\n\nComidas populares\nFestejos taurinos\nVerbenas y discotecas\nActos religiosos y culturales\n\nAvance del programa\n\n3 orquestas y 1 macrodiscoteca\n2 encierros diurnos\nconcurso de recortes\nfestival taurino\n\nDomingo 27 de agosto\n\n20:30 – Subida a la puesta de la Mariseca con tamborileros\, perrunillas y limonada\n\nDomingo 3 de septiembre\n\nDe 11:00 a 15:00 – I Mercado Villa Aurea: más de 20 puestos\, exposición de aves rapaces…\n17:00 – Gran premio de pelota Virgen de la Vega\n\nMiércoles 6 de septiembre\n\nTradicional recorrido de peñas\n\nJueves 7 de septiembre\n\n20:00 – Concurso de Recortes en la plaza de toros de Villoria\nOrquesta Seven\nDiscoteca móvil de la localidad: Full Equip\n\nViernes 8 de septiembre\n\n18:00 – Festival mixto sin picadores en la plaza de toros de Villoria\nOrquesta Cañón\nEncierro urbano matutino\n\nSábado 9 de septiembre\n\n18:00 – Grand Prix en la Plaza de Toros\nMacrodiscoteca Alefran\nEncierro urbano matutino\n\nDomingo 10 de septiembre\n\nOrquesta Syra\n\nSigue la programación completa en el perfil de facebook del ayuntamiento de Villoria. \n  \nTambién puede interesarte la programación completa de las Ferias y Fiestas de Salamanca 2023.
URL:https://www.salamancalia.es/evento/fiestas-de-villoria-2023/
LOCATION:Villoria\, Villoria\, Salamanca\, España
CATEGORIES:Ferias y fiestas | Festivales,Toros
END:VEVENT
END:VCALENDAR